BEGIN:VCALENDAR
VERSION:2.0
PRODID:-//spbstu.ru//ical//RU
NAME:Расписание группы 4731904/40001
X-WR-CALNAME:Расписание группы 4731904/40001
TIMEZONE-ID:Europe/Moscow
X-WR-TIMEZONE:Europe/Moscow
BEGIN:VEVENT
UID:1qyz@192.168.245.71:3006
SEQUENCE:0
DTSTAMP:20260423T093818Z
DTSTART:20251124T070000Z
DTEND:20251124T084000Z
SUMMARY:Органическая химия
LOCATION:48 уч.к 405
END:VEVENT
BEGIN:VEVENT
UID:ujan@192.168.245.71:3006
SEQUENCE:0
DTSTAMP:20260423T093818Z
DTSTART:20251124T090000Z
DTEND:20251124T104000Z
SUMMARY:Физиология питания
LOCATION:48 уч.к 504
END:VEVENT
BEGIN:VEVENT
UID:jwa8@192.168.245.71:3006
SEQUENCE:0
DTSTAMP:20260423T093818Z
DTSTART:20251124T110000Z
DTEND:20251124T124000Z
SUMMARY:Органическая химия
LOCATION:48 уч.к 316
END:VEVENT
BEGIN:VEVENT
UID:8ifj@192.168.245.71:3006
SEQUENCE:0
DTSTAMP:20260423T093818Z
DTSTART:20251124T110000Z
DTEND:20251124T124000Z
SUMMARY:Общая биология и морфология
LOCATION:48 уч.к 313
END:VEVENT
BEGIN:VEVENT
UID:j2hr@192.168.245.71:3006
SEQUENCE:0
DTSTAMP:20260423T093818Z
DTSTART:20251124T130000Z
DTEND:20251124T144000Z
SUMMARY:Общая биология и морфология
LOCATION:48 уч.к 313
END:VEVENT
BEGIN:VEVENT
UID:5nns@192.168.245.71:3006
SEQUENCE:0
DTSTAMP:20260423T093818Z
DTSTART:20251124T130000Z
DTEND:20251124T144000Z
SUMMARY:Органическая химия
LOCATION:48 уч.к 316
END:VEVENT
BEGIN:VEVENT
UID:h4js@192.168.245.71:3006
SEQUENCE:0
DTSTAMP:20260423T093818Z
DTSTART:20251125T070000Z
DTEND:20251125T084000Z
SUMMARY:Физиология питания
LOCATION:48 уч.к 303
END:VEVENT
BEGIN:VEVENT
UID:xnuk@192.168.245.71:3006
SEQUENCE:0
DTSTAMP:20260423T093818Z
DTSTART:20251125T090000Z
DTEND:20251125T104000Z
SUMMARY:Элективная  физическая культура и спорт
LOCATION:СК Спортивный зал
END:VEVENT
BEGIN:VEVENT
UID:ghzc@192.168.245.71:3006
SEQUENCE:0
DTSTAMP:20260423T093818Z
DTSTART:20251125T110000Z
DTEND:20251125T124000Z
SUMMARY:Иностранный язык: Базовый курс
LOCATION:48 уч.к 416
END:VEVENT
BEGIN:VEVENT
UID:0i2z@192.168.245.71:3006
SEQUENCE:0
DTSTAMP:20260423T093818Z
DTSTART:20251125T130000Z
DTEND:20251125T144000Z
SUMMARY:Цифровая аналитика
LOCATION:48 уч.к 318
END:VEVENT
BEGIN:VEVENT
UID:z0qy@192.168.245.71:3006
SEQUENCE:0
DTSTAMP:20260423T093818Z
DTSTART:20251126T070000Z
DTEND:20251126T084000Z
SUMMARY:Товароведение продовольственных товаров
LOCATION:48 уч.к 405
END:VEVENT
BEGIN:VEVENT
UID:uzsd@192.168.245.71:3006
SEQUENCE:0
DTSTAMP:20260423T093818Z
DTSTART:20251126T090000Z
DTEND:20251126T104000Z
SUMMARY:Высшая математика
LOCATION:48 уч.к 405
END:VEVENT
BEGIN:VEVENT
UID:ckwy@192.168.245.71:3006
SEQUENCE:0
DTSTAMP:20260423T093818Z
DTSTART:20251126T130000Z
DTEND:20251126T144000Z
SUMMARY:Навыки личной эффективности (SoftSkills)
LOCATION:DL Дистанционно
END:VEVENT
BEGIN:VEVENT
UID:v3ns@192.168.245.71:3006
SEQUENCE:0
DTSTAMP:20260423T093818Z
DTSTART:20251127T070000Z
DTEND:20251127T084000Z
SUMMARY:Микробиология
LOCATION:48 уч.к 302
END:VEVENT
BEGIN:VEVENT
UID:jo0t@192.168.245.71:3006
SEQUENCE:0
DTSTAMP:20260423T093818Z
DTSTART:20251128T070000Z
DTEND:20251128T084000Z
SUMMARY:Высшая математика
LOCATION:48 уч.к 403
END:VEVENT
BEGIN:VEVENT
UID:yys4@192.168.245.71:3006
SEQUENCE:0
DTSTAMP:20260423T093818Z
DTSTART:20251128T090000Z
DTEND:20251128T104000Z
SUMMARY:Элективная  физическая культура и спорт
LOCATION:СК Спортивный зал
END:VEVENT
BEGIN:VEVENT
UID:4kli@192.168.245.71:3006
SEQUENCE:0
DTSTAMP:20260423T093818Z
DTSTART:20251128T110000Z
DTEND:20251128T124000Z
SUMMARY:Товароведение продовольственных товаров
LOCATION:50 уч.к 1120
END:VEVENT
BEGIN:VEVENT
UID:x6kz@192.168.245.71:3006
SEQUENCE:0
DTSTAMP:20260423T093818Z
DTSTART:20251128T130000Z
DTEND:20251128T144000Z
SUMMARY:Товароведение продовольственных товаров
LOCATION:50 уч.к 1120
END:VEVENT
BEGIN:VEVENT
UID:y4ft@192.168.245.71:3006
SEQUENCE:0
DTSTAMP:20260423T093818Z
DTSTART:20251129T060000Z
DTEND:20251129T084000Z
SUMMARY:Иностранный язык: Русский язык как иностранный
LOCATION:ГЗ 229
END:VEVENT
END:VCALENDAR