BEGIN:VCALENDAR
VERSION:2.0
PRODID:-//spbstu.ru//ical//RU
NAME:Расписание группы 4731904/40001
X-WR-CALNAME:Расписание группы 4731904/40001
TIMEZONE-ID:Europe/Moscow
X-WR-TIMEZONE:Europe/Moscow
BEGIN:VEVENT
UID:bqqn@192.168.245.71:3006
SEQUENCE:0
DTSTAMP:20260423T145433Z
DTSTART:20251201T090000Z
DTEND:20251201T104000Z
SUMMARY:Общая биология и морфология
LOCATION:48 уч.к 405
END:VEVENT
BEGIN:VEVENT
UID:mlqc@192.168.245.71:3006
SEQUENCE:0
DTSTAMP:20260423T145433Z
DTSTART:20251201T110000Z
DTEND:20251201T124000Z
SUMMARY:Общая биология и морфология
LOCATION:48 уч.к 313
END:VEVENT
BEGIN:VEVENT
UID:4uqn@192.168.245.71:3006
SEQUENCE:0
DTSTAMP:20260423T145433Z
DTSTART:20251201T110000Z
DTEND:20251201T124000Z
SUMMARY:Органическая химия
LOCATION:48 уч.к 316
END:VEVENT
BEGIN:VEVENT
UID:v1z8@192.168.245.71:3006
SEQUENCE:0
DTSTAMP:20260423T145433Z
DTSTART:20251201T130000Z
DTEND:20251201T144000Z
SUMMARY:Органическая химия
LOCATION:48 уч.к 316
END:VEVENT
BEGIN:VEVENT
UID:sb8d@192.168.245.71:3006
SEQUENCE:0
DTSTAMP:20260423T145433Z
DTSTART:20251201T130000Z
DTEND:20251201T144000Z
SUMMARY:Общая биология и морфология
LOCATION:48 уч.к 313
END:VEVENT
BEGIN:VEVENT
UID:tl5o@192.168.245.71:3006
SEQUENCE:0
DTSTAMP:20260423T145433Z
DTSTART:20251202T070000Z
DTEND:20251202T084000Z
SUMMARY:Физиология питания
LOCATION:48 уч.к 303
END:VEVENT
BEGIN:VEVENT
UID:89lk@192.168.245.71:3006
SEQUENCE:0
DTSTAMP:20260423T145433Z
DTSTART:20251202T090000Z
DTEND:20251202T104000Z
SUMMARY:Элективная  физическая культура и спорт
LOCATION:СК Спортивный зал
END:VEVENT
BEGIN:VEVENT
UID:yxrp@192.168.245.71:3006
SEQUENCE:0
DTSTAMP:20260423T145433Z
DTSTART:20251202T110000Z
DTEND:20251202T124000Z
SUMMARY:Иностранный язык: Базовый курс
LOCATION:48 уч.к 416
END:VEVENT
BEGIN:VEVENT
UID:th0z@192.168.245.71:3006
SEQUENCE:0
DTSTAMP:20260423T145433Z
DTSTART:20251203T070000Z
DTEND:20251203T084000Z
SUMMARY:Товароведение продовольственных товаров
LOCATION:48 уч.к 405
END:VEVENT
BEGIN:VEVENT
UID:08r6@192.168.245.71:3006
SEQUENCE:0
DTSTAMP:20260423T145433Z
DTSTART:20251203T130000Z
DTEND:20251203T144000Z
SUMMARY:Навыки личной эффективности (SoftSkills)
LOCATION:DL Дистанционно
END:VEVENT
BEGIN:VEVENT
UID:gv2v@192.168.245.71:3006
SEQUENCE:0
DTSTAMP:20260423T145433Z
DTSTART:20251204T070000Z
DTEND:20251204T084000Z
SUMMARY:Экология и утилизация отходов на предприятиях питания
LOCATION:48 уч.к 414
END:VEVENT
BEGIN:VEVENT
UID:c44i@192.168.245.71:3006
SEQUENCE:0
DTSTAMP:20260423T145433Z
DTSTART:20251204T090000Z
DTEND:20251204T104000Z
SUMMARY:Экология и утилизация отходов на предприятиях питания
LOCATION:48 уч.к 414
END:VEVENT
BEGIN:VEVENT
UID:16t9@192.168.245.71:3006
SEQUENCE:0
DTSTAMP:20260423T145433Z
DTSTART:20251204T110000Z
DTEND:20251204T124000Z
SUMMARY:Общая биология и морфология
LOCATION:48 уч.к 313
END:VEVENT
BEGIN:VEVENT
UID:gvde@192.168.245.71:3006
SEQUENCE:0
DTSTAMP:20260423T145433Z
DTSTART:20251204T130000Z
DTEND:20251204T144000Z
SUMMARY:Общая биология и морфология
LOCATION:48 уч.к 313
END:VEVENT
BEGIN:VEVENT
UID:ixxu@192.168.245.71:3006
SEQUENCE:0
DTSTAMP:20260423T145433Z
DTSTART:20251205T070000Z
DTEND:20251205T084000Z
SUMMARY:Высшая математика
LOCATION:48 уч.к 403
END:VEVENT
BEGIN:VEVENT
UID:3bqw@192.168.245.71:3006
SEQUENCE:0
DTSTAMP:20260423T145433Z
DTSTART:20251205T090000Z
DTEND:20251205T104000Z
SUMMARY:Элективная  физическая культура и спорт
LOCATION:СК Спортивный зал
END:VEVENT
BEGIN:VEVENT
UID:fazp@192.168.245.71:3006
SEQUENCE:0
DTSTAMP:20260423T145433Z
DTSTART:20251205T110000Z
DTEND:20251205T124000Z
SUMMARY:Органическая химия
LOCATION:48 уч.к 301
END:VEVENT
BEGIN:VEVENT
UID:m696@192.168.245.71:3006
SEQUENCE:0
DTSTAMP:20260423T145433Z
DTSTART:20251206T060000Z
DTEND:20251206T084000Z
SUMMARY:Иностранный язык: Русский язык как иностранный
LOCATION:ГЗ 229
END:VEVENT
END:VCALENDAR