BEGIN:VCALENDAR
VERSION:2.0
PRODID:-//spbstu.ru//ical//RU
NAME:Расписание группы 4731904/40001
X-WR-CALNAME:Расписание группы 4731904/40001
TIMEZONE-ID:Europe/Moscow
X-WR-TIMEZONE:Europe/Moscow
BEGIN:VEVENT
UID:gx4h@192.168.245.71:3006
SEQUENCE:0
DTSTAMP:20260422T085827Z
DTSTART:20260216T070000Z
DTEND:20260216T084000Z
SUMMARY:Санитария и гигиена предприятий индустрии питания
LOCATION:48 уч.к 301
END:VEVENT
BEGIN:VEVENT
UID:eo73@192.168.245.71:3006
SEQUENCE:0
DTSTAMP:20260422T085827Z
DTSTART:20260216T090000Z
DTEND:20260216T104000Z
SUMMARY:Санитария и гигиена предприятий индустрии питания
LOCATION:48 уч.к 301
END:VEVENT
BEGIN:VEVENT
UID:8jks@192.168.245.71:3006
SEQUENCE:0
DTSTAMP:20260422T085827Z
DTSTART:20260216T110000Z
DTEND:20260216T124000Z
SUMMARY:Электротехника
LOCATION:3 к. 215
END:VEVENT
BEGIN:VEVENT
UID:nsob@192.168.245.71:3006
SEQUENCE:0
DTSTAMP:20260422T085827Z
DTSTART:20260216T130000Z
DTEND:20260216T135000Z
SUMMARY:Электротехника
LOCATION:3 к. 215
END:VEVENT
BEGIN:VEVENT
UID:pr8e@192.168.245.71:3006
SEQUENCE:0
DTSTAMP:20260422T085827Z
DTSTART:20260217T070000Z
DTEND:20260217T084000Z
SUMMARY:Биостатистика
LOCATION:48 уч.к 405
END:VEVENT
BEGIN:VEVENT
UID:odiu@192.168.245.71:3006
SEQUENCE:0
DTSTAMP:20260422T085827Z
DTSTART:20260217T090000Z
DTEND:20260217T104000Z
SUMMARY:Элективная  физическая культура и спорт
LOCATION:СК Секции
END:VEVENT
BEGIN:VEVENT
UID:q8xs@192.168.245.71:3006
SEQUENCE:0
DTSTAMP:20260422T085827Z
DTSTART:20260217T110000Z
DTEND:20260217T124000Z
SUMMARY:Пищевая инженерия
LOCATION:48 уч.к 504
END:VEVENT
BEGIN:VEVENT
UID:88ow@192.168.245.71:3006
SEQUENCE:0
DTSTAMP:20260422T085827Z
DTSTART:20260217T130000Z
DTEND:20260217T144000Z
SUMMARY:Пищевая инженерия
LOCATION:48 уч.к 504
END:VEVENT
BEGIN:VEVENT
UID:eb8r@192.168.245.71:3006
SEQUENCE:0
DTSTAMP:20260422T085827Z
DTSTART:20260218T063000Z
DTEND:20260218T065500Z
SUMMARY:Цифровая аналитика
LOCATION:48 уч.к 318
END:VEVENT
BEGIN:VEVENT
UID:jggr@192.168.245.71:3006
SEQUENCE:0
DTSTAMP:20260422T085827Z
DTSTART:20260218T070000Z
DTEND:20260218T084000Z
SUMMARY:Биостатистика
LOCATION:48 уч.к 318
END:VEVENT
BEGIN:VEVENT
UID:bwd1@192.168.245.71:3006
SEQUENCE:0
DTSTAMP:20260422T085827Z
DTSTART:20260218T090000Z
DTEND:20260218T104000Z
SUMMARY:Иностранный язык. Профессионально-ориентированный курс
LOCATION:48 уч.к 416
END:VEVENT
BEGIN:VEVENT
UID:r5ei@192.168.245.71:3006
SEQUENCE:0
DTSTAMP:20260422T085827Z
DTSTART:20260219T090000Z
DTEND:20260219T104000Z
SUMMARY:Электротехника
LOCATION:ГЗ ЭиЭ
END:VEVENT
BEGIN:VEVENT
UID:yljq@192.168.245.71:3006
SEQUENCE:0
DTSTAMP:20260422T085827Z
DTSTART:20260219T090000Z
DTEND:20260219T104000Z
SUMMARY:Электротехника
LOCATION:ГЗ ЭиЭ
END:VEVENT
BEGIN:VEVENT
UID:ngqi@192.168.245.71:3006
SEQUENCE:0
DTSTAMP:20260422T085827Z
DTSTART:20260220T070000Z
DTEND:20260220T084000Z
SUMMARY:Биохимия
LOCATION:48 уч.к 405
END:VEVENT
BEGIN:VEVENT
UID:i9wo@192.168.245.71:3006
SEQUENCE:0
DTSTAMP:20260422T085827Z
DTSTART:20260220T090000Z
DTEND:20260220T104000Z
SUMMARY:Элективная  физическая культура и спорт
LOCATION:СК Секции
END:VEVENT
BEGIN:VEVENT
UID:deqj@192.168.245.71:3006
SEQUENCE:0
DTSTAMP:20260422T085827Z
DTSTART:20260220T110000Z
DTEND:20260220T124000Z
SUMMARY:Биохимия
LOCATION:48 уч.к 313
END:VEVENT
BEGIN:VEVENT
UID:idqu@192.168.245.71:3006
SEQUENCE:0
DTSTAMP:20260422T085827Z
DTSTART:20260220T130000Z
DTEND:20260220T144000Z
SUMMARY:Биохимия
LOCATION:48 уч.к 313
END:VEVENT
BEGIN:VEVENT
UID:dwte@192.168.245.71:3006
SEQUENCE:0
DTSTAMP:20260422T085827Z
DTSTART:20260221T070000Z
DTEND:20260221T084000Z
SUMMARY:Безопасность жизнедеятельности
LOCATION:ГК 106
END:VEVENT
BEGIN:VEVENT
UID:ctxl@192.168.245.71:3006
SEQUENCE:0
DTSTAMP:20260422T085827Z
DTSTART:20260221T103000Z
DTEND:20260221T105500Z
SUMMARY:Микробиология
LOCATION:48 уч.к 307
END:VEVENT
END:VCALENDAR