BEGIN:VCALENDAR
VERSION:2.0
PRODID:-//spbstu.ru//ical//RU
NAME:Расписание группы 4731904/40001
X-WR-CALNAME:Расписание группы 4731904/40001
TIMEZONE-ID:Europe/Moscow
X-WR-TIMEZONE:Europe/Moscow
BEGIN:VEVENT
UID:x7jo@192.168.245.71:3006
SEQUENCE:0
DTSTAMP:20260422T102608Z
DTSTART:20260209T110000Z
DTEND:20260209T124000Z
SUMMARY:Электротехника
LOCATION:3 к. 215
END:VEVENT
BEGIN:VEVENT
UID:unbr@192.168.245.71:3006
SEQUENCE:0
DTSTAMP:20260422T102608Z
DTSTART:20260209T130000Z
DTEND:20260209T135000Z
SUMMARY:Электротехника
LOCATION:3 к. 215
END:VEVENT
BEGIN:VEVENT
UID:ebab@192.168.245.71:3006
SEQUENCE:0
DTSTAMP:20260422T102608Z
DTSTART:20260210T070000Z
DTEND:20260210T084000Z
SUMMARY:Безопасность жизнедеятельности
LOCATION:48 уч.к 405
END:VEVENT
BEGIN:VEVENT
UID:9s3i@192.168.245.71:3006
SEQUENCE:0
DTSTAMP:20260422T102608Z
DTSTART:20260210T090000Z
DTEND:20260210T104000Z
SUMMARY:Элективная  физическая культура и спорт
LOCATION:СК Секции
END:VEVENT
BEGIN:VEVENT
UID:agsa@192.168.245.71:3006
SEQUENCE:0
DTSTAMP:20260422T102608Z
DTSTART:20260210T110000Z
DTEND:20260210T124000Z
SUMMARY:Пищевая инженерия
LOCATION:48 уч.к 504
END:VEVENT
BEGIN:VEVENT
UID:i8kh@192.168.245.71:3006
SEQUENCE:0
DTSTAMP:20260422T102608Z
DTSTART:20260210T130000Z
DTEND:20260210T144000Z
SUMMARY:Иностранный язык. Профессионально-ориентированный курс
LOCATION:48 уч.к 416
END:VEVENT
BEGIN:VEVENT
UID:b833@192.168.245.71:3006
SEQUENCE:0
DTSTAMP:20260422T102608Z
DTSTART:20260211T090000Z
DTEND:20260211T104000Z
SUMMARY:Иностранный язык. Профессионально-ориентированный курс
LOCATION:48 уч.к 416
END:VEVENT
BEGIN:VEVENT
UID:ckce@192.168.245.71:3006
SEQUENCE:0
DTSTAMP:20260422T102608Z
DTSTART:20260212T090000Z
DTEND:20260212T104000Z
SUMMARY:Электротехника
LOCATION:ГЗ ЭиЭ
END:VEVENT
BEGIN:VEVENT
UID:wj92@192.168.245.71:3006
SEQUENCE:0
DTSTAMP:20260422T102608Z
DTSTART:20260212T090000Z
DTEND:20260212T104000Z
SUMMARY:Электротехника
LOCATION:ГЗ ЭиЭ
END:VEVENT
BEGIN:VEVENT
UID:zwxl@192.168.245.71:3006
SEQUENCE:0
DTSTAMP:20260422T102608Z
DTSTART:20260213T070000Z
DTEND:20260213T084000Z
SUMMARY:Биохимия
LOCATION:48 уч.к 405
END:VEVENT
BEGIN:VEVENT
UID:r72t@192.168.245.71:3006
SEQUENCE:0
DTSTAMP:20260422T102608Z
DTSTART:20260213T090000Z
DTEND:20260213T104000Z
SUMMARY:Элективная  физическая культура и спорт
LOCATION:СК Секции
END:VEVENT
BEGIN:VEVENT
UID:kghe@192.168.245.71:3006
SEQUENCE:0
DTSTAMP:20260422T102608Z
DTSTART:20260213T110000Z
DTEND:20260213T124000Z
SUMMARY:Биохимия
LOCATION:48 уч.к 313
END:VEVENT
BEGIN:VEVENT
UID:62g1@192.168.245.71:3006
SEQUENCE:0
DTSTAMP:20260422T102608Z
DTSTART:20260213T130000Z
DTEND:20260213T144000Z
SUMMARY:Биохимия
LOCATION:48 уч.к 313
END:VEVENT
END:VCALENDAR