BEGIN:VCALENDAR
VERSION:2.0
PRODID:-//spbstu.ru//ical//RU
NAME:Расписание группы 4731904/40001
X-WR-CALNAME:Расписание группы 4731904/40001
TIMEZONE-ID:Europe/Moscow
X-WR-TIMEZONE:Europe/Moscow
BEGIN:VEVENT
UID:v2qp@192.168.245.71:3006
SEQUENCE:0
DTSTAMP:20260421T135226Z
DTSTART:20260330T070000Z
DTEND:20260330T084000Z
SUMMARY:Санитария и гигиена предприятий индустрии питания
LOCATION:48 уч.к 301
END:VEVENT
BEGIN:VEVENT
UID:mfrx@192.168.245.71:3006
SEQUENCE:0
DTSTAMP:20260421T135226Z
DTSTART:20260330T090000Z
DTEND:20260330T104000Z
SUMMARY:Санитария и гигиена предприятий индустрии питания
LOCATION:48 уч.к 301
END:VEVENT
BEGIN:VEVENT
UID:cwqc@192.168.245.71:3006
SEQUENCE:0
DTSTAMP:20260421T135226Z
DTSTART:20260330T110000Z
DTEND:20260330T124000Z
SUMMARY:Электротехника
LOCATION:3 к. 215
END:VEVENT
BEGIN:VEVENT
UID:j8hl@192.168.245.71:3006
SEQUENCE:0
DTSTAMP:20260421T135226Z
DTSTART:20260330T130000Z
DTEND:20260330T135000Z
SUMMARY:Электротехника
LOCATION:3 к. 215
END:VEVENT
BEGIN:VEVENT
UID:oake@192.168.245.71:3006
SEQUENCE:0
DTSTAMP:20260421T135226Z
DTSTART:20260331T070000Z
DTEND:20260331T084000Z
SUMMARY:Биостатистика
LOCATION:48 уч.к 405
END:VEVENT
BEGIN:VEVENT
UID:4thc@192.168.245.71:3006
SEQUENCE:0
DTSTAMP:20260421T135226Z
DTSTART:20260331T090000Z
DTEND:20260331T104000Z
SUMMARY:Элективная  физическая культура и спорт
LOCATION:СК Секции
END:VEVENT
BEGIN:VEVENT
UID:146i@192.168.245.71:3006
SEQUENCE:0
DTSTAMP:20260421T135226Z
DTSTART:20260331T110000Z
DTEND:20260331T124000Z
SUMMARY:Пищевая инженерия
LOCATION:48 уч.к 504
END:VEVENT
BEGIN:VEVENT
UID:btu9@192.168.245.71:3006
SEQUENCE:0
DTSTAMP:20260421T135226Z
DTSTART:20260331T130000Z
DTEND:20260331T144000Z
SUMMARY:Пищевая инженерия
LOCATION:48 уч.к 504
END:VEVENT
BEGIN:VEVENT
UID:x7ro@192.168.245.71:3006
SEQUENCE:0
DTSTAMP:20260421T135226Z
DTSTART:20260401T070000Z
DTEND:20260401T084000Z
SUMMARY:Биостатистика
LOCATION:48 уч.к 318
END:VEVENT
BEGIN:VEVENT
UID:qem9@192.168.245.71:3006
SEQUENCE:0
DTSTAMP:20260421T135226Z
DTSTART:20260401T090000Z
DTEND:20260401T104000Z
SUMMARY:Иностранный язык. Профессионально-ориентированный курс
LOCATION:48 уч.к 416
END:VEVENT
BEGIN:VEVENT
UID:biih@192.168.245.71:3006
SEQUENCE:0
DTSTAMP:20260421T135226Z
DTSTART:20260401T110000Z
DTEND:20260401T124000Z
SUMMARY:Биохимия
LOCATION:48 уч.к 309
END:VEVENT
BEGIN:VEVENT
UID:mq5f@192.168.245.71:3006
SEQUENCE:0
DTSTAMP:20260421T135226Z
DTSTART:20260402T090000Z
DTEND:20260402T104000Z
SUMMARY:Электротехника
LOCATION:ГЗ ЭиЭ
END:VEVENT
BEGIN:VEVENT
UID:l84l@192.168.245.71:3006
SEQUENCE:0
DTSTAMP:20260421T135226Z
DTSTART:20260402T090000Z
DTEND:20260402T104000Z
SUMMARY:Электротехника
LOCATION:ГЗ ЭиЭ
END:VEVENT
BEGIN:VEVENT
UID:xgux@192.168.245.71:3006
SEQUENCE:0
DTSTAMP:20260421T135226Z
DTSTART:20260403T070000Z
DTEND:20260403T084000Z
SUMMARY:Биохимия
LOCATION:48 уч.к 405
END:VEVENT
BEGIN:VEVENT
UID:2ckt@192.168.245.71:3006
SEQUENCE:0
DTSTAMP:20260421T135226Z
DTSTART:20260403T090000Z
DTEND:20260403T104000Z
SUMMARY:Элективная  физическая культура и спорт
LOCATION:СК Секции
END:VEVENT
BEGIN:VEVENT
UID:icz0@192.168.245.71:3006
SEQUENCE:0
DTSTAMP:20260421T135226Z
DTSTART:20260404T070000Z
DTEND:20260404T084000Z
SUMMARY:Безопасность жизнедеятельности
LOCATION:ГК 106
END:VEVENT
BEGIN:VEVENT
UID:fcxt@192.168.245.71:3006
SEQUENCE:0
DTSTAMP:20260421T135226Z
DTSTART:20260404T090000Z
DTEND:20260404T104000Z
SUMMARY:Безопасность жизнедеятельности
LOCATION:ГК 118
END:VEVENT
END:VCALENDAR