BEGIN:VCALENDAR
VERSION:2.0
PRODID:-//spbstu.ru//ical//RU
NAME:Расписание группы 4731904/40001
X-WR-CALNAME:Расписание группы 4731904/40001
TIMEZONE-ID:Europe/Moscow
X-WR-TIMEZONE:Europe/Moscow
BEGIN:VEVENT
UID:qvb3@192.168.245.71:3006
SEQUENCE:0
DTSTAMP:20260421T101805Z
DTSTART:20260420T110000Z
DTEND:20260420T124000Z
SUMMARY:Электротехника
LOCATION:3 к. 215
END:VEVENT
BEGIN:VEVENT
UID:mb2s@192.168.245.71:3006
SEQUENCE:0
DTSTAMP:20260421T101805Z
DTSTART:20260420T130000Z
DTEND:20260420T135000Z
SUMMARY:Электротехника
LOCATION:3 к. 215
END:VEVENT
BEGIN:VEVENT
UID:yrup@192.168.245.71:3006
SEQUENCE:0
DTSTAMP:20260421T101805Z
DTSTART:20260421T090000Z
DTEND:20260421T104000Z
SUMMARY:Элективная  физическая культура и спорт
LOCATION:СК Секции
END:VEVENT
BEGIN:VEVENT
UID:k4lv@192.168.245.71:3006
SEQUENCE:0
DTSTAMP:20260421T101805Z
DTSTART:20260421T110000Z
DTEND:20260421T124000Z
SUMMARY:Пищевая инженерия
LOCATION:48 уч.к 504
END:VEVENT
BEGIN:VEVENT
UID:njpn@192.168.245.71:3006
SEQUENCE:0
DTSTAMP:20260421T101805Z
DTSTART:20260421T130000Z
DTEND:20260421T144000Z
SUMMARY:Иностранный язык. Профессионально-ориентированный курс
LOCATION:48 уч.к 416
END:VEVENT
BEGIN:VEVENT
UID:hxe0@192.168.245.71:3006
SEQUENCE:0
DTSTAMP:20260421T101805Z
DTSTART:20260422T090000Z
DTEND:20260422T104000Z
SUMMARY:Иностранный язык. Профессионально-ориентированный курс
LOCATION:48 уч.к 416
END:VEVENT
BEGIN:VEVENT
UID:lk21@192.168.245.71:3006
SEQUENCE:0
DTSTAMP:20260421T101805Z
DTSTART:20260423T090000Z
DTEND:20260423T104000Z
SUMMARY:Электротехника
LOCATION:ГЗ ЭиЭ
END:VEVENT
BEGIN:VEVENT
UID:0u6s@192.168.245.71:3006
SEQUENCE:0
DTSTAMP:20260421T101805Z
DTSTART:20260423T090000Z
DTEND:20260423T104000Z
SUMMARY:Электротехника
LOCATION:ГЗ ЭиЭ
END:VEVENT
BEGIN:VEVENT
UID:nh7r@192.168.245.71:3006
SEQUENCE:0
DTSTAMP:20260421T101805Z
DTSTART:20260423T110000Z
DTEND:20260423T124000Z
SUMMARY:Основы проектной деятельности
LOCATION:48 уч.к 309
END:VEVENT
BEGIN:VEVENT
UID:xrkx@192.168.245.71:3006
SEQUENCE:0
DTSTAMP:20260421T101805Z
DTSTART:20260424T090000Z
DTEND:20260424T104000Z
SUMMARY:Элективная  физическая культура и спорт
LOCATION:СК Секции
END:VEVENT
END:VCALENDAR