BEGIN:VCALENDAR
VERSION:2.0
PRODID:-//spbstu.ru//ical//RU
NAME:Расписание группы 4244901/50201
X-WR-CALNAME:Расписание группы 4244901/50201
TIMEZONE-ID:Europe/Moscow
X-WR-TIMEZONE:Europe/Moscow
BEGIN:VEVENT
UID:9lf1@192.168.245.71:3006
SEQUENCE:0
DTSTAMP:20260423T191845Z
DTSTART:20260113T070000Z
DTEND:20260113T084000Z
SUMMARY:Теория и методика спорта высших достижений
LOCATION:4 к. 309-А
END:VEVENT
BEGIN:VEVENT
UID:cose@192.168.245.71:3006
SEQUENCE:0
DTSTAMP:20260423T191845Z
DTSTART:20260113T090000Z
DTEND:20260113T104000Z
SUMMARY:Теория и методика спорта высших достижений
LOCATION:4 к. 309-А
END:VEVENT
BEGIN:VEVENT
UID:cikw@192.168.245.71:3006
SEQUENCE:0
DTSTAMP:20260423T191845Z
DTSTART:20260114T070000Z
DTEND:20260114T084000Z
SUMMARY:Информационные и цифровые технологии в физической культуре и спорт
 е
LOCATION:4 к. 308-А
END:VEVENT
BEGIN:VEVENT
UID:tjx4@192.168.245.71:3006
SEQUENCE:0
DTSTAMP:20260423T191845Z
DTSTART:20260116T070000Z
DTEND:20260116T084000Z
SUMMARY:Физиологические аспекты физкультурно-спортивной деятельности
LOCATION:4 к. 309-А
END:VEVENT
BEGIN:VEVENT
UID:tiz5@192.168.245.71:3006
SEQUENCE:0
DTSTAMP:20260423T191845Z
DTSTART:20260116T090000Z
DTEND:20260116T104000Z
SUMMARY:Физиологические аспекты физкультурно-спортивной деятельности
LOCATION:4 к. 309-А
END:VEVENT
END:VCALENDAR