BEGIN:VCALENDAR
VERSION:2.0
PRODID:-//spbstu.ru//ical//RU
NAME:Расписание группы 4244901/50201
X-WR-CALNAME:Расписание группы 4244901/50201
TIMEZONE-ID:Europe/Moscow
X-WR-TIMEZONE:Europe/Moscow
BEGIN:VEVENT
UID:exzw@192.168.245.71:3006
SEQUENCE:0
DTSTAMP:20260422T014519Z
DTSTART:20260421T090000Z
DTEND:20260421T104000Z
SUMMARY:Информационные и цифровые технологии в физической культуре и спорт
 е
LOCATION:ИМОП Метод. класс 1
END:VEVENT
BEGIN:VEVENT
UID:lzk3@192.168.245.71:3006
SEQUENCE:0
DTSTAMP:20260422T014519Z
DTSTART:20260421T110000Z
DTEND:20260421T124000Z
SUMMARY:Информационные и цифровые технологии в физической культуре и спорт
 е
LOCATION:ИМОП Метод. класс 1
END:VEVENT
BEGIN:VEVENT
UID:lj4o@192.168.245.71:3006
SEQUENCE:0
DTSTAMP:20260422T014519Z
DTSTART:20260422T070000Z
DTEND:20260422T084000Z
SUMMARY:Организация контроля за физическим состоянием занимающихся спортом
LOCATION:4 к. 309-А
END:VEVENT
BEGIN:VEVENT
UID:y77y@192.168.245.71:3006
SEQUENCE:0
DTSTAMP:20260422T014519Z
DTSTART:20260422T090000Z
DTEND:20260422T104000Z
SUMMARY:Организация контроля за физическим состоянием занимающихся спортом
LOCATION:4 к. 309-А
END:VEVENT
END:VCALENDAR