BEGIN:VCALENDAR
VERSION:2.0
PRODID:-//spbstu.ru//ical//RU
NAME:Расписание группы 4931101/50001
X-WR-CALNAME:Расписание группы 4931101/50001
TIMEZONE-ID:Europe/Moscow
X-WR-TIMEZONE:Europe/Moscow
BEGIN:VEVENT
UID:ls26@192.168.245.71:3006
SEQUENCE:0
DTSTAMP:20260424T123512Z
DTSTART:20251208T050000Z
DTEND:20251208T064000Z
SUMMARY:Русский язык как иностранный
LOCATION:15 к. 705
END:VEVENT
BEGIN:VEVENT
UID:wbec@192.168.245.71:3006
SEQUENCE:0
DTSTAMP:20260424T123512Z
DTSTART:20251208T090000Z
DTEND:20251208T104000Z
SUMMARY:Линейная алгебра и аналитическая геометрия
LOCATION:ГЗ 108
END:VEVENT
BEGIN:VEVENT
UID:dj70@192.168.245.71:3006
SEQUENCE:0
DTSTAMP:20260424T123512Z
DTSTART:20251208T110000Z
DTEND:20251208T124000Z
SUMMARY:Линейная алгебра и аналитическая геометрия
LOCATION:ГЗ 257
END:VEVENT
BEGIN:VEVENT
UID:crq0@192.168.245.71:3006
SEQUENCE:0
DTSTAMP:20260424T123512Z
DTSTART:20251208T150000Z
DTEND:20251208T164000Z
SUMMARY:Факультатив по математике
LOCATION:ГЗ 305
END:VEVENT
BEGIN:VEVENT
UID:x840@192.168.245.71:3006
SEQUENCE:0
DTSTAMP:20260424T123512Z
DTSTART:20251209T090000Z
DTEND:20251209T104000Z
SUMMARY:Физика
LOCATION:ГЗ 122
END:VEVENT
BEGIN:VEVENT
UID:hb3t@192.168.245.71:3006
SEQUENCE:0
DTSTAMP:20260424T123512Z
DTSTART:20251209T110000Z
DTEND:20251209T124000Z
SUMMARY:Иностранный язык: Базовый курс
LOCATION:2 к. 352
END:VEVENT
BEGIN:VEVENT
UID:puo1@192.168.245.71:3006
SEQUENCE:0
DTSTAMP:20260424T123512Z
DTSTART:20251209T130000Z
DTEND:20251209T144000Z
SUMMARY:Информатика
LOCATION:2 к. 247
END:VEVENT
BEGIN:VEVENT
UID:v2xu@192.168.245.71:3006
SEQUENCE:0
DTSTAMP:20260424T123512Z
DTSTART:20251209T150000Z
DTEND:20251209T164000Z
SUMMARY:Основы цифровых технологий
LOCATION:2 к. 470
END:VEVENT
BEGIN:VEVENT
UID:m0fi@192.168.245.71:3006
SEQUENCE:0
DTSTAMP:20260424T123512Z
DTSTART:20251210T070000Z
DTEND:20251210T084000Z
SUMMARY:Элективная физическая культура и спорт
LOCATION:СК Спортивный зал
END:VEVENT
BEGIN:VEVENT
UID:zorj@192.168.245.71:3006
SEQUENCE:0
DTSTAMP:20260424T123512Z
DTSTART:20251210T090000Z
DTEND:20251210T104000Z
SUMMARY:Основы цифровых технологий
LOCATION:2 к. 249
END:VEVENT
BEGIN:VEVENT
UID:ipjs@192.168.245.71:3006
SEQUENCE:0
DTSTAMP:20260424T123512Z
DTSTART:20251210T110000Z
DTEND:20251210T124000Z
SUMMARY:Математический анализ
LOCATION:ГЗ 257
END:VEVENT
BEGIN:VEVENT
UID:qkg4@192.168.245.71:3006
SEQUENCE:0
DTSTAMP:20260424T123512Z
DTSTART:20251210T130000Z
DTEND:20251210T144000Z
SUMMARY:Информатика
LOCATION:ГЗ 122
END:VEVENT
BEGIN:VEVENT
UID:gkua@192.168.245.71:3006
SEQUENCE:0
DTSTAMP:20260424T123512Z
DTSTART:20251210T150000Z
DTEND:20251210T164000Z
SUMMARY:Математический аппарат физики
LOCATION:ГЗ 305
END:VEVENT
BEGIN:VEVENT
UID:dzgb@192.168.245.71:3006
SEQUENCE:0
DTSTAMP:20260424T123512Z
DTSTART:20251211T070000Z
DTEND:20251211T084000Z
SUMMARY:Основы российской государственности
LOCATION:1 к. 423
END:VEVENT
BEGIN:VEVENT
UID:fc5w@192.168.245.71:3006
SEQUENCE:0
DTSTAMP:20260424T123512Z
DTSTART:20251211T090000Z
DTEND:20251211T104000Z
SUMMARY:Физика
LOCATION:ГЗ 108
END:VEVENT
BEGIN:VEVENT
UID:5d8a@192.168.245.71:3006
SEQUENCE:0
DTSTAMP:20260424T123512Z
DTSTART:20251211T110000Z
DTEND:20251211T124000Z
SUMMARY:Физика
LOCATION:ГЗ 324
END:VEVENT
BEGIN:VEVENT
UID:i8mx@192.168.245.71:3006
SEQUENCE:0
DTSTAMP:20260424T123512Z
DTSTART:20251212T050000Z
DTEND:20251212T064000Z
SUMMARY:Иностранный язык: Русский язык как иностранный
LOCATION:3 к. 503
END:VEVENT
BEGIN:VEVENT
UID:3wz6@192.168.245.71:3006
SEQUENCE:0
DTSTAMP:20260424T123512Z
DTSTART:20251212T090000Z
DTEND:20251212T104000Z
SUMMARY:Физика
LOCATION:ГЗ 155
END:VEVENT
BEGIN:VEVENT
UID:lilz@192.168.245.71:3006
SEQUENCE:0
DTSTAMP:20260424T123512Z
DTSTART:20251212T090000Z
DTEND:20251212T104000Z
SUMMARY:Физика
LOCATION:ГЗ 155
END:VEVENT
BEGIN:VEVENT
UID:k6kg@192.168.245.71:3006
SEQUENCE:0
DTSTAMP:20260424T123512Z
DTSTART:20251212T110000Z
DTEND:20251212T124000Z
SUMMARY:Математический анализ
LOCATION:ГЗ 220
END:VEVENT
BEGIN:VEVENT
UID:fm87@192.168.245.71:3006
SEQUENCE:0
DTSTAMP:20260424T123512Z
DTSTART:20251212T130000Z
DTEND:20251212T144000Z
SUMMARY:Основы российской государственности
LOCATION:ГЗ 122
END:VEVENT
BEGIN:VEVENT
UID:49i6@192.168.245.71:3006
SEQUENCE:0
DTSTAMP:20260424T123512Z
DTSTART:20251212T150000Z
DTEND:20251212T164000Z
SUMMARY:Факультатив по физике
LOCATION:ГЗ 215
END:VEVENT
BEGIN:VEVENT
UID:cnt8@192.168.245.71:3006
SEQUENCE:0
DTSTAMP:20260424T123512Z
DTSTART:20251213T070000Z
DTEND:20251213T084000Z
SUMMARY:Математический анализ
LOCATION:ГЗ 122
END:VEVENT
BEGIN:VEVENT
UID:n6mj@192.168.245.71:3006
SEQUENCE:0
DTSTAMP:20260424T123512Z
DTSTART:20251213T090000Z
DTEND:20251213T104000Z
SUMMARY:Математический анализ
LOCATION:ГЗ 207
END:VEVENT
BEGIN:VEVENT
UID:uwy7@192.168.245.71:3006
SEQUENCE:0
DTSTAMP:20260424T123512Z
DTSTART:20251213T110000Z
DTEND:20251213T124000Z
SUMMARY:Иностранный язык: Русский язык как иностранный
LOCATION:3 к. 211
END:VEVENT
END:VCALENDAR