BEGIN:VCALENDAR
VERSION:2.0
PRODID:-//spbstu.ru//ical//RU
NAME:Расписание группы 4931101/50002
X-WR-CALNAME:Расписание группы 4931101/50002
TIMEZONE-ID:Europe/Moscow
X-WR-TIMEZONE:Europe/Moscow
BEGIN:VEVENT
UID:wcwq@192.168.245.71:3006
SEQUENCE:0
DTSTAMP:20260425T120821Z
DTSTART:20251103T070000Z
DTEND:20251103T084000Z
SUMMARY:Линейная алгебра и аналитическая геометрия
LOCATION:ГЗ 108
END:VEVENT
BEGIN:VEVENT
UID:t9fg@192.168.245.71:3006
SEQUENCE:0
DTSTAMP:20260425T120821Z
DTSTART:20251103T090000Z
DTEND:20251103T104000Z
SUMMARY:Информатика
LOCATION:2 к. 247
END:VEVENT
BEGIN:VEVENT
UID:x29v@192.168.245.71:3006
SEQUENCE:0
DTSTAMP:20260425T120821Z
DTSTART:20251103T110000Z
DTEND:20251103T124000Z
SUMMARY:Линейная алгебра и аналитическая геометрия
LOCATION:ГЗ 257
END:VEVENT
BEGIN:VEVENT
UID:cspu@192.168.245.71:3006
SEQUENCE:0
DTSTAMP:20260425T120821Z
DTSTART:20251103T150000Z
DTEND:20251103T164000Z
SUMMARY:Факультатив по математике
LOCATION:ГЗ 305
END:VEVENT
BEGIN:VEVENT
UID:0jwy@192.168.245.71:3006
SEQUENCE:0
DTSTAMP:20260425T120821Z
DTSTART:20251105T070000Z
DTEND:20251105T084000Z
SUMMARY:Элективная физическая культура и спорт
LOCATION:СК Спортивный зал
END:VEVENT
BEGIN:VEVENT
UID:vhog@192.168.245.71:3006
SEQUENCE:0
DTSTAMP:20260425T120821Z
DTSTART:20251105T090000Z
DTEND:20251105T104000Z
SUMMARY:Математический анализ
LOCATION:ГЗ 230
END:VEVENT
BEGIN:VEVENT
UID:50ia@192.168.245.71:3006
SEQUENCE:0
DTSTAMP:20260425T120821Z
DTSTART:20251105T110000Z
DTEND:20251105T124000Z
SUMMARY:Математический анализ
LOCATION:ГЗ 257
END:VEVENT
BEGIN:VEVENT
UID:2hom@192.168.245.71:3006
SEQUENCE:0
DTSTAMP:20260425T120821Z
DTSTART:20251105T130000Z
DTEND:20251105T144000Z
SUMMARY:Информатика
LOCATION:ГЗ 122
END:VEVENT
BEGIN:VEVENT
UID:i6ho@192.168.245.71:3006
SEQUENCE:0
DTSTAMP:20260425T120821Z
DTSTART:20251105T150000Z
DTEND:20251105T164000Z
SUMMARY:Математический аппарат физики
LOCATION:ГЗ 305
END:VEVENT
BEGIN:VEVENT
UID:z1os@192.168.245.71:3006
SEQUENCE:0
DTSTAMP:20260425T120821Z
DTSTART:20251106T090000Z
DTEND:20251106T104000Z
SUMMARY:Физика
LOCATION:ГЗ 155
END:VEVENT
BEGIN:VEVENT
UID:3oyb@192.168.245.71:3006
SEQUENCE:0
DTSTAMP:20260425T120821Z
DTSTART:20251106T090000Z
DTEND:20251106T104000Z
SUMMARY:Физика
LOCATION:ГЗ 155
END:VEVENT
BEGIN:VEVENT
UID:sy8t@192.168.245.71:3006
SEQUENCE:0
DTSTAMP:20260425T120821Z
DTSTART:20251106T110000Z
DTEND:20251106T124000Z
SUMMARY:Физика
LOCATION:ГЗ 324
END:VEVENT
BEGIN:VEVENT
UID:5sk6@192.168.245.71:3006
SEQUENCE:0
DTSTAMP:20260425T120821Z
DTSTART:20251106T130000Z
DTEND:20251106T144000Z
SUMMARY:Экономическая культура
LOCATION:ГЗ 180
END:VEVENT
BEGIN:VEVENT
UID:p7yk@192.168.245.71:3006
SEQUENCE:0
DTSTAMP:20260425T120821Z
DTSTART:20251107T090000Z
DTEND:20251107T104000Z
SUMMARY:Физика
LOCATION:ГЗ 184
END:VEVENT
BEGIN:VEVENT
UID:on05@192.168.245.71:3006
SEQUENCE:0
DTSTAMP:20260425T120821Z
DTSTART:20251107T110000Z
DTEND:20251107T124000Z
SUMMARY:Основы российской государственности
LOCATION:1 к. 423
END:VEVENT
BEGIN:VEVENT
UID:a4y9@192.168.245.71:3006
SEQUENCE:0
DTSTAMP:20260425T120821Z
DTSTART:20251107T130000Z
DTEND:20251107T144000Z
SUMMARY:Творческие семестры
LOCATION:ГЗ Белый зал
END:VEVENT
BEGIN:VEVENT
UID:ltn5@192.168.245.71:3006
SEQUENCE:0
DTSTAMP:20260425T120821Z
DTSTART:20251107T150000Z
DTEND:20251107T164000Z
SUMMARY:Факультатив по физике
LOCATION:ГЗ 215
END:VEVENT
BEGIN:VEVENT
UID:6xig@192.168.245.71:3006
SEQUENCE:0
DTSTAMP:20260425T120821Z
DTSTART:20251108T050000Z
DTEND:20251108T064000Z
SUMMARY:Элективная физическая культура и спорт
LOCATION:СК Спортивный зал
END:VEVENT
BEGIN:VEVENT
UID:383a@192.168.245.71:3006
SEQUENCE:0
DTSTAMP:20260425T120821Z
DTSTART:20251108T070000Z
DTEND:20251108T084000Z
SUMMARY:Математический анализ
LOCATION:ГЗ 122
END:VEVENT
END:VCALENDAR