BEGIN:VCALENDAR
VERSION:2.0
PRODID:-//spbstu.ru//ical//RU
NAME:Расписание группы 4931101/50002
X-WR-CALNAME:Расписание группы 4931101/50002
TIMEZONE-ID:Europe/Moscow
X-WR-TIMEZONE:Europe/Moscow
BEGIN:VEVENT
UID:fgew@192.168.245.71:3006
SEQUENCE:0
DTSTAMP:20260423T011657Z
DTSTART:20260302T070000Z
DTEND:20260302T084000Z
SUMMARY:Физика
LOCATION:ГЗ 180
END:VEVENT
BEGIN:VEVENT
UID:30bw@192.168.245.71:3006
SEQUENCE:0
DTSTAMP:20260423T011657Z
DTSTART:20260302T090000Z
DTEND:20260302T104000Z
SUMMARY:Физика
LOCATION:ГЗ 324
END:VEVENT
BEGIN:VEVENT
UID:ilqg@192.168.245.71:3006
SEQUENCE:0
DTSTAMP:20260423T011657Z
DTSTART:20260302T110000Z
DTEND:20260302T124000Z
SUMMARY:Иностранный язык: Базовый курс
LOCATION:2 к. 352
END:VEVENT
BEGIN:VEVENT
UID:y84q@192.168.245.71:3006
SEQUENCE:0
DTSTAMP:20260423T011657Z
DTSTART:20260303T070000Z
DTEND:20260303T084000Z
SUMMARY:Физика
LOCATION:ГЗ 186 А
END:VEVENT
BEGIN:VEVENT
UID:jjrz@192.168.245.71:3006
SEQUENCE:0
DTSTAMP:20260423T011657Z
DTSTART:20260303T070000Z
DTEND:20260303T084000Z
SUMMARY:Физика
LOCATION:ГЗ 186 А
END:VEVENT
BEGIN:VEVENT
UID:1qnq@192.168.245.71:3006
SEQUENCE:0
DTSTAMP:20260423T011657Z
DTSTART:20260303T090000Z
DTEND:20260303T104000Z
SUMMARY:Математический анализ
LOCATION:ГЗ 257
END:VEVENT
BEGIN:VEVENT
UID:gr4o@192.168.245.71:3006
SEQUENCE:0
DTSTAMP:20260423T011657Z
DTSTART:20260303T110000Z
DTEND:20260303T124000Z
SUMMARY:Введение в профессиональную деятельность
LOCATION:2 к. 359
END:VEVENT
BEGIN:VEVENT
UID:v1cm@192.168.245.71:3006
SEQUENCE:0
DTSTAMP:20260423T011657Z
DTSTART:20260303T150000Z
DTEND:20260303T164000Z
SUMMARY:Факультатив по математике
LOCATION:ГЗ 305
END:VEVENT
BEGIN:VEVENT
UID:8gnh@192.168.245.71:3006
SEQUENCE:0
DTSTAMP:20260423T011657Z
DTSTART:20260304T050000Z
DTEND:20260304T064000Z
SUMMARY:Иностранный язык: Русский язык как иностранный
LOCATION:НИК В2.18
END:VEVENT
BEGIN:VEVENT
UID:isb2@192.168.245.71:3006
SEQUENCE:0
DTSTAMP:20260423T011657Z
DTSTART:20260304T070000Z
DTEND:20260304T084000Z
SUMMARY:Элективная физическая культура и спорт
LOCATION:СК Спортивный зал
END:VEVENT
BEGIN:VEVENT
UID:k8ys@192.168.245.71:3006
SEQUENCE:0
DTSTAMP:20260423T011657Z
DTSTART:20260304T090000Z
DTEND:20260304T104000Z
SUMMARY:Информатика
LOCATION:2 к. 247
END:VEVENT
BEGIN:VEVENT
UID:5euy@192.168.245.71:3006
SEQUENCE:0
DTSTAMP:20260423T011657Z
DTSTART:20260304T110000Z
DTEND:20260304T124000Z
SUMMARY:Информатика
LOCATION:ГЗ 122
END:VEVENT
BEGIN:VEVENT
UID:ep3v@192.168.245.71:3006
SEQUENCE:0
DTSTAMP:20260423T011657Z
DTSTART:20260304T130000Z
DTEND:20260304T144000Z
SUMMARY:Математический аппарат физики
LOCATION:ГЗ 305
END:VEVENT
BEGIN:VEVENT
UID:z2fc@192.168.245.71:3006
SEQUENCE:0
DTSTAMP:20260423T011657Z
DTSTART:20260304T150000Z
DTEND:20260304T170000Z
SUMMARY:Физика
LOCATION:ГЗ 280
END:VEVENT
BEGIN:VEVENT
UID:o5i7@192.168.245.71:3006
SEQUENCE:0
DTSTAMP:20260423T011657Z
DTSTART:20260304T150000Z
DTEND:20260304T170000Z
SUMMARY:Физика
LOCATION:ГЗ 280
END:VEVENT
BEGIN:VEVENT
UID:vlc2@192.168.245.71:3006
SEQUENCE:0
DTSTAMP:20260423T011657Z
DTSTART:20260305T050000Z
DTEND:20260305T064000Z
SUMMARY:Иностранный язык: Русский язык как иностранный
LOCATION:НИК В2.18
END:VEVENT
BEGIN:VEVENT
UID:wk70@192.168.245.71:3006
SEQUENCE:0
DTSTAMP:20260423T011657Z
DTSTART:20260305T070000Z
DTEND:20260305T084000Z
SUMMARY:Физика
LOCATION:ГЗ 181
END:VEVENT
BEGIN:VEVENT
UID:j0zd@192.168.245.71:3006
SEQUENCE:0
DTSTAMP:20260423T011657Z
DTSTART:20260305T090000Z
DTEND:20260305T104000Z
SUMMARY:Физика
LOCATION:ГЗ 257
END:VEVENT
BEGIN:VEVENT
UID:5i11@192.168.245.71:3006
SEQUENCE:0
DTSTAMP:20260423T011657Z
DTSTART:20260305T110000Z
DTEND:20260305T124000Z
SUMMARY:Линейная алгебра и аналитическая геометрия
LOCATION:ГЗ 218
END:VEVENT
BEGIN:VEVENT
UID:0drc@192.168.245.71:3006
SEQUENCE:0
DTSTAMP:20260423T011657Z
DTSTART:20260306T070000Z
DTEND:20260306T084000Z
SUMMARY:Математический анализ
LOCATION:ГЗ 106
END:VEVENT
BEGIN:VEVENT
UID:tpfv@192.168.245.71:3006
SEQUENCE:0
DTSTAMP:20260423T011657Z
DTSTART:20260306T090000Z
DTEND:20260306T104000Z
SUMMARY:Линейная алгебра и аналитическая геометрия
LOCATION:ГЗ 305
END:VEVENT
BEGIN:VEVENT
UID:inew@192.168.245.71:3006
SEQUENCE:0
DTSTAMP:20260423T011657Z
DTSTART:20260306T110000Z
DTEND:20260306T124000Z
SUMMARY:Введение космические радиотехнические системы
LOCATION:2 к. 470
END:VEVENT
BEGIN:VEVENT
UID:uvcg@192.168.245.71:3006
SEQUENCE:0
DTSTAMP:20260423T011657Z
DTSTART:20260307T050000Z
DTEND:20260307T064000Z
SUMMARY:Элективная физическая культура и спорт
LOCATION:СК Спортивный зал
END:VEVENT
BEGIN:VEVENT
UID:hjju@192.168.245.71:3006
SEQUENCE:0
DTSTAMP:20260423T011657Z
DTSTART:20260307T070000Z
DTEND:20260307T084000Z
SUMMARY:Математический анализ
LOCATION:ГЗ 257
END:VEVENT
BEGIN:VEVENT
UID:r9wq@192.168.245.71:3006
SEQUENCE:0
DTSTAMP:20260423T011657Z
DTSTART:20260307T090000Z
DTEND:20260307T104000Z
SUMMARY:История России
LOCATION:ГЗ 239
END:VEVENT
BEGIN:VEVENT
UID:kran@192.168.245.71:3006
SEQUENCE:0
DTSTAMP:20260423T011657Z
DTSTART:20260307T110000Z
DTEND:20260307T124000Z
SUMMARY:Математический анализ
LOCATION:ГЗ 106
END:VEVENT
END:VCALENDAR