BEGIN:VCALENDAR
VERSION:2.0
PRODID:-//spbstu.ru//ical//RU
NAME:Расписание группы 4931101/50003
X-WR-CALNAME:Расписание группы 4931101/50003
TIMEZONE-ID:Europe/Moscow
X-WR-TIMEZONE:Europe/Moscow
BEGIN:VEVENT
UID:mux7@192.168.245.71:3006
SEQUENCE:0
DTSTAMP:20260422T032542Z
DTSTART:20260112T090000Z
DTEND:20260112T094500Z
SUMMARY:Физика
LOCATION:ГЗ 253
END:VEVENT
BEGIN:VEVENT
UID:wjn4@192.168.245.71:3006
SEQUENCE:0
DTSTAMP:20260422T032542Z
DTSTART:20260113T070000Z
DTEND:20260113T130000Z
SUMMARY:Физика
LOCATION:ГЗ 184
END:VEVENT
BEGIN:VEVENT
UID:njd3@192.168.245.71:3006
SEQUENCE:0
DTSTAMP:20260422T032542Z
DTSTART:20260116T070000Z
DTEND:20260116T074500Z
SUMMARY:Линейная алгебра и аналитическая геометрия
LOCATION:2 к. 470
END:VEVENT
BEGIN:VEVENT
UID:kpmn@192.168.245.71:3006
SEQUENCE:0
DTSTAMP:20260422T032542Z
DTSTART:20260117T070000Z
DTEND:20260117T130000Z
SUMMARY:Линейная алгебра и аналитическая геометрия
LOCATION:2 к. 470
END:VEVENT
END:VCALENDAR