BEGIN:VCALENDAR
VERSION:2.0
PRODID:-//spbstu.ru//ical//RU
NAME:Расписание группы 4931102/50002
X-WR-CALNAME:Расписание группы 4931102/50002
TIMEZONE-ID:Europe/Moscow
X-WR-TIMEZONE:Europe/Moscow
BEGIN:VEVENT
UID:it3e@192.168.245.71:3006
SEQUENCE:0
DTSTAMP:20260422T192518Z
DTSTART:20251124T050000Z
DTEND:20251124T064000Z
SUMMARY:Русский язык как иностранный
LOCATION:15 к. 705
END:VEVENT
BEGIN:VEVENT
UID:xde5@192.168.245.71:3006
SEQUENCE:0
DTSTAMP:20260422T192518Z
DTSTART:20251124T090000Z
DTEND:20251124T104000Z
SUMMARY:Основы российской государственности
LOCATION:НИК В2.02
END:VEVENT
BEGIN:VEVENT
UID:z1ow@192.168.245.71:3006
SEQUENCE:0
DTSTAMP:20260422T192518Z
DTSTART:20251124T110000Z
DTEND:20251124T124000Z
SUMMARY:Линейная алгебра и аналитическая геометрия
LOCATION:ГЗ 257
END:VEVENT
BEGIN:VEVENT
UID:hyst@192.168.245.71:3006
SEQUENCE:0
DTSTAMP:20260422T192518Z
DTSTART:20251124T130000Z
DTEND:20251124T144000Z
SUMMARY:Математический анализ
LOCATION:НИК В2.04
END:VEVENT
BEGIN:VEVENT
UID:rh3e@192.168.245.71:3006
SEQUENCE:0
DTSTAMP:20260422T192518Z
DTSTART:20251124T150000Z
DTEND:20251124T164000Z
SUMMARY:Факультатив по математике
LOCATION:ГЗ 305
END:VEVENT
BEGIN:VEVENT
UID:sjo8@192.168.245.71:3006
SEQUENCE:0
DTSTAMP:20260422T192518Z
DTSTART:20251125T070000Z
DTEND:20251125T084000Z
SUMMARY:Линейная алгебра и аналитическая геометрия
LOCATION:2 к. 359
END:VEVENT
BEGIN:VEVENT
UID:uo3o@192.168.245.71:3006
SEQUENCE:0
DTSTAMP:20260422T192518Z
DTSTART:20251125T090000Z
DTEND:20251125T104000Z
SUMMARY:Физика
LOCATION:ГЗ 122
END:VEVENT
BEGIN:VEVENT
UID:iip6@192.168.245.71:3006
SEQUENCE:0
DTSTAMP:20260422T192518Z
DTSTART:20251125T110000Z
DTEND:20251125T124000Z
SUMMARY:Физика
LOCATION:ГЗ 280
END:VEVENT
BEGIN:VEVENT
UID:84zt@192.168.245.71:3006
SEQUENCE:0
DTSTAMP:20260422T192518Z
DTSTART:20251126T070000Z
DTEND:20251126T084000Z
SUMMARY:Элективная физическая культура и спорт
LOCATION:СК Спортивный зал
END:VEVENT
BEGIN:VEVENT
UID:744q@192.168.245.71:3006
SEQUENCE:0
DTSTAMP:20260422T192518Z
DTSTART:20251126T110000Z
DTEND:20251126T124000Z
SUMMARY:Математический анализ
LOCATION:ГЗ 122
END:VEVENT
BEGIN:VEVENT
UID:e0w9@192.168.245.71:3006
SEQUENCE:0
DTSTAMP:20260422T192518Z
DTSTART:20251126T130000Z
DTEND:20251126T144000Z
SUMMARY:Информатика
LOCATION:ГЗ 122
END:VEVENT
BEGIN:VEVENT
UID:pg4d@192.168.245.71:3006
SEQUENCE:0
DTSTAMP:20260422T192518Z
DTSTART:20251126T150000Z
DTEND:20251126T164000Z
SUMMARY:Математический аппарат физики
LOCATION:ГЗ 305
END:VEVENT
BEGIN:VEVENT
UID:whiu@192.168.245.71:3006
SEQUENCE:0
DTSTAMP:20260422T192518Z
DTSTART:20251127T070000Z
DTEND:20251127T084000Z
SUMMARY:Физика
LOCATION:ГЗ 108
END:VEVENT
BEGIN:VEVENT
UID:u8a2@192.168.245.71:3006
SEQUENCE:0
DTSTAMP:20260422T192518Z
DTSTART:20251127T090000Z
DTEND:20251127T104000Z
SUMMARY:Информатика
LOCATION:2 к. 247
END:VEVENT
BEGIN:VEVENT
UID:hhok@192.168.245.71:3006
SEQUENCE:0
DTSTAMP:20260422T192518Z
DTSTART:20251127T110000Z
DTEND:20251127T124000Z
SUMMARY:Физика
LOCATION:ГЗ 324
END:VEVENT
BEGIN:VEVENT
UID:9iow@192.168.245.71:3006
SEQUENCE:0
DTSTAMP:20260422T192518Z
DTSTART:20251128T050000Z
DTEND:20251128T064000Z
SUMMARY:Иностранный язык: Русский язык как иностранный
LOCATION:3 к. 503
END:VEVENT
BEGIN:VEVENT
UID:vgq8@192.168.245.71:3006
SEQUENCE:0
DTSTAMP:20260422T192518Z
DTSTART:20251128T090000Z
DTEND:20251128T104000Z
SUMMARY:Физика
LOCATION:ГЗ 155
END:VEVENT
BEGIN:VEVENT
UID:tpf1@192.168.245.71:3006
SEQUENCE:0
DTSTAMP:20260422T192518Z
DTSTART:20251128T090000Z
DTEND:20251128T104000Z
SUMMARY:Физика
LOCATION:ГЗ 155
END:VEVENT
BEGIN:VEVENT
UID:ha2i@192.168.245.71:3006
SEQUENCE:0
DTSTAMP:20260422T192518Z
DTSTART:20251128T110000Z
DTEND:20251128T124000Z
SUMMARY:Иностранный язык: Базовый курс
LOCATION:НИК В2.04
END:VEVENT
BEGIN:VEVENT
UID:wvh8@192.168.245.71:3006
SEQUENCE:0
DTSTAMP:20260422T192518Z
DTSTART:20251128T130000Z
DTEND:20251128T144000Z
SUMMARY:Основы российской государственности
LOCATION:ГЗ 122
END:VEVENT
BEGIN:VEVENT
UID:mjfk@192.168.245.71:3006
SEQUENCE:0
DTSTAMP:20260422T192518Z
DTSTART:20251128T150000Z
DTEND:20251128T164000Z
SUMMARY:Факультатив по физике
LOCATION:2 к. 224
END:VEVENT
BEGIN:VEVENT
UID:ydl5@192.168.245.71:3006
SEQUENCE:0
DTSTAMP:20260422T192518Z
DTSTART:20251129T050000Z
DTEND:20251129T064000Z
SUMMARY:Элективная физическая культура и спорт
LOCATION:СК Спортивный зал
END:VEVENT
BEGIN:VEVENT
UID:j1go@192.168.245.71:3006
SEQUENCE:0
DTSTAMP:20260422T192518Z
DTSTART:20251129T070000Z
DTEND:20251129T084000Z
SUMMARY:Математический анализ
LOCATION:ГЗ 122
END:VEVENT
BEGIN:VEVENT
UID:uwsa@192.168.245.71:3006
SEQUENCE:0
DTSTAMP:20260422T192518Z
DTSTART:20251129T110000Z
DTEND:20251129T124000Z
SUMMARY:Иностранный язык: Русский язык как иностранный
LOCATION:3 к. 211
END:VEVENT
END:VCALENDAR