BEGIN:VCALENDAR
VERSION:2.0
PRODID:-//spbstu.ru//ical//RU
NAME:Расписание группы 4931102/50002
X-WR-CALNAME:Расписание группы 4931102/50002
TIMEZONE-ID:Europe/Moscow
X-WR-TIMEZONE:Europe/Moscow
BEGIN:VEVENT
UID:jftx@192.168.245.71:3006
SEQUENCE:0
DTSTAMP:20260423T222542Z
DTSTART:20250929T090000Z
DTEND:20250929T104000Z
SUMMARY:Основы российской государственности
LOCATION:НИК В2.02
END:VEVENT
BEGIN:VEVENT
UID:drut@192.168.245.71:3006
SEQUENCE:0
DTSTAMP:20260423T222542Z
DTSTART:20250929T110000Z
DTEND:20250929T124000Z
SUMMARY:Линейная алгебра и аналитическая геометрия
LOCATION:ГЗ 257
END:VEVENT
BEGIN:VEVENT
UID:doa2@192.168.245.71:3006
SEQUENCE:0
DTSTAMP:20260423T222542Z
DTSTART:20250929T130000Z
DTEND:20250929T144000Z
SUMMARY:Математический анализ
LOCATION:НИК В2.04
END:VEVENT
BEGIN:VEVENT
UID:va0v@192.168.245.71:3006
SEQUENCE:0
DTSTAMP:20260423T222542Z
DTSTART:20250929T150000Z
DTEND:20250929T164000Z
SUMMARY:Факультатив по математике
LOCATION:ГЗ 305
END:VEVENT
BEGIN:VEVENT
UID:c3js@192.168.245.71:3006
SEQUENCE:0
DTSTAMP:20260423T222542Z
DTSTART:20250930T070000Z
DTEND:20250930T084000Z
SUMMARY:Линейная алгебра и аналитическая геометрия
LOCATION:2 к. 359
END:VEVENT
BEGIN:VEVENT
UID:246c@192.168.245.71:3006
SEQUENCE:0
DTSTAMP:20260423T222542Z
DTSTART:20250930T090000Z
DTEND:20250930T104000Z
SUMMARY:Физика
LOCATION:ГЗ 122
END:VEVENT
BEGIN:VEVENT
UID:4fno@192.168.245.71:3006
SEQUENCE:0
DTSTAMP:20260423T222542Z
DTSTART:20250930T110000Z
DTEND:20250930T124000Z
SUMMARY:Физика
LOCATION:ГЗ 280
END:VEVENT
BEGIN:VEVENT
UID:ylxb@192.168.245.71:3006
SEQUENCE:0
DTSTAMP:20260423T222542Z
DTSTART:20251001T070000Z
DTEND:20251001T084000Z
SUMMARY:Элективная физическая культура и спорт
LOCATION:СК Спортивный зал
END:VEVENT
BEGIN:VEVENT
UID:ruhj@192.168.245.71:3006
SEQUENCE:0
DTSTAMP:20260423T222542Z
DTSTART:20251001T110000Z
DTEND:20251001T124000Z
SUMMARY:Математический анализ
LOCATION:ГЗ 257
END:VEVENT
BEGIN:VEVENT
UID:oojb@192.168.245.71:3006
SEQUENCE:0
DTSTAMP:20260423T222542Z
DTSTART:20251001T130000Z
DTEND:20251001T144000Z
SUMMARY:Информатика
LOCATION:ГЗ 122
END:VEVENT
BEGIN:VEVENT
UID:1t1p@192.168.245.71:3006
SEQUENCE:0
DTSTAMP:20260423T222542Z
DTSTART:20251001T150000Z
DTEND:20251001T164000Z
SUMMARY:Математический аппарат физики
LOCATION:ГЗ 305
END:VEVENT
BEGIN:VEVENT
UID:8qpe@192.168.245.71:3006
SEQUENCE:0
DTSTAMP:20260423T222542Z
DTSTART:20251002T070000Z
DTEND:20251002T084000Z
SUMMARY:Физика
LOCATION:ГЗ 108
END:VEVENT
BEGIN:VEVENT
UID:xrln@192.168.245.71:3006
SEQUENCE:0
DTSTAMP:20260423T222542Z
DTSTART:20251002T090000Z
DTEND:20251002T104000Z
SUMMARY:Информатика
LOCATION:2 к. 247
END:VEVENT
BEGIN:VEVENT
UID:dbe8@192.168.245.71:3006
SEQUENCE:0
DTSTAMP:20260423T222542Z
DTSTART:20251002T110000Z
DTEND:20251002T124000Z
SUMMARY:Физика
LOCATION:ГЗ 324
END:VEVENT
BEGIN:VEVENT
UID:ic4r@192.168.245.71:3006
SEQUENCE:0
DTSTAMP:20260423T222542Z
DTSTART:20251003T050000Z
DTEND:20251003T064000Z
SUMMARY:Иностранный язык: Русский язык как иностранный
LOCATION:3 к. 503
END:VEVENT
BEGIN:VEVENT
UID:ispw@192.168.245.71:3006
SEQUENCE:0
DTSTAMP:20260423T222542Z
DTSTART:20251003T070000Z
DTEND:20251003T084000Z
SUMMARY:Основы цифровых технологий
LOCATION:2 к. 249
END:VEVENT
BEGIN:VEVENT
UID:hsjr@192.168.245.71:3006
SEQUENCE:0
DTSTAMP:20260423T222542Z
DTSTART:20251003T090000Z
DTEND:20251003T104000Z
SUMMARY:Физика
LOCATION:ГЗ 155
END:VEVENT
BEGIN:VEVENT
UID:j1l0@192.168.245.71:3006
SEQUENCE:0
DTSTAMP:20260423T222542Z
DTSTART:20251003T090000Z
DTEND:20251003T104000Z
SUMMARY:Физика
LOCATION:ГЗ 155
END:VEVENT
BEGIN:VEVENT
UID:eigo@192.168.245.71:3006
SEQUENCE:0
DTSTAMP:20260423T222542Z
DTSTART:20251003T110000Z
DTEND:20251003T124000Z
SUMMARY:Иностранный язык: Базовый курс
LOCATION:НИК В2.04
END:VEVENT
BEGIN:VEVENT
UID:e7qj@192.168.245.71:3006
SEQUENCE:0
DTSTAMP:20260423T222542Z
DTSTART:20251003T130000Z
DTEND:20251003T144000Z
SUMMARY:Основы российской государственности
LOCATION:ГЗ 122
END:VEVENT
BEGIN:VEVENT
UID:8jgs@192.168.245.71:3006
SEQUENCE:0
DTSTAMP:20260423T222542Z
DTSTART:20251003T150000Z
DTEND:20251003T164000Z
SUMMARY:Факультатив по физике
LOCATION:2 к. 224
END:VEVENT
BEGIN:VEVENT
UID:zfyk@192.168.245.71:3006
SEQUENCE:0
DTSTAMP:20260423T222542Z
DTSTART:20251004T050000Z
DTEND:20251004T064000Z
SUMMARY:Элективная физическая культура и спорт
LOCATION:СК Спортивный зал
END:VEVENT
BEGIN:VEVENT
UID:c70u@192.168.245.71:3006
SEQUENCE:0
DTSTAMP:20260423T222542Z
DTSTART:20251004T070000Z
DTEND:20251004T084000Z
SUMMARY:Математический анализ
LOCATION:ГЗ 122
END:VEVENT
BEGIN:VEVENT
UID:5wlg@192.168.245.71:3006
SEQUENCE:0
DTSTAMP:20260423T222542Z
DTSTART:20251004T090000Z
DTEND:20251004T104000Z
SUMMARY:Основы цифровых технологий
LOCATION:2 к. 470
END:VEVENT
BEGIN:VEVENT
UID:g8c4@192.168.245.71:3006
SEQUENCE:0
DTSTAMP:20260423T222542Z
DTSTART:20251004T110000Z
DTEND:20251004T124000Z
SUMMARY:Иностранный язык: Русский язык как иностранный
LOCATION:3 к. 211
END:VEVENT
END:VCALENDAR