BEGIN:VCALENDAR
VERSION:2.0
PRODID:-//spbstu.ru//ical//RU
NAME:Расписание группы 4931102/50002
X-WR-CALNAME:Расписание группы 4931102/50002
TIMEZONE-ID:Europe/Moscow
X-WR-TIMEZONE:Europe/Moscow
BEGIN:VEVENT
UID:cv82@192.168.245.71:3006
SEQUENCE:0
DTSTAMP:20260421T003525Z
DTSTART:20260330T070000Z
DTEND:20260330T084000Z
SUMMARY:Основы построения инфокоммуникационных систем
LOCATION:2 к. 470
END:VEVENT
BEGIN:VEVENT
UID:eigq@192.168.245.71:3006
SEQUENCE:0
DTSTAMP:20260421T003525Z
DTSTART:20260330T090000Z
DTEND:20260330T104000Z
SUMMARY:Физика
LOCATION:ГЗ 324
END:VEVENT
BEGIN:VEVENT
UID:chqs@192.168.245.71:3006
SEQUENCE:0
DTSTAMP:20260421T003525Z
DTSTART:20260330T110000Z
DTEND:20260330T124000Z
SUMMARY:Линейная алгебра и аналитическая геометрия
LOCATION:2 к. 224
END:VEVENT
BEGIN:VEVENT
UID:4hae@192.168.245.71:3006
SEQUENCE:0
DTSTAMP:20260421T003525Z
DTSTART:20260330T130000Z
DTEND:20260330T144000Z
SUMMARY:Физика
LOCATION:ГЗ 186 А
END:VEVENT
BEGIN:VEVENT
UID:6mlb@192.168.245.71:3006
SEQUENCE:0
DTSTAMP:20260421T003525Z
DTSTART:20260330T130000Z
DTEND:20260330T144000Z
SUMMARY:Физика
LOCATION:ГЗ 186 А
END:VEVENT
BEGIN:VEVENT
UID:1lnj@192.168.245.71:3006
SEQUENCE:0
DTSTAMP:20260421T003525Z
DTSTART:20260331T070000Z
DTEND:20260331T084000Z
SUMMARY:Физика
LOCATION:ГЗ 161
END:VEVENT
BEGIN:VEVENT
UID:tmfm@192.168.245.71:3006
SEQUENCE:0
DTSTAMP:20260421T003525Z
DTSTART:20260331T090000Z
DTEND:20260331T104000Z
SUMMARY:Математический анализ
LOCATION:ГЗ 257
END:VEVENT
BEGIN:VEVENT
UID:59l6@192.168.245.71:3006
SEQUENCE:0
DTSTAMP:20260421T003525Z
DTSTART:20260331T110000Z
DTEND:20260331T124000Z
SUMMARY:Математический анализ
LOCATION:2 к. 224
END:VEVENT
BEGIN:VEVENT
UID:baks@192.168.245.71:3006
SEQUENCE:0
DTSTAMP:20260421T003525Z
DTSTART:20260331T150000Z
DTEND:20260331T164000Z
SUMMARY:Факультатив по математике
LOCATION:ГЗ 305
END:VEVENT
BEGIN:VEVENT
UID:doyp@192.168.245.71:3006
SEQUENCE:0
DTSTAMP:20260421T003525Z
DTSTART:20260401T050000Z
DTEND:20260401T064000Z
SUMMARY:Иностранный язык: Русский язык как иностранный
LOCATION:НИК В2.18
END:VEVENT
BEGIN:VEVENT
UID:lwky@192.168.245.71:3006
SEQUENCE:0
DTSTAMP:20260421T003525Z
DTSTART:20260401T070000Z
DTEND:20260401T084000Z
SUMMARY:Элективная физическая культура и спорт
LOCATION:СК Спортивный зал
END:VEVENT
BEGIN:VEVENT
UID:hhut@192.168.245.71:3006
SEQUENCE:0
DTSTAMP:20260421T003525Z
DTSTART:20260401T090000Z
DTEND:20260401T104000Z
SUMMARY:Иностранный язык: Базовый курс
LOCATION:НИК В2.18
END:VEVENT
BEGIN:VEVENT
UID:pjbz@192.168.245.71:3006
SEQUENCE:0
DTSTAMP:20260421T003525Z
DTSTART:20260401T110000Z
DTEND:20260401T124000Z
SUMMARY:Информатика
LOCATION:ГЗ 122
END:VEVENT
BEGIN:VEVENT
UID:3jzk@192.168.245.71:3006
SEQUENCE:0
DTSTAMP:20260421T003525Z
DTSTART:20260401T130000Z
DTEND:20260401T144000Z
SUMMARY:Математический аппарат физики
LOCATION:ГЗ 305
END:VEVENT
BEGIN:VEVENT
UID:quig@192.168.245.71:3006
SEQUENCE:0
DTSTAMP:20260421T003525Z
DTSTART:20260402T050000Z
DTEND:20260402T064000Z
SUMMARY:Иностранный язык: Русский язык как иностранный
LOCATION:НИК В2.18
END:VEVENT
BEGIN:VEVENT
UID:9isv@192.168.245.71:3006
SEQUENCE:0
DTSTAMP:20260421T003525Z
DTSTART:20260402T070000Z
DTEND:20260402T084000Z
SUMMARY:История России
LOCATION:1 к. 423
END:VEVENT
BEGIN:VEVENT
UID:c9et@192.168.245.71:3006
SEQUENCE:0
DTSTAMP:20260421T003525Z
DTSTART:20260402T090000Z
DTEND:20260402T104000Z
SUMMARY:Физика
LOCATION:ГЗ 257
END:VEVENT
BEGIN:VEVENT
UID:p8gb@192.168.245.71:3006
SEQUENCE:0
DTSTAMP:20260421T003525Z
DTSTART:20260403T070000Z
DTEND:20260403T084000Z
SUMMARY:Физика
LOCATION:ГЗ 184
END:VEVENT
BEGIN:VEVENT
UID:pdt2@192.168.245.71:3006
SEQUENCE:0
DTSTAMP:20260421T003525Z
DTSTART:20260403T090000Z
DTEND:20260403T104000Z
SUMMARY:Линейная алгебра и аналитическая геометрия
LOCATION:ГЗ 305
END:VEVENT
BEGIN:VEVENT
UID:d7fn@192.168.245.71:3006
SEQUENCE:0
DTSTAMP:20260421T003525Z
DTSTART:20260403T110000Z
DTEND:20260403T124000Z
SUMMARY:Информатика
LOCATION:2 к. 247
END:VEVENT
BEGIN:VEVENT
UID:efhb@192.168.245.71:3006
SEQUENCE:0
DTSTAMP:20260421T003525Z
DTSTART:20260404T050000Z
DTEND:20260404T064000Z
SUMMARY:Элективная физическая культура и спорт
LOCATION:СК Спортивный зал
END:VEVENT
BEGIN:VEVENT
UID:ixs3@192.168.245.71:3006
SEQUENCE:0
DTSTAMP:20260421T003525Z
DTSTART:20260404T070000Z
DTEND:20260404T084000Z
SUMMARY:Математический анализ
LOCATION:ГЗ 257
END:VEVENT
END:VCALENDAR