BEGIN:VCALENDAR
VERSION:2.0
PRODID:-//spbstu.ru//ical//RU
NAME:Расписание группы 4931102/50002
X-WR-CALNAME:Расписание группы 4931102/50002
TIMEZONE-ID:Europe/Moscow
X-WR-TIMEZONE:Europe/Moscow
BEGIN:VEVENT
UID:mfbr@192.168.245.71:3006
SEQUENCE:0
DTSTAMP:20260420T180231Z
DTSTART:20260427T070000Z
DTEND:20260427T084000Z
SUMMARY:Основы построения инфокоммуникационных систем
LOCATION:2 к. 470
END:VEVENT
BEGIN:VEVENT
UID:vc3e@192.168.245.71:3006
SEQUENCE:0
DTSTAMP:20260420T180231Z
DTSTART:20260427T090000Z
DTEND:20260427T104000Z
SUMMARY:Физика
LOCATION:ГЗ 324
END:VEVENT
BEGIN:VEVENT
UID:ohq6@192.168.245.71:3006
SEQUENCE:0
DTSTAMP:20260420T180231Z
DTSTART:20260427T110000Z
DTEND:20260427T124000Z
SUMMARY:Линейная алгебра и аналитическая геометрия
LOCATION:2 к. 224
END:VEVENT
BEGIN:VEVENT
UID:5tpc@192.168.245.71:3006
SEQUENCE:0
DTSTAMP:20260420T180231Z
DTSTART:20260427T130000Z
DTEND:20260427T144000Z
SUMMARY:Физика
LOCATION:ГЗ 186 А
END:VEVENT
BEGIN:VEVENT
UID:u5ue@192.168.245.71:3006
SEQUENCE:0
DTSTAMP:20260420T180231Z
DTSTART:20260427T130000Z
DTEND:20260427T144000Z
SUMMARY:Физика
LOCATION:ГЗ 186 А
END:VEVENT
BEGIN:VEVENT
UID:pdyf@192.168.245.71:3006
SEQUENCE:0
DTSTAMP:20260420T180231Z
DTSTART:20260428T070000Z
DTEND:20260428T084000Z
SUMMARY:Физика
LOCATION:ГЗ 161
END:VEVENT
BEGIN:VEVENT
UID:cudp@192.168.245.71:3006
SEQUENCE:0
DTSTAMP:20260420T180231Z
DTSTART:20260428T090000Z
DTEND:20260428T104000Z
SUMMARY:Математический анализ
LOCATION:ГЗ 257
END:VEVENT
BEGIN:VEVENT
UID:dkr7@192.168.245.71:3006
SEQUENCE:0
DTSTAMP:20260420T180231Z
DTSTART:20260428T110000Z
DTEND:20260428T124000Z
SUMMARY:Математический анализ
LOCATION:2 к. 224
END:VEVENT
BEGIN:VEVENT
UID:8bd3@192.168.245.71:3006
SEQUENCE:0
DTSTAMP:20260420T180231Z
DTSTART:20260428T150000Z
DTEND:20260428T164000Z
SUMMARY:Факультатив по математике
LOCATION:ГЗ 305
END:VEVENT
BEGIN:VEVENT
UID:xv2e@192.168.245.71:3006
SEQUENCE:0
DTSTAMP:20260420T180231Z
DTSTART:20260429T050000Z
DTEND:20260429T064000Z
SUMMARY:Иностранный язык: Русский язык как иностранный
LOCATION:НИК В2.18
END:VEVENT
BEGIN:VEVENT
UID:5sdk@192.168.245.71:3006
SEQUENCE:0
DTSTAMP:20260420T180231Z
DTSTART:20260429T070000Z
DTEND:20260429T084000Z
SUMMARY:Элективная физическая культура и спорт
LOCATION:СК Спортивный зал
END:VEVENT
BEGIN:VEVENT
UID:8920@192.168.245.71:3006
SEQUENCE:0
DTSTAMP:20260420T180231Z
DTSTART:20260429T090000Z
DTEND:20260429T104000Z
SUMMARY:Иностранный язык: Базовый курс
LOCATION:НИК В2.18
END:VEVENT
BEGIN:VEVENT
UID:9a9v@192.168.245.71:3006
SEQUENCE:0
DTSTAMP:20260420T180231Z
DTSTART:20260429T110000Z
DTEND:20260429T124000Z
SUMMARY:Информатика
LOCATION:ГЗ 122
END:VEVENT
BEGIN:VEVENT
UID:0ufr@192.168.245.71:3006
SEQUENCE:0
DTSTAMP:20260420T180231Z
DTSTART:20260429T130000Z
DTEND:20260429T144000Z
SUMMARY:Математический аппарат физики
LOCATION:ГЗ 305
END:VEVENT
BEGIN:VEVENT
UID:6jnr@192.168.245.71:3006
SEQUENCE:0
DTSTAMP:20260420T180231Z
DTSTART:20260430T050000Z
DTEND:20260430T064000Z
SUMMARY:Иностранный язык: Русский язык как иностранный
LOCATION:НИК В2.18
END:VEVENT
BEGIN:VEVENT
UID:gz6e@192.168.245.71:3006
SEQUENCE:0
DTSTAMP:20260420T180231Z
DTSTART:20260430T070000Z
DTEND:20260430T084000Z
SUMMARY:История России
LOCATION:1 к. 423
END:VEVENT
BEGIN:VEVENT
UID:3o0l@192.168.245.71:3006
SEQUENCE:0
DTSTAMP:20260420T180231Z
DTSTART:20260430T090000Z
DTEND:20260430T104000Z
SUMMARY:Физика
LOCATION:ГЗ 257
END:VEVENT
BEGIN:VEVENT
UID:a3sf@192.168.245.71:3006
SEQUENCE:0
DTSTAMP:20260420T180231Z
DTSTART:20260502T050000Z
DTEND:20260502T064000Z
SUMMARY:Элективная физическая культура и спорт
LOCATION:СК Спортивный зал
END:VEVENT
BEGIN:VEVENT
UID:9sia@192.168.245.71:3006
SEQUENCE:0
DTSTAMP:20260420T180231Z
DTSTART:20260502T070000Z
DTEND:20260502T084000Z
SUMMARY:Математический анализ
LOCATION:ГЗ 257
END:VEVENT
END:VCALENDAR