BEGIN:VCALENDAR
VERSION:2.0
PRODID:-//spbstu.ru//ical//RU
NAME:Расписание группы 4931104/50001
X-WR-CALNAME:Расписание группы 4931104/50001
TIMEZONE-ID:Europe/Moscow
X-WR-TIMEZONE:Europe/Moscow
BEGIN:VEVENT
UID:4l6n@192.168.245.71:3006
SEQUENCE:0
DTSTAMP:20260424T064012Z
DTSTART:20251027T050000Z
DTEND:20251027T064000Z
SUMMARY:Русский язык как иностранный
LOCATION:15 к. 705
END:VEVENT
BEGIN:VEVENT
UID:5hvw@192.168.245.71:3006
SEQUENCE:0
DTSTAMP:20260424T064012Z
DTSTART:20251027T060000Z
DTEND:20251027T083000Z
SUMMARY:Математический анализ
LOCATION:НИК В2.04
END:VEVENT
BEGIN:VEVENT
UID:y3c8@192.168.245.71:3006
SEQUENCE:0
DTSTAMP:20260424T064012Z
DTSTART:20251027T090000Z
DTEND:20251027T104000Z
SUMMARY:Физика
LOCATION:ГЗ 155
END:VEVENT
BEGIN:VEVENT
UID:oqrw@192.168.245.71:3006
SEQUENCE:0
DTSTAMP:20260424T064012Z
DTSTART:20251027T090000Z
DTEND:20251027T104000Z
SUMMARY:Физика
LOCATION:ГЗ 155
END:VEVENT
BEGIN:VEVENT
UID:lsxp@192.168.245.71:3006
SEQUENCE:0
DTSTAMP:20260424T064012Z
DTSTART:20251027T110000Z
DTEND:20251027T124000Z
SUMMARY:Основы цифровых технологий
LOCATION:2 к. 462
END:VEVENT
BEGIN:VEVENT
UID:9nbv@192.168.245.71:3006
SEQUENCE:0
DTSTAMP:20260424T064012Z
DTSTART:20251028T090000Z
DTEND:20251028T104000Z
SUMMARY:Основы российской государственности
LOCATION:1 к. 423
END:VEVENT
BEGIN:VEVENT
UID:5h9c@192.168.245.71:3006
SEQUENCE:0
DTSTAMP:20260424T064012Z
DTSTART:20251028T110000Z
DTEND:20251028T124000Z
SUMMARY:Физика
LOCATION:ГЗ 324
END:VEVENT
BEGIN:VEVENT
UID:2aqi@192.168.245.71:3006
SEQUENCE:0
DTSTAMP:20260424T064012Z
DTSTART:20251029T070000Z
DTEND:20251029T084000Z
SUMMARY:Элективная физическая культура и спорт
LOCATION:СК Спортивный зал
END:VEVENT
BEGIN:VEVENT
UID:d1y1@192.168.245.71:3006
SEQUENCE:0
DTSTAMP:20260424T064012Z
DTSTART:20251029T090000Z
DTEND:20251029T104000Z
SUMMARY:Математический анализ
LOCATION:ГЗ 329
END:VEVENT
BEGIN:VEVENT
UID:zk8d@192.168.245.71:3006
SEQUENCE:0
DTSTAMP:20260424T064012Z
DTSTART:20251029T110000Z
DTEND:20251029T124000Z
SUMMARY:Иностранный язык: Базовый курс
LOCATION:2 к. 452
END:VEVENT
BEGIN:VEVENT
UID:ll63@192.168.245.71:3006
SEQUENCE:0
DTSTAMP:20260424T064012Z
DTSTART:20251029T130000Z
DTEND:20251029T144000Z
SUMMARY:Экономическая культура
LOCATION:2 к. 452
END:VEVENT
BEGIN:VEVENT
UID:rv41@192.168.245.71:3006
SEQUENCE:0
DTSTAMP:20260424T064012Z
DTSTART:20251029T150000Z
DTEND:20251029T164000Z
SUMMARY:Математический аппарат физики
LOCATION:ГЗ 305
END:VEVENT
BEGIN:VEVENT
UID:i987@192.168.245.71:3006
SEQUENCE:0
DTSTAMP:20260424T064012Z
DTSTART:20251030T070000Z
DTEND:20251030T084000Z
SUMMARY:Информатика
LOCATION:2 к. 265
END:VEVENT
BEGIN:VEVENT
UID:nbg8@192.168.245.71:3006
SEQUENCE:0
DTSTAMP:20260424T064012Z
DTSTART:20251030T090000Z
DTEND:20251030T104000Z
SUMMARY:Физика
LOCATION:ГЗ 257
END:VEVENT
BEGIN:VEVENT
UID:xnwh@192.168.245.71:3006
SEQUENCE:0
DTSTAMP:20260424T064012Z
DTSTART:20251030T110000Z
DTEND:20251030T124000Z
SUMMARY:Информатика
LOCATION:2 к. 462
END:VEVENT
BEGIN:VEVENT
UID:cc79@192.168.245.71:3006
SEQUENCE:0
DTSTAMP:20260424T064012Z
DTSTART:20251031T050000Z
DTEND:20251031T064000Z
SUMMARY:Иностранный язык: Русский язык как иностранный
LOCATION:3 к. 503
END:VEVENT
BEGIN:VEVENT
UID:79xs@192.168.245.71:3006
SEQUENCE:0
DTSTAMP:20260424T064012Z
DTSTART:20251031T070000Z
DTEND:20251031T084000Z
SUMMARY:Линейная алгебра и аналитическая геометрия
LOCATION:ГЗ 219
END:VEVENT
BEGIN:VEVENT
UID:489t@192.168.245.71:3006
SEQUENCE:0
DTSTAMP:20260424T064012Z
DTSTART:20251031T090000Z
DTEND:20251031T104000Z
SUMMARY:Линейная алгебра и аналитическая геометрия
LOCATION:ГЗ 305
END:VEVENT
BEGIN:VEVENT
UID:000q@192.168.245.71:3006
SEQUENCE:0
DTSTAMP:20260424T064012Z
DTSTART:20251031T110000Z
DTEND:20251031T124000Z
SUMMARY:Физика
LOCATION:2 к. 224
END:VEVENT
BEGIN:VEVENT
UID:b7tp@192.168.245.71:3006
SEQUENCE:0
DTSTAMP:20260424T064012Z
DTSTART:20251031T150000Z
DTEND:20251031T164000Z
SUMMARY:Факультатив по физике
LOCATION:2 к. 224
END:VEVENT
BEGIN:VEVENT
UID:kznr@192.168.245.71:3006
SEQUENCE:0
DTSTAMP:20260424T064012Z
DTSTART:20251101T050000Z
DTEND:20251101T064000Z
SUMMARY:Элективная физическая культура и спорт
LOCATION:СК Спортивный зал
END:VEVENT
BEGIN:VEVENT
UID:i530@192.168.245.71:3006
SEQUENCE:0
DTSTAMP:20260424T064012Z
DTSTART:20251101T070000Z
DTEND:20251101T084000Z
SUMMARY:Математический анализ
LOCATION:ГЗ 257
END:VEVENT
BEGIN:VEVENT
UID:bj3z@192.168.245.71:3006
SEQUENCE:0
DTSTAMP:20260424T064012Z
DTSTART:20251101T110000Z
DTEND:20251101T124000Z
SUMMARY:Иностранный язык: Русский язык как иностранный
LOCATION:3 к. 211
END:VEVENT
END:VCALENDAR