BEGIN:VCALENDAR
VERSION:2.0
PRODID:-//spbstu.ru//ical//RU
NAME:Расписание группы 4931104/50001
X-WR-CALNAME:Расписание группы 4931104/50001
TIMEZONE-ID:Europe/Moscow
X-WR-TIMEZONE:Europe/Moscow
BEGIN:VEVENT
UID:2fvt@192.168.245.71:3006
SEQUENCE:0
DTSTAMP:20260423T193055Z
DTSTART:20251110T050000Z
DTEND:20251110T064000Z
SUMMARY:Русский язык как иностранный
LOCATION:15 к. 705
END:VEVENT
BEGIN:VEVENT
UID:bht2@192.168.245.71:3006
SEQUENCE:0
DTSTAMP:20260423T193055Z
DTSTART:20251110T060000Z
DTEND:20251110T083000Z
SUMMARY:Математический анализ
LOCATION:НИК В2.04
END:VEVENT
BEGIN:VEVENT
UID:eot8@192.168.245.71:3006
SEQUENCE:0
DTSTAMP:20260423T193055Z
DTSTART:20251110T090000Z
DTEND:20251110T104000Z
SUMMARY:Физика
LOCATION:ГЗ 155
END:VEVENT
BEGIN:VEVENT
UID:u74z@192.168.245.71:3006
SEQUENCE:0
DTSTAMP:20260423T193055Z
DTSTART:20251110T090000Z
DTEND:20251110T104000Z
SUMMARY:Физика
LOCATION:ГЗ 155
END:VEVENT
BEGIN:VEVENT
UID:6ce1@192.168.245.71:3006
SEQUENCE:0
DTSTAMP:20260423T193055Z
DTSTART:20251110T110000Z
DTEND:20251110T124000Z
SUMMARY:Основы цифровых технологий
LOCATION:2 к. 462
END:VEVENT
BEGIN:VEVENT
UID:dc8y@192.168.245.71:3006
SEQUENCE:0
DTSTAMP:20260423T193055Z
DTSTART:20251111T090000Z
DTEND:20251111T104000Z
SUMMARY:Основы российской государственности
LOCATION:1 к. 423
END:VEVENT
BEGIN:VEVENT
UID:ab66@192.168.245.71:3006
SEQUENCE:0
DTSTAMP:20260423T193055Z
DTSTART:20251111T110000Z
DTEND:20251111T124000Z
SUMMARY:Физика
LOCATION:ГЗ 324
END:VEVENT
BEGIN:VEVENT
UID:cjaf@192.168.245.71:3006
SEQUENCE:0
DTSTAMP:20260423T193055Z
DTSTART:20251112T070000Z
DTEND:20251112T084000Z
SUMMARY:Элективная физическая культура и спорт
LOCATION:СК Спортивный зал
END:VEVENT
BEGIN:VEVENT
UID:u8uu@192.168.245.71:3006
SEQUENCE:0
DTSTAMP:20260423T193055Z
DTSTART:20251112T090000Z
DTEND:20251112T104000Z
SUMMARY:Математический анализ
LOCATION:ГЗ 329
END:VEVENT
BEGIN:VEVENT
UID:f0qj@192.168.245.71:3006
SEQUENCE:0
DTSTAMP:20260423T193055Z
DTSTART:20251112T110000Z
DTEND:20251112T124000Z
SUMMARY:Иностранный язык: Базовый курс
LOCATION:2 к. 452
END:VEVENT
BEGIN:VEVENT
UID:44v1@192.168.245.71:3006
SEQUENCE:0
DTSTAMP:20260423T193055Z
DTSTART:20251112T130000Z
DTEND:20251112T144000Z
SUMMARY:Экономическая культура
LOCATION:2 к. 452
END:VEVENT
BEGIN:VEVENT
UID:tn8c@192.168.245.71:3006
SEQUENCE:0
DTSTAMP:20260423T193055Z
DTSTART:20251112T150000Z
DTEND:20251112T164000Z
SUMMARY:Математический аппарат физики
LOCATION:ГЗ 305
END:VEVENT
BEGIN:VEVENT
UID:bh9j@192.168.245.71:3006
SEQUENCE:0
DTSTAMP:20260423T193055Z
DTSTART:20251113T070000Z
DTEND:20251113T084000Z
SUMMARY:Информатика
LOCATION:2 к. 265
END:VEVENT
BEGIN:VEVENT
UID:t7w5@192.168.245.71:3006
SEQUENCE:0
DTSTAMP:20260423T193055Z
DTSTART:20251113T090000Z
DTEND:20251113T104000Z
SUMMARY:Физика
LOCATION:ГЗ 257
END:VEVENT
BEGIN:VEVENT
UID:acax@192.168.245.71:3006
SEQUENCE:0
DTSTAMP:20260423T193055Z
DTSTART:20251113T110000Z
DTEND:20251113T124000Z
SUMMARY:Информатика
LOCATION:2 к. 462
END:VEVENT
BEGIN:VEVENT
UID:d3y5@192.168.245.71:3006
SEQUENCE:0
DTSTAMP:20260423T193055Z
DTSTART:20251114T050000Z
DTEND:20251114T064000Z
SUMMARY:Иностранный язык: Русский язык как иностранный
LOCATION:3 к. 503
END:VEVENT
BEGIN:VEVENT
UID:7lwk@192.168.245.71:3006
SEQUENCE:0
DTSTAMP:20260423T193055Z
DTSTART:20251114T070000Z
DTEND:20251114T084000Z
SUMMARY:Линейная алгебра и аналитическая геометрия
LOCATION:ГЗ 219
END:VEVENT
BEGIN:VEVENT
UID:t87j@192.168.245.71:3006
SEQUENCE:0
DTSTAMP:20260423T193055Z
DTSTART:20251114T090000Z
DTEND:20251114T104000Z
SUMMARY:Линейная алгебра и аналитическая геометрия
LOCATION:ГЗ 305
END:VEVENT
BEGIN:VEVENT
UID:pv4y@192.168.245.71:3006
SEQUENCE:0
DTSTAMP:20260423T193055Z
DTSTART:20251114T110000Z
DTEND:20251114T124000Z
SUMMARY:Физика
LOCATION:2 к. 224
END:VEVENT
BEGIN:VEVENT
UID:nb4g@192.168.245.71:3006
SEQUENCE:0
DTSTAMP:20260423T193055Z
DTSTART:20251114T150000Z
DTEND:20251114T164000Z
SUMMARY:Факультатив по физике
LOCATION:2 к. 224
END:VEVENT
BEGIN:VEVENT
UID:9581@192.168.245.71:3006
SEQUENCE:0
DTSTAMP:20260423T193055Z
DTSTART:20251115T050000Z
DTEND:20251115T064000Z
SUMMARY:Элективная физическая культура и спорт
LOCATION:СК Спортивный зал
END:VEVENT
BEGIN:VEVENT
UID:1fvt@192.168.245.71:3006
SEQUENCE:0
DTSTAMP:20260423T193055Z
DTSTART:20251115T070000Z
DTEND:20251115T084000Z
SUMMARY:Математический анализ
LOCATION:ГЗ 257
END:VEVENT
BEGIN:VEVENT
UID:fbty@192.168.245.71:3006
SEQUENCE:0
DTSTAMP:20260423T193055Z
DTSTART:20251115T110000Z
DTEND:20251115T124000Z
SUMMARY:Иностранный язык: Русский язык как иностранный
LOCATION:3 к. 211
END:VEVENT
END:VCALENDAR