BEGIN:VCALENDAR
VERSION:2.0
PRODID:-//spbstu.ru//ical//RU
NAME:Расписание группы 4931104/50001
X-WR-CALNAME:Расписание группы 4931104/50001
TIMEZONE-ID:Europe/Moscow
X-WR-TIMEZONE:Europe/Moscow
BEGIN:VEVENT
UID:hbza@192.168.245.71:3006
SEQUENCE:0
DTSTAMP:20260421T123240Z
DTSTART:20260202T070000Z
DTEND:20260202T084000Z
SUMMARY:Линейная алгебра и аналитическая геометрия
LOCATION:2 к. 224
END:VEVENT
BEGIN:VEVENT
UID:vwtf@192.168.245.71:3006
SEQUENCE:0
DTSTAMP:20260421T123240Z
DTSTART:20260202T090000Z
DTEND:20260202T104000Z
SUMMARY:Физика
LOCATION:ГЗ 186 А
END:VEVENT
BEGIN:VEVENT
UID:ujeq@192.168.245.71:3006
SEQUENCE:0
DTSTAMP:20260421T123240Z
DTSTART:20260202T090000Z
DTEND:20260202T104000Z
SUMMARY:Физика
LOCATION:ГЗ 186 А
END:VEVENT
BEGIN:VEVENT
UID:6htk@192.168.245.71:3006
SEQUENCE:0
DTSTAMP:20260421T123240Z
DTSTART:20260202T110000Z
DTEND:20260202T124000Z
SUMMARY:Линейная алгебра и аналитическая геометрия
LOCATION:ГЗ 257
END:VEVENT
BEGIN:VEVENT
UID:rr59@192.168.245.71:3006
SEQUENCE:0
DTSTAMP:20260421T123240Z
DTSTART:20260203T060000Z
DTEND:20260203T083000Z
SUMMARY:Математический анализ
LOCATION:НИК В2.18
END:VEVENT
BEGIN:VEVENT
UID:ch7u@192.168.245.71:3006
SEQUENCE:0
DTSTAMP:20260421T123240Z
DTSTART:20260203T090000Z
DTEND:20260203T104000Z
SUMMARY:Информатика
LOCATION:2 к. 462
END:VEVENT
BEGIN:VEVENT
UID:z6yg@192.168.245.71:3006
SEQUENCE:0
DTSTAMP:20260421T123240Z
DTSTART:20260203T110000Z
DTEND:20260203T124000Z
SUMMARY:Математический анализ
LOCATION:ГЗ 257
END:VEVENT
BEGIN:VEVENT
UID:i5p8@192.168.245.71:3006
SEQUENCE:0
DTSTAMP:20260421T123240Z
DTSTART:20260204T050000Z
DTEND:20260204T064000Z
SUMMARY:Иностранный язык: Русский язык как иностранный
LOCATION:НИК В2.18
END:VEVENT
BEGIN:VEVENT
UID:2npl@192.168.245.71:3006
SEQUENCE:0
DTSTAMP:20260421T123240Z
DTSTART:20260204T090000Z
DTEND:20260204T104000Z
SUMMARY:Физика
LOCATION:ГЗ 324
END:VEVENT
BEGIN:VEVENT
UID:dakc@192.168.245.71:3006
SEQUENCE:0
DTSTAMP:20260421T123240Z
DTSTART:20260204T130000Z
DTEND:20260204T144000Z
SUMMARY:Математический аппарат физики
LOCATION:ГЗ 305
END:VEVENT
BEGIN:VEVENT
UID:k2y2@192.168.245.71:3006
SEQUENCE:0
DTSTAMP:20260421T123240Z
DTSTART:20260205T050000Z
DTEND:20260205T064000Z
SUMMARY:Иностранный язык: Русский язык как иностранный
LOCATION:НИК В2.18
END:VEVENT
BEGIN:VEVENT
UID:2e8i@192.168.245.71:3006
SEQUENCE:0
DTSTAMP:20260421T123240Z
DTSTART:20260205T070000Z
DTEND:20260205T084000Z
SUMMARY:Информатика
LOCATION:ГЗ 324
END:VEVENT
BEGIN:VEVENT
UID:tshw@192.168.245.71:3006
SEQUENCE:0
DTSTAMP:20260421T123240Z
DTSTART:20260205T090000Z
DTEND:20260205T104000Z
SUMMARY:Физика
LOCATION:ГЗ 181
END:VEVENT
BEGIN:VEVENT
UID:h0en@192.168.245.71:3006
SEQUENCE:0
DTSTAMP:20260421T123240Z
DTSTART:20260205T110000Z
DTEND:20260205T124000Z
SUMMARY:Инженерная и компьютерная графика
LOCATION:2 к. 462
END:VEVENT
BEGIN:VEVENT
UID:uirc@192.168.245.71:3006
SEQUENCE:0
DTSTAMP:20260421T123240Z
DTSTART:20260206T070000Z
DTEND:20260206T084000Z
SUMMARY:Инженерная и компьютерная графика
LOCATION:2 к. 462
END:VEVENT
BEGIN:VEVENT
UID:v3id@192.168.245.71:3006
SEQUENCE:0
DTSTAMP:20260421T123240Z
DTSTART:20260206T090000Z
DTEND:20260206T104000Z
SUMMARY:Иностранный язык: Базовый курс
LOCATION:2 к. 352
END:VEVENT
BEGIN:VEVENT
UID:qelz@192.168.245.71:3006
SEQUENCE:0
DTSTAMP:20260421T123240Z
DTSTART:20260206T110000Z
DTEND:20260206T124000Z
SUMMARY:Физика
LOCATION:ГЗ 324
END:VEVENT
BEGIN:VEVENT
UID:ax9a@192.168.245.71:3006
SEQUENCE:0
DTSTAMP:20260421T123240Z
DTSTART:20260206T130000Z
DTEND:20260206T144000Z
SUMMARY:История России
LOCATION:ГЗ 257
END:VEVENT
BEGIN:VEVENT
UID:w8rt@192.168.245.71:3006
SEQUENCE:0
DTSTAMP:20260421T123240Z
DTSTART:20260206T150000Z
DTEND:20260206T164000Z
SUMMARY:Факультатив по физике
LOCATION:2 к. 224
END:VEVENT
BEGIN:VEVENT
UID:7hx2@192.168.245.71:3006
SEQUENCE:0
DTSTAMP:20260421T123240Z
DTSTART:20260207T070000Z
DTEND:20260207T084000Z
SUMMARY:Математический анализ
LOCATION:ГЗ 122
END:VEVENT
BEGIN:VEVENT
UID:wzs6@192.168.245.71:3006
SEQUENCE:0
DTSTAMP:20260421T123240Z
DTSTART:20260207T090000Z
DTEND:20260207T104000Z
SUMMARY:История России
LOCATION:1 к. 423
END:VEVENT
END:VCALENDAR