BEGIN:VCALENDAR
VERSION:2.0
PRODID:-//spbstu.ru//ical//RU
NAME:Расписание группы 4931104/50001
X-WR-CALNAME:Расписание группы 4931104/50001
TIMEZONE-ID:Europe/Moscow
X-WR-TIMEZONE:Europe/Moscow
BEGIN:VEVENT
UID:zvyg@192.168.245.71:3006
SEQUENCE:0
DTSTAMP:20260420T230828Z
DTSTART:20260323T070000Z
DTEND:20260323T084000Z
SUMMARY:Линейная алгебра и аналитическая геометрия
LOCATION:2 к. 224
END:VEVENT
BEGIN:VEVENT
UID:z4f8@192.168.245.71:3006
SEQUENCE:0
DTSTAMP:20260420T230828Z
DTSTART:20260323T090000Z
DTEND:20260323T104000Z
SUMMARY:Физика
LOCATION:ГЗ 186 А
END:VEVENT
BEGIN:VEVENT
UID:zv58@192.168.245.71:3006
SEQUENCE:0
DTSTAMP:20260420T230828Z
DTSTART:20260323T090000Z
DTEND:20260323T104000Z
SUMMARY:Физика
LOCATION:ГЗ 186 А
END:VEVENT
BEGIN:VEVENT
UID:oj15@192.168.245.71:3006
SEQUENCE:0
DTSTAMP:20260420T230828Z
DTSTART:20260323T110000Z
DTEND:20260323T124000Z
SUMMARY:Линейная алгебра и аналитическая геометрия
LOCATION:ГЗ 257
END:VEVENT
BEGIN:VEVENT
UID:lknk@192.168.245.71:3006
SEQUENCE:0
DTSTAMP:20260420T230828Z
DTSTART:20260323T130000Z
DTEND:20260323T144000Z
SUMMARY:Введение в профессиональную деятельность
LOCATION:2 к. 470
END:VEVENT
BEGIN:VEVENT
UID:ft4l@192.168.245.71:3006
SEQUENCE:0
DTSTAMP:20260420T230828Z
DTSTART:20260324T060000Z
DTEND:20260324T083000Z
SUMMARY:Математический анализ
LOCATION:НИК В2.18
END:VEVENT
BEGIN:VEVENT
UID:fsmb@192.168.245.71:3006
SEQUENCE:0
DTSTAMP:20260420T230828Z
DTSTART:20260324T090000Z
DTEND:20260324T104000Z
SUMMARY:Информатика
LOCATION:2 к. 462
END:VEVENT
BEGIN:VEVENT
UID:57hw@192.168.245.71:3006
SEQUENCE:0
DTSTAMP:20260420T230828Z
DTSTART:20260324T110000Z
DTEND:20260324T124000Z
SUMMARY:Математический анализ
LOCATION:ГЗ 257
END:VEVENT
BEGIN:VEVENT
UID:ng2k@192.168.245.71:3006
SEQUENCE:0
DTSTAMP:20260420T230828Z
DTSTART:20260324T130000Z
DTEND:20260324T144000Z
SUMMARY:Инженерная и компьютерная графика
LOCATION:2 к. 462
END:VEVENT
BEGIN:VEVENT
UID:sst1@192.168.245.71:3006
SEQUENCE:0
DTSTAMP:20260420T230828Z
DTSTART:20260325T050000Z
DTEND:20260325T064000Z
SUMMARY:Иностранный язык: Русский язык как иностранный
LOCATION:НИК В2.18
END:VEVENT
BEGIN:VEVENT
UID:mxzy@192.168.245.71:3006
SEQUENCE:0
DTSTAMP:20260420T230828Z
DTSTART:20260325T070000Z
DTEND:20260325T084000Z
SUMMARY:Элективная физическая культура и спорт
LOCATION:СК Спортивный зал
END:VEVENT
BEGIN:VEVENT
UID:ezv5@192.168.245.71:3006
SEQUENCE:0
DTSTAMP:20260420T230828Z
DTSTART:20260325T090000Z
DTEND:20260325T104000Z
SUMMARY:Физика
LOCATION:ГЗ 324
END:VEVENT
BEGIN:VEVENT
UID:sfx3@192.168.245.71:3006
SEQUENCE:0
DTSTAMP:20260420T230828Z
DTSTART:20260325T110000Z
DTEND:20260325T124000Z
SUMMARY:Физика
LOCATION:ГЗ 244
END:VEVENT
BEGIN:VEVENT
UID:s19m@192.168.245.71:3006
SEQUENCE:0
DTSTAMP:20260420T230828Z
DTSTART:20260325T130000Z
DTEND:20260325T144000Z
SUMMARY:Математический аппарат физики
LOCATION:ГЗ 305
END:VEVENT
BEGIN:VEVENT
UID:9vn3@192.168.245.71:3006
SEQUENCE:0
DTSTAMP:20260420T230828Z
DTSTART:20260326T050000Z
DTEND:20260326T064000Z
SUMMARY:Иностранный язык: Русский язык как иностранный
LOCATION:НИК В2.18
END:VEVENT
BEGIN:VEVENT
UID:l2jn@192.168.245.71:3006
SEQUENCE:0
DTSTAMP:20260420T230828Z
DTSTART:20260326T070000Z
DTEND:20260326T084000Z
SUMMARY:Информатика
LOCATION:ГЗ 324
END:VEVENT
BEGIN:VEVENT
UID:79li@192.168.245.71:3006
SEQUENCE:0
DTSTAMP:20260420T230828Z
DTSTART:20260326T090000Z
DTEND:20260326T104000Z
SUMMARY:Физика
LOCATION:ГЗ 256
END:VEVENT
BEGIN:VEVENT
UID:g0vl@192.168.245.71:3006
SEQUENCE:0
DTSTAMP:20260420T230828Z
DTSTART:20260326T110000Z
DTEND:20260326T124000Z
SUMMARY:Инженерная и компьютерная графика
LOCATION:2 к. 462
END:VEVENT
BEGIN:VEVENT
UID:mkfp@192.168.245.71:3006
SEQUENCE:0
DTSTAMP:20260420T230828Z
DTSTART:20260326T150000Z
DTEND:20260326T170000Z
SUMMARY:Линейная алгебра и аналитическая геометрия
LOCATION:2 к. 470
END:VEVENT
BEGIN:VEVENT
UID:1llf@192.168.245.71:3006
SEQUENCE:0
DTSTAMP:20260420T230828Z
DTSTART:20260327T050000Z
DTEND:20260327T064000Z
SUMMARY:Факультатив по математике
LOCATION:ГЗ 283
END:VEVENT
BEGIN:VEVENT
UID:3yd3@192.168.245.71:3006
SEQUENCE:0
DTSTAMP:20260420T230828Z
DTSTART:20260327T070000Z
DTEND:20260327T084000Z
SUMMARY:Инженерная и компьютерная графика
LOCATION:2 к. 462
END:VEVENT
BEGIN:VEVENT
UID:9ju2@192.168.245.71:3006
SEQUENCE:0
DTSTAMP:20260420T230828Z
DTSTART:20260327T090000Z
DTEND:20260327T104000Z
SUMMARY:Иностранный язык: Базовый курс
LOCATION:2 к. 352
END:VEVENT
BEGIN:VEVENT
UID:xvgw@192.168.245.71:3006
SEQUENCE:0
DTSTAMP:20260420T230828Z
DTSTART:20260327T110000Z
DTEND:20260327T124000Z
SUMMARY:Физика
LOCATION:ГЗ 324
END:VEVENT
BEGIN:VEVENT
UID:0x91@192.168.245.71:3006
SEQUENCE:0
DTSTAMP:20260420T230828Z
DTSTART:20260328T050000Z
DTEND:20260328T064000Z
SUMMARY:Элективная физическая культура и спорт
LOCATION:СК Спортивный зал
END:VEVENT
BEGIN:VEVENT
UID:yqzl@192.168.245.71:3006
SEQUENCE:0
DTSTAMP:20260420T230828Z
DTSTART:20260328T070000Z
DTEND:20260328T084000Z
SUMMARY:Математический анализ
LOCATION:ГЗ 122
END:VEVENT
BEGIN:VEVENT
UID:4iar@192.168.245.71:3006
SEQUENCE:0
DTSTAMP:20260420T230828Z
DTSTART:20260328T090000Z
DTEND:20260328T104000Z
SUMMARY:История России
LOCATION:1 к. 423
END:VEVENT
BEGIN:VEVENT
UID:kr57@192.168.245.71:3006
SEQUENCE:0
DTSTAMP:20260420T230828Z
DTSTART:20260328T130000Z
DTEND:20260328T150000Z
SUMMARY:Иностранный язык: Базовый курс
LOCATION:ГЗ 224
END:VEVENT
END:VCALENDAR