BEGIN:VCALENDAR
VERSION:2.0
PRODID:-//spbstu.ru//ical//RU
NAME:Расписание группы 4931104/50002
X-WR-CALNAME:Расписание группы 4931104/50002
TIMEZONE-ID:Europe/Moscow
X-WR-TIMEZONE:Europe/Moscow
BEGIN:VEVENT
UID:umzs@192.168.245.71:3006
SEQUENCE:0
DTSTAMP:20260423T061121Z
DTSTART:20251020T050000Z
DTEND:20251020T064000Z
SUMMARY:Русский язык как иностранный
LOCATION:15 к. 705
END:VEVENT
BEGIN:VEVENT
UID:sqw0@192.168.245.71:3006
SEQUENCE:0
DTSTAMP:20260423T061121Z
DTSTART:20251020T090000Z
DTEND:20251020T104000Z
SUMMARY:Физика
LOCATION:ГЗ 155
END:VEVENT
BEGIN:VEVENT
UID:nap7@192.168.245.71:3006
SEQUENCE:0
DTSTAMP:20260423T061121Z
DTSTART:20251020T090000Z
DTEND:20251020T104000Z
SUMMARY:Физика
LOCATION:ГЗ 155
END:VEVENT
BEGIN:VEVENT
UID:f5oq@192.168.245.71:3006
SEQUENCE:0
DTSTAMP:20260423T061121Z
DTSTART:20251020T110000Z
DTEND:20251020T124000Z
SUMMARY:Основы цифровых технологий
LOCATION:2 к. 462
END:VEVENT
BEGIN:VEVENT
UID:1neb@192.168.245.71:3006
SEQUENCE:0
DTSTAMP:20260423T061121Z
DTSTART:20251020T130000Z
DTEND:20251020T144000Z
SUMMARY:Основы российской государственности
LOCATION:ГЗ 257
END:VEVENT
BEGIN:VEVENT
UID:fbd3@192.168.245.71:3006
SEQUENCE:0
DTSTAMP:20260423T061121Z
DTSTART:20251021T050000Z
DTEND:20251021T064000Z
SUMMARY:Русский язык как иностранный
LOCATION:15 к. 705
END:VEVENT
BEGIN:VEVENT
UID:wf6l@192.168.245.71:3006
SEQUENCE:0
DTSTAMP:20260423T061121Z
DTSTART:20251021T110000Z
DTEND:20251021T124000Z
SUMMARY:Физика
LOCATION:ГЗ 324
END:VEVENT
BEGIN:VEVENT
UID:uym5@192.168.245.71:3006
SEQUENCE:0
DTSTAMP:20260423T061121Z
DTSTART:20251021T130000Z
DTEND:20251021T144000Z
SUMMARY:Физика
LOCATION:2 к. 224
END:VEVENT
BEGIN:VEVENT
UID:llgy@192.168.245.71:3006
SEQUENCE:0
DTSTAMP:20260423T061121Z
DTSTART:20251022T070000Z
DTEND:20251022T084000Z
SUMMARY:Элективная физическая культура и спорт
LOCATION:СК Спортивный зал
END:VEVENT
BEGIN:VEVENT
UID:76n1@192.168.245.71:3006
SEQUENCE:0
DTSTAMP:20260423T061121Z
DTSTART:20251022T090000Z
DTEND:20251022T104000Z
SUMMARY:Математический анализ
LOCATION:ГЗ 329
END:VEVENT
BEGIN:VEVENT
UID:miso@192.168.245.71:3006
SEQUENCE:0
DTSTAMP:20260423T061121Z
DTSTART:20251022T110000Z
DTEND:20251022T124000Z
SUMMARY:Информатика
LOCATION:2 к. 462
END:VEVENT
BEGIN:VEVENT
UID:u0bv@192.168.245.71:3006
SEQUENCE:0
DTSTAMP:20260423T061121Z
DTSTART:20251022T130000Z
DTEND:20251022T144000Z
SUMMARY:Математический анализ
LOCATION:НИК В2.04
END:VEVENT
BEGIN:VEVENT
UID:bknt@192.168.245.71:3006
SEQUENCE:0
DTSTAMP:20260423T061121Z
DTSTART:20251022T150000Z
DTEND:20251022T164000Z
SUMMARY:Математический аппарат физики
LOCATION:ГЗ 305
END:VEVENT
BEGIN:VEVENT
UID:rsqn@192.168.245.71:3006
SEQUENCE:0
DTSTAMP:20260423T061121Z
DTSTART:20251023T050000Z
DTEND:20251023T064000Z
SUMMARY:Факультатив по математике
LOCATION:ГЗ 283
END:VEVENT
BEGIN:VEVENT
UID:yy0s@192.168.245.71:3006
SEQUENCE:0
DTSTAMP:20260423T061121Z
DTSTART:20251023T070000Z
DTEND:20251023T084000Z
SUMMARY:Информатика
LOCATION:2 к. 265
END:VEVENT
BEGIN:VEVENT
UID:leot@192.168.245.71:3006
SEQUENCE:0
DTSTAMP:20260423T061121Z
DTSTART:20251023T090000Z
DTEND:20251023T104000Z
SUMMARY:Физика
LOCATION:ГЗ 122
END:VEVENT
BEGIN:VEVENT
UID:ldm5@192.168.245.71:3006
SEQUENCE:0
DTSTAMP:20260423T061121Z
DTSTART:20251023T110000Z
DTEND:20251023T124000Z
SUMMARY:Линейная алгебра и аналитическая геометрия
LOCATION:ГЗ 210
END:VEVENT
BEGIN:VEVENT
UID:5j6b@192.168.245.71:3006
SEQUENCE:0
DTSTAMP:20260423T061121Z
DTSTART:20251023T130000Z
DTEND:20251023T144000Z
SUMMARY:Основы российской государственности
LOCATION:1 к. 423
END:VEVENT
BEGIN:VEVENT
UID:77z2@192.168.245.71:3006
SEQUENCE:0
DTSTAMP:20260423T061121Z
DTSTART:20251024T050000Z
DTEND:20251024T064000Z
SUMMARY:Иностранный язык: Русский язык как иностранный
LOCATION:3 к. 503
END:VEVENT
BEGIN:VEVENT
UID:glqc@192.168.245.71:3006
SEQUENCE:0
DTSTAMP:20260423T061121Z
DTSTART:20251024T070000Z
DTEND:20251024T084000Z
SUMMARY:Иностранный язык: Базовый курс
LOCATION:2 к. 352
END:VEVENT
BEGIN:VEVENT
UID:sa9j@192.168.245.71:3006
SEQUENCE:0
DTSTAMP:20260423T061121Z
DTSTART:20251024T090000Z
DTEND:20251024T104000Z
SUMMARY:Линейная алгебра и аналитическая геометрия
LOCATION:ГЗ 305
END:VEVENT
BEGIN:VEVENT
UID:1pnu@192.168.245.71:3006
SEQUENCE:0
DTSTAMP:20260423T061121Z
DTSTART:20251024T110000Z
DTEND:20251024T124000Z
SUMMARY:Физика
LOCATION:2 к. 459
END:VEVENT
BEGIN:VEVENT
UID:lb1h@192.168.245.71:3006
SEQUENCE:0
DTSTAMP:20260423T061121Z
DTSTART:20251024T130000Z
DTEND:20251024T144000Z
SUMMARY:Творческие семестры
LOCATION:ГЗ Белый зал
END:VEVENT
BEGIN:VEVENT
UID:r57y@192.168.245.71:3006
SEQUENCE:0
DTSTAMP:20260423T061121Z
DTSTART:20251024T150000Z
DTEND:20251024T164000Z
SUMMARY:Факультатив по физике
LOCATION:2 к. 224
END:VEVENT
BEGIN:VEVENT
UID:ivro@192.168.245.71:3006
SEQUENCE:0
DTSTAMP:20260423T061121Z
DTSTART:20251025T050000Z
DTEND:20251025T064000Z
SUMMARY:Элективная физическая культура и спорт
LOCATION:СК Спортивный зал
END:VEVENT
BEGIN:VEVENT
UID:i1qy@192.168.245.71:3006
SEQUENCE:0
DTSTAMP:20260423T061121Z
DTSTART:20251025T070000Z
DTEND:20251025T084000Z
SUMMARY:Математический анализ
LOCATION:ГЗ 257
END:VEVENT
BEGIN:VEVENT
UID:6kuc@192.168.245.71:3006
SEQUENCE:0
DTSTAMP:20260423T061121Z
DTSTART:20251025T110000Z
DTEND:20251025T124000Z
SUMMARY:Иностранный язык: Русский язык как иностранный
LOCATION:3 к. 211
END:VEVENT
END:VCALENDAR