BEGIN:VCALENDAR
VERSION:2.0
PRODID:-//spbstu.ru//ical//RU
NAME:Расписание группы 4931104/50002
X-WR-CALNAME:Расписание группы 4931104/50002
TIMEZONE-ID:Europe/Moscow
X-WR-TIMEZONE:Europe/Moscow
BEGIN:VEVENT
UID:m2lq@192.168.245.71:3006
SEQUENCE:0
DTSTAMP:20260422T024121Z
DTSTART:20251222T070000Z
DTEND:20251222T100000Z
SUMMARY:Физика
LOCATION:ГЗ 155
END:VEVENT
BEGIN:VEVENT
UID:ie73@192.168.245.71:3006
SEQUENCE:0
DTSTAMP:20260422T024121Z
DTSTART:20251222T070000Z
DTEND:20251222T100000Z
SUMMARY:Физика
LOCATION:ГЗ 155
END:VEVENT
BEGIN:VEVENT
UID:l5lc@192.168.245.71:3006
SEQUENCE:0
DTSTAMP:20260422T024121Z
DTSTART:20251223T070000Z
DTEND:20251223T083000Z
SUMMARY:Линейная алгебра и аналитическая геометрия
LOCATION:ГЗ 226
END:VEVENT
BEGIN:VEVENT
UID:7fuc@192.168.245.71:3006
SEQUENCE:0
DTSTAMP:20260422T024121Z
DTSTART:20251223T110000Z
DTEND:20251223T140000Z
SUMMARY:Основы цифровых технологий
LOCATION:2 к. 462
END:VEVENT
BEGIN:VEVENT
UID:jy4s@192.168.245.71:3006
SEQUENCE:0
DTSTAMP:20260422T024121Z
DTSTART:20251224T070000Z
DTEND:20251224T074500Z
SUMMARY:Информатика
LOCATION:2 к. 470
END:VEVENT
BEGIN:VEVENT
UID:9m1b@192.168.245.71:3006
SEQUENCE:0
DTSTAMP:20260422T024121Z
DTSTART:20251225T110000Z
DTEND:20251225T140000Z
SUMMARY:Информатика
LOCATION:2 к. 458
END:VEVENT
BEGIN:VEVENT
UID:0ihw@192.168.245.71:3006
SEQUENCE:0
DTSTAMP:20260422T024121Z
DTSTART:20251226T070000Z
DTEND:20251226T100000Z
SUMMARY:Основы российской государственности
LOCATION:1 к. 423
END:VEVENT
BEGIN:VEVENT
UID:rw2s@192.168.245.71:3006
SEQUENCE:0
DTSTAMP:20260422T024121Z
DTSTART:20251226T110000Z
DTEND:20251226T140000Z
SUMMARY:Иностранный язык: Базовый курс
LOCATION:2 к. 346
END:VEVENT
BEGIN:VEVENT
UID:084d@192.168.245.71:3006
SEQUENCE:0
DTSTAMP:20260422T024121Z
DTSTART:20251227T090000Z
DTEND:20251227T110000Z
SUMMARY:Физическая культура
LOCATION:ГЗ 283
END:VEVENT
END:VCALENDAR