BEGIN:VCALENDAR
VERSION:2.0
PRODID:-//spbstu.ru//ical//RU
NAME:Расписание группы 4931104/50002
X-WR-CALNAME:Расписание группы 4931104/50002
TIMEZONE-ID:Europe/Moscow
X-WR-TIMEZONE:Europe/Moscow
BEGIN:VEVENT
UID:zeqx@192.168.245.71:3006
SEQUENCE:0
DTSTAMP:20260421T155743Z
DTSTART:20260112T110000Z
DTEND:20260112T114500Z
SUMMARY:Математический анализ
LOCATION:НИК В2.02
END:VEVENT
BEGIN:VEVENT
UID:b7kl@192.168.245.71:3006
SEQUENCE:0
DTSTAMP:20260421T155743Z
DTSTART:20260114T070000Z
DTEND:20260114T130000Z
SUMMARY:Математический анализ
LOCATION:НИК В2.02
END:VEVENT
END:VCALENDAR