BEGIN:VCALENDAR
VERSION:2.0
PRODID:-//spbstu.ru//ical//RU
NAME:Расписание группы 4931104/50002
X-WR-CALNAME:Расписание группы 4931104/50002
TIMEZONE-ID:Europe/Moscow
X-WR-TIMEZONE:Europe/Moscow
BEGIN:VEVENT
UID:ur6v@192.168.245.71:3006
SEQUENCE:0
DTSTAMP:20260421T093934Z
DTSTART:20260209T070000Z
DTEND:20260209T084000Z
SUMMARY:Инженерная и компьютерная графика
LOCATION:2 к. 462
END:VEVENT
BEGIN:VEVENT
UID:ylva@192.168.245.71:3006
SEQUENCE:0
DTSTAMP:20260421T093934Z
DTSTART:20260209T090000Z
DTEND:20260209T104000Z
SUMMARY:Математический анализ
LOCATION:НИК В2.04
END:VEVENT
BEGIN:VEVENT
UID:f3yz@192.168.245.71:3006
SEQUENCE:0
DTSTAMP:20260421T093934Z
DTSTART:20260209T110000Z
DTEND:20260209T124000Z
SUMMARY:Линейная алгебра и аналитическая геометрия
LOCATION:ГЗ 257
END:VEVENT
BEGIN:VEVENT
UID:viz4@192.168.245.71:3006
SEQUENCE:0
DTSTAMP:20260421T093934Z
DTSTART:20260209T130000Z
DTEND:20260209T144000Z
SUMMARY:Введение в профессиональную деятельность
LOCATION:2 к. 470
END:VEVENT
BEGIN:VEVENT
UID:nk3d@192.168.245.71:3006
SEQUENCE:0
DTSTAMP:20260421T093934Z
DTSTART:20260210T070000Z
DTEND:20260210T084000Z
SUMMARY:История России
LOCATION:1 к. 423
END:VEVENT
BEGIN:VEVENT
UID:vtjz@192.168.245.71:3006
SEQUENCE:0
DTSTAMP:20260421T093934Z
DTSTART:20260210T090000Z
DTEND:20260210T104000Z
SUMMARY:Физика
LOCATION:ГЗ 178
END:VEVENT
BEGIN:VEVENT
UID:w27g@192.168.245.71:3006
SEQUENCE:0
DTSTAMP:20260421T093934Z
DTSTART:20260210T110000Z
DTEND:20260210T124000Z
SUMMARY:Математический анализ
LOCATION:ГЗ 257
END:VEVENT
BEGIN:VEVENT
UID:stkq@192.168.245.71:3006
SEQUENCE:0
DTSTAMP:20260421T093934Z
DTSTART:20260210T130000Z
DTEND:20260210T144000Z
SUMMARY:Инженерная и компьютерная графика
LOCATION:2 к. 466
END:VEVENT
BEGIN:VEVENT
UID:ktcn@192.168.245.71:3006
SEQUENCE:0
DTSTAMP:20260421T093934Z
DTSTART:20260210T150000Z
DTEND:20260210T170000Z
SUMMARY:Математический анализ
LOCATION:ГЗ 283
END:VEVENT
BEGIN:VEVENT
UID:p1bp@192.168.245.71:3006
SEQUENCE:0
DTSTAMP:20260421T093934Z
DTSTART:20260210T150000Z
DTEND:20260210T170000Z
SUMMARY:Математический анализ
LOCATION:ГЗ 283
END:VEVENT
BEGIN:VEVENT
UID:e7lz@192.168.245.71:3006
SEQUENCE:0
DTSTAMP:20260421T093934Z
DTSTART:20260211T050000Z
DTEND:20260211T064000Z
SUMMARY:Иностранный язык: Русский язык как иностранный
LOCATION:НИК В2.18
END:VEVENT
BEGIN:VEVENT
UID:n8yi@192.168.245.71:3006
SEQUENCE:0
DTSTAMP:20260421T093934Z
DTSTART:20260211T070000Z
DTEND:20260211T084000Z
SUMMARY:Элективная физическая культура и спорт
LOCATION:СК Спортивный зал
END:VEVENT
BEGIN:VEVENT
UID:rsh6@192.168.245.71:3006
SEQUENCE:0
DTSTAMP:20260421T093934Z
DTSTART:20260211T090000Z
DTEND:20260211T104000Z
SUMMARY:Физика
LOCATION:ГЗ 324
END:VEVENT
BEGIN:VEVENT
UID:fpla@192.168.245.71:3006
SEQUENCE:0
DTSTAMP:20260421T093934Z
DTSTART:20260211T110000Z
DTEND:20260211T124000Z
SUMMARY:Философия
LOCATION:НИК В2.04
END:VEVENT
BEGIN:VEVENT
UID:kscr@192.168.245.71:3006
SEQUENCE:0
DTSTAMP:20260421T093934Z
DTSTART:20260211T130000Z
DTEND:20260211T144000Z
SUMMARY:Математический аппарат физики
LOCATION:ГЗ 305
END:VEVENT
BEGIN:VEVENT
UID:dglf@192.168.245.71:3006
SEQUENCE:0
DTSTAMP:20260421T093934Z
DTSTART:20260211T150000Z
DTEND:20260211T170000Z
SUMMARY:Экономическая культура
LOCATION:2 к. 224
END:VEVENT
BEGIN:VEVENT
UID:gl1s@192.168.245.71:3006
SEQUENCE:0
DTSTAMP:20260421T093934Z
DTSTART:20260212T050000Z
DTEND:20260212T064000Z
SUMMARY:Иностранный язык: Русский язык как иностранный
LOCATION:НИК В2.18
END:VEVENT
BEGIN:VEVENT
UID:2pfo@192.168.245.71:3006
SEQUENCE:0
DTSTAMP:20260421T093934Z
DTSTART:20260212T070000Z
DTEND:20260212T084000Z
SUMMARY:Информатика
LOCATION:ГЗ 324
END:VEVENT
BEGIN:VEVENT
UID:w62u@192.168.245.71:3006
SEQUENCE:0
DTSTAMP:20260421T093934Z
DTSTART:20260212T090000Z
DTEND:20260212T104000Z
SUMMARY:Линейная алгебра и аналитическая геометрия
LOCATION:ГЗ 218
END:VEVENT
BEGIN:VEVENT
UID:832k@192.168.245.71:3006
SEQUENCE:0
DTSTAMP:20260421T093934Z
DTSTART:20260212T110000Z
DTEND:20260212T124000Z
SUMMARY:Физика
LOCATION:ГЗ 186 А
END:VEVENT
BEGIN:VEVENT
UID:z8a3@192.168.245.71:3006
SEQUENCE:0
DTSTAMP:20260421T093934Z
DTSTART:20260212T110000Z
DTEND:20260212T124000Z
SUMMARY:Физика
LOCATION:ГЗ 186 А
END:VEVENT
BEGIN:VEVENT
UID:5gfo@192.168.245.71:3006
SEQUENCE:0
DTSTAMP:20260421T093934Z
DTSTART:20260213T050000Z
DTEND:20260213T064000Z
SUMMARY:Факультатив по математике
LOCATION:ГЗ 224
END:VEVENT
BEGIN:VEVENT
UID:tvx7@192.168.245.71:3006
SEQUENCE:0
DTSTAMP:20260421T093934Z
DTSTART:20260213T090000Z
DTEND:20260213T104000Z
SUMMARY:Информатика
LOCATION:2 к. 462
END:VEVENT
BEGIN:VEVENT
UID:0f1g@192.168.245.71:3006
SEQUENCE:0
DTSTAMP:20260421T093934Z
DTSTART:20260213T110000Z
DTEND:20260213T124000Z
SUMMARY:Физика
LOCATION:ГЗ 324
END:VEVENT
BEGIN:VEVENT
UID:4ycd@192.168.245.71:3006
SEQUENCE:0
DTSTAMP:20260421T093934Z
DTSTART:20260213T130000Z
DTEND:20260213T144000Z
SUMMARY:Философия
LOCATION:ГЗ 215
END:VEVENT
BEGIN:VEVENT
UID:fq0w@192.168.245.71:3006
SEQUENCE:0
DTSTAMP:20260421T093934Z
DTSTART:20260213T150000Z
DTEND:20260213T170000Z
SUMMARY:Информатика
LOCATION:2 к. 462
END:VEVENT
BEGIN:VEVENT
UID:j8xm@192.168.245.71:3006
SEQUENCE:0
DTSTAMP:20260421T093934Z
DTSTART:20260213T150000Z
DTEND:20260213T170000Z
SUMMARY:Информатика
LOCATION:2 к. 462
END:VEVENT
BEGIN:VEVENT
UID:3y03@192.168.245.71:3006
SEQUENCE:0
DTSTAMP:20260421T093934Z
DTSTART:20260214T050000Z
DTEND:20260214T064000Z
SUMMARY:Элективная физическая культура и спорт
LOCATION:СК Спортивный зал
END:VEVENT
BEGIN:VEVENT
UID:3r8o@192.168.245.71:3006
SEQUENCE:0
DTSTAMP:20260421T093934Z
DTSTART:20260214T070000Z
DTEND:20260214T084000Z
SUMMARY:Математический анализ
LOCATION:ГЗ 122
END:VEVENT
BEGIN:VEVENT
UID:mlyn@192.168.245.71:3006
SEQUENCE:0
DTSTAMP:20260421T093934Z
DTSTART:20260214T090000Z
DTEND:20260214T104000Z
SUMMARY:Иностранный язык: Базовый курс
LOCATION:НИК В2.04
END:VEVENT
END:VCALENDAR