BEGIN:VCALENDAR
VERSION:2.0
PRODID:-//spbstu.ru//ical//RU
NAME:Расписание группы 4931601/50001
X-WR-CALNAME:Расписание группы 4931601/50001
TIMEZONE-ID:Europe/Moscow
X-WR-TIMEZONE:Europe/Moscow
BEGIN:VEVENT
UID:fbmi@192.168.245.71:3006
SEQUENCE:0
DTSTAMP:20260421T051613Z
DTSTART:20260420T090000Z
DTEND:20260420T104000Z
SUMMARY:История России
LOCATION:1 к. 423
END:VEVENT
BEGIN:VEVENT
UID:q03e@192.168.245.71:3006
SEQUENCE:0
DTSTAMP:20260421T051613Z
DTSTART:20260420T110000Z
DTEND:20260420T124000Z
SUMMARY:Линейная алгебра и аналитическая геометрия
LOCATION:ГЗ 257
END:VEVENT
BEGIN:VEVENT
UID:ivtw@192.168.245.71:3006
SEQUENCE:0
DTSTAMP:20260421T051613Z
DTSTART:20260421T070000Z
DTEND:20260421T084000Z
SUMMARY:Информатика
LOCATION:2 к. 416
END:VEVENT
BEGIN:VEVENT
UID:bucm@192.168.245.71:3006
SEQUENCE:0
DTSTAMP:20260421T051613Z
DTSTART:20260421T070000Z
DTEND:20260421T084000Z
SUMMARY:Инженерная и компьютерная графика
LOCATION:2 к. 443
END:VEVENT
BEGIN:VEVENT
UID:b5d4@192.168.245.71:3006
SEQUENCE:0
DTSTAMP:20260421T051613Z
DTSTART:20260421T090000Z
DTEND:20260421T104000Z
SUMMARY:Физика
LOCATION:ГЗ 180
END:VEVENT
BEGIN:VEVENT
UID:3mfa@192.168.245.71:3006
SEQUENCE:0
DTSTAMP:20260421T051613Z
DTSTART:20260421T110000Z
DTEND:20260421T124000Z
SUMMARY:Математический анализ
LOCATION:ГЗ 257
END:VEVENT
BEGIN:VEVENT
UID:xgur@192.168.245.71:3006
SEQUENCE:0
DTSTAMP:20260421T051613Z
DTSTART:20260421T130000Z
DTEND:20260421T144000Z
SUMMARY:Иностранный язык: Базовый курс
LOCATION:2 к. 352
END:VEVENT
BEGIN:VEVENT
UID:nej0@192.168.245.71:3006
SEQUENCE:0
DTSTAMP:20260421T051613Z
DTSTART:20260422T050000Z
DTEND:20260422T064000Z
SUMMARY:Иностранный язык: Русский язык как иностранный
LOCATION:НИК В2.18
END:VEVENT
BEGIN:VEVENT
UID:9qqg@192.168.245.71:3006
SEQUENCE:0
DTSTAMP:20260421T051613Z
DTSTART:20260422T070000Z
DTEND:20260422T084000Z
SUMMARY:Элективная физическая культура и спорт
LOCATION:СК Спортивный зал
END:VEVENT
BEGIN:VEVENT
UID:4ehr@192.168.245.71:3006
SEQUENCE:0
DTSTAMP:20260421T051613Z
DTSTART:20260422T090000Z
DTEND:20260422T104000Z
SUMMARY:Физика
LOCATION:ГЗ 324
END:VEVENT
BEGIN:VEVENT
UID:kihe@192.168.245.71:3006
SEQUENCE:0
DTSTAMP:20260421T051613Z
DTSTART:20260422T110000Z
DTEND:20260422T124000Z
SUMMARY:Физика
LOCATION:ГЗ 186 А
END:VEVENT
BEGIN:VEVENT
UID:5ikv@192.168.245.71:3006
SEQUENCE:0
DTSTAMP:20260421T051613Z
DTSTART:20260422T110000Z
DTEND:20260422T124000Z
SUMMARY:Физика
LOCATION:ГЗ 186 А
END:VEVENT
BEGIN:VEVENT
UID:tumb@192.168.245.71:3006
SEQUENCE:0
DTSTAMP:20260421T051613Z
DTSTART:20260422T130000Z
DTEND:20260422T144000Z
SUMMARY:Математический аппарат физики
LOCATION:ГЗ 305
END:VEVENT
BEGIN:VEVENT
UID:ly5l@192.168.245.71:3006
SEQUENCE:0
DTSTAMP:20260421T051613Z
DTSTART:20260423T050000Z
DTEND:20260423T064000Z
SUMMARY:Иностранный язык: Русский язык как иностранный
LOCATION:НИК В2.18
END:VEVENT
BEGIN:VEVENT
UID:x0hj@192.168.245.71:3006
SEQUENCE:0
DTSTAMP:20260421T051613Z
DTSTART:20260423T070000Z
DTEND:20260423T084000Z
SUMMARY:Информатика
LOCATION:ГЗ 324
END:VEVENT
BEGIN:VEVENT
UID:7dao@192.168.245.71:3006
SEQUENCE:0
DTSTAMP:20260421T051613Z
DTSTART:20260423T090000Z
DTEND:20260423T104000Z
SUMMARY:Линейная алгебра и аналитическая геометрия
LOCATION:2 к. 224
END:VEVENT
BEGIN:VEVENT
UID:oea7@192.168.245.71:3006
SEQUENCE:0
DTSTAMP:20260421T051613Z
DTSTART:20260423T110000Z
DTEND:20260423T124000Z
SUMMARY:Инженерная и компьютерная графика
LOCATION:2 к. 443
END:VEVENT
BEGIN:VEVENT
UID:6jvt@192.168.245.71:3006
SEQUENCE:0
DTSTAMP:20260421T051613Z
DTSTART:20260423T110000Z
DTEND:20260423T124000Z
SUMMARY:Информатика
LOCATION:2 к. 416
END:VEVENT
BEGIN:VEVENT
UID:zztz@192.168.245.71:3006
SEQUENCE:0
DTSTAMP:20260421T051613Z
DTSTART:20260423T130000Z
DTEND:20260423T150000Z
SUMMARY:Линейная алгебра и аналитическая геометрия
LOCATION:2 к. 431
END:VEVENT
BEGIN:VEVENT
UID:jhk9@192.168.245.71:3006
SEQUENCE:0
DTSTAMP:20260421T051613Z
DTSTART:20260424T050000Z
DTEND:20260424T064000Z
SUMMARY:Факультатив по математике
LOCATION:ГЗ 224
END:VEVENT
BEGIN:VEVENT
UID:u0l2@192.168.245.71:3006
SEQUENCE:0
DTSTAMP:20260421T051613Z
DTSTART:20260424T070000Z
DTEND:20260424T084000Z
SUMMARY:Физика
LOCATION:ГЗ 181
END:VEVENT
BEGIN:VEVENT
UID:n6h7@192.168.245.71:3006
SEQUENCE:0
DTSTAMP:20260421T051613Z
DTSTART:20260424T090000Z
DTEND:20260424T104000Z
SUMMARY:Математический анализ
LOCATION:ГЗ 211
END:VEVENT
BEGIN:VEVENT
UID:rgaw@192.168.245.71:3006
SEQUENCE:0
DTSTAMP:20260421T051613Z
DTSTART:20260424T110000Z
DTEND:20260424T124000Z
SUMMARY:Физика
LOCATION:ГЗ 324
END:VEVENT
BEGIN:VEVENT
UID:ohs0@192.168.245.71:3006
SEQUENCE:0
DTSTAMP:20260421T051613Z
DTSTART:20260425T050000Z
DTEND:20260425T064000Z
SUMMARY:Элективная физическая культура и спорт
LOCATION:СК Спортивный зал
END:VEVENT
BEGIN:VEVENT
UID:otfl@192.168.245.71:3006
SEQUENCE:0
DTSTAMP:20260421T051613Z
DTSTART:20260425T070000Z
DTEND:20260425T084000Z
SUMMARY:Математический анализ
LOCATION:ГЗ 122
END:VEVENT
END:VCALENDAR