BEGIN:VCALENDAR
VERSION:2.0
PRODID:-//spbstu.ru//ical//RU
NAME:Расписание группы 4931601/50002
X-WR-CALNAME:Расписание группы 4931601/50002
TIMEZONE-ID:Europe/Moscow
X-WR-TIMEZONE:Europe/Moscow
BEGIN:VEVENT
UID:8aw3@192.168.245.71:3006
SEQUENCE:0
DTSTAMP:20260425T134852Z
DTSTART:20251201T070000Z
DTEND:20251201T084000Z
SUMMARY:Основы российской государственности
LOCATION:НИК В2.02
END:VEVENT
BEGIN:VEVENT
UID:6b3b@192.168.245.71:3006
SEQUENCE:0
DTSTAMP:20260425T134852Z
DTSTART:20251201T110000Z
DTEND:20251201T124000Z
SUMMARY:Физика
LOCATION:ГЗ 155
END:VEVENT
BEGIN:VEVENT
UID:sr03@192.168.245.71:3006
SEQUENCE:0
DTSTAMP:20260425T134852Z
DTSTART:20251201T110000Z
DTEND:20251201T124000Z
SUMMARY:Физика
LOCATION:ГЗ 155
END:VEVENT
BEGIN:VEVENT
UID:up94@192.168.245.71:3006
SEQUENCE:0
DTSTAMP:20260425T134852Z
DTSTART:20251201T130000Z
DTEND:20251201T144000Z
SUMMARY:Основы российской государственности
LOCATION:ГЗ 257
END:VEVENT
BEGIN:VEVENT
UID:ordi@192.168.245.71:3006
SEQUENCE:0
DTSTAMP:20260425T134852Z
DTSTART:20251202T070000Z
DTEND:20251202T084000Z
SUMMARY:Информатика
LOCATION:2 к. 416
END:VEVENT
BEGIN:VEVENT
UID:xzkl@192.168.245.71:3006
SEQUENCE:0
DTSTAMP:20260425T134852Z
DTSTART:20251202T090000Z
DTEND:20251202T104000Z
SUMMARY:Линейная алгебра и аналитическая геометрия
LOCATION:ГЗ 256
END:VEVENT
BEGIN:VEVENT
UID:uyjr@192.168.245.71:3006
SEQUENCE:0
DTSTAMP:20260425T134852Z
DTSTART:20251202T110000Z
DTEND:20251202T124000Z
SUMMARY:Физика
LOCATION:ГЗ 324
END:VEVENT
BEGIN:VEVENT
UID:rx54@192.168.245.71:3006
SEQUENCE:0
DTSTAMP:20260425T134852Z
DTSTART:20251202T130000Z
DTEND:20251202T144000Z
SUMMARY:Физика
LOCATION:ГЗ 222
END:VEVENT
BEGIN:VEVENT
UID:0pl5@192.168.245.71:3006
SEQUENCE:0
DTSTAMP:20260425T134852Z
DTSTART:20251203T070000Z
DTEND:20251203T084000Z
SUMMARY:Элективная физическая культура и спорт
LOCATION:СК Спортивный зал
END:VEVENT
BEGIN:VEVENT
UID:qh7f@192.168.245.71:3006
SEQUENCE:0
DTSTAMP:20260425T134852Z
DTSTART:20251203T090000Z
DTEND:20251203T104000Z
SUMMARY:Математический анализ
LOCATION:ГЗ 329
END:VEVENT
BEGIN:VEVENT
UID:ldun@192.168.245.71:3006
SEQUENCE:0
DTSTAMP:20260425T134852Z
DTSTART:20251203T110000Z
DTEND:20251203T124000Z
SUMMARY:Информатика
LOCATION:2 к. 416
END:VEVENT
BEGIN:VEVENT
UID:jebq@192.168.245.71:3006
SEQUENCE:0
DTSTAMP:20260425T134852Z
DTSTART:20251203T150000Z
DTEND:20251203T164000Z
SUMMARY:Математический аппарат физики
LOCATION:ГЗ 305
END:VEVENT
BEGIN:VEVENT
UID:zrl3@192.168.245.71:3006
SEQUENCE:0
DTSTAMP:20260425T134852Z
DTSTART:20251204T070000Z
DTEND:20251204T084000Z
SUMMARY:Информатика
LOCATION:2 к. 265
END:VEVENT
BEGIN:VEVENT
UID:dd64@192.168.245.71:3006
SEQUENCE:0
DTSTAMP:20260425T134852Z
DTSTART:20251204T090000Z
DTEND:20251204T104000Z
SUMMARY:Физика
LOCATION:ГЗ 257
END:VEVENT
BEGIN:VEVENT
UID:c8v4@192.168.245.71:3006
SEQUENCE:0
DTSTAMP:20260425T134852Z
DTSTART:20251204T110000Z
DTEND:20251204T124000Z
SUMMARY:Иностранный язык: Базовый курс
LOCATION:2 к. 352
END:VEVENT
BEGIN:VEVENT
UID:x92y@192.168.245.71:3006
SEQUENCE:0
DTSTAMP:20260425T134852Z
DTSTART:20251204T130000Z
DTEND:20251204T144000Z
SUMMARY:Основы цифровых технологий
LOCATION:2 к. 416
END:VEVENT
BEGIN:VEVENT
UID:50a8@192.168.245.71:3006
SEQUENCE:0
DTSTAMP:20260425T134852Z
DTSTART:20251205T070000Z
DTEND:20251205T084000Z
SUMMARY:Физика
LOCATION:ГЗ 208
END:VEVENT
BEGIN:VEVENT
UID:0kgp@192.168.245.71:3006
SEQUENCE:0
DTSTAMP:20260425T134852Z
DTSTART:20251205T090000Z
DTEND:20251205T104000Z
SUMMARY:Линейная алгебра и аналитическая геометрия
LOCATION:ГЗ 305
END:VEVENT
BEGIN:VEVENT
UID:cc2v@192.168.245.71:3006
SEQUENCE:0
DTSTAMP:20260425T134852Z
DTSTART:20251205T110000Z
DTEND:20251205T124000Z
SUMMARY:Экономическая культура
LOCATION:ГЗ 211
END:VEVENT
BEGIN:VEVENT
UID:9tl6@192.168.245.71:3006
SEQUENCE:0
DTSTAMP:20260425T134852Z
DTSTART:20251205T130000Z
DTEND:20251205T144000Z
SUMMARY:Творческие семестры
LOCATION:ГЗ Белый зал
END:VEVENT
BEGIN:VEVENT
UID:grz5@192.168.245.71:3006
SEQUENCE:0
DTSTAMP:20260425T134852Z
DTSTART:20251205T150000Z
DTEND:20251205T164000Z
SUMMARY:Факультатив по физике
LOCATION:2 к. 224
END:VEVENT
BEGIN:VEVENT
UID:mvf7@192.168.245.71:3006
SEQUENCE:0
DTSTAMP:20260425T134852Z
DTSTART:20251206T050000Z
DTEND:20251206T064000Z
SUMMARY:Элективная физическая культура и спорт
LOCATION:СК Спортивный зал
END:VEVENT
BEGIN:VEVENT
UID:spkd@192.168.245.71:3006
SEQUENCE:0
DTSTAMP:20260425T134852Z
DTSTART:20251206T070000Z
DTEND:20251206T084000Z
SUMMARY:Математический анализ
LOCATION:ГЗ 257
END:VEVENT
END:VCALENDAR