BEGIN:VCALENDAR
VERSION:2.0
PRODID:-//spbstu.ru//ical//RU
NAME:Расписание группы 4941101/50301
X-WR-CALNAME:Расписание группы 4941101/50301
TIMEZONE-ID:Europe/Moscow
X-WR-TIMEZONE:Europe/Moscow
BEGIN:VEVENT
UID:r7h3@192.168.245.71:3006
SEQUENCE:0
DTSTAMP:20260422T171614Z
DTSTART:20251209T090000Z
DTEND:20251209T104000Z
SUMMARY:Специальные вопросы теории антенн
LOCATION:2 к. 234
END:VEVENT
BEGIN:VEVENT
UID:zeke@192.168.245.71:3006
SEQUENCE:0
DTSTAMP:20260422T171614Z
DTSTART:20251210T090000Z
DTEND:20251210T104000Z
SUMMARY:Иностранный язык в профессиональной коммуникации\, Английский
LOCATION:2 к. 443
END:VEVENT
BEGIN:VEVENT
UID:yrhk@192.168.245.71:3006
SEQUENCE:0
DTSTAMP:20260422T171614Z
DTSTART:20251210T110000Z
DTEND:20251210T124000Z
SUMMARY:Статистическая радиофизика
LOCATION:2 к. 257
END:VEVENT
BEGIN:VEVENT
UID:n3o6@192.168.245.71:3006
SEQUENCE:0
DTSTAMP:20260422T171614Z
DTSTART:20251210T130000Z
DTEND:20251210T144000Z
SUMMARY:Электродинамика анизотропных и бианизотропных материалов
LOCATION:2 к. 257
END:VEVENT
BEGIN:VEVENT
UID:7fg0@192.168.245.71:3006
SEQUENCE:0
DTSTAMP:20260422T171614Z
DTSTART:20251210T150000Z
DTEND:20251210T160000Z
SUMMARY:Электродинамика анизотропных и бианизотропных материалов
LOCATION:2 к. 257
END:VEVENT
BEGIN:VEVENT
UID:zqk6@192.168.245.71:3006
SEQUENCE:0
DTSTAMP:20260422T171614Z
DTSTART:20251211T070000Z
DTEND:20251211T084000Z
SUMMARY:Электродинамика анизотропных и бианизотропных материалов
LOCATION:2 к. 257
END:VEVENT
BEGIN:VEVENT
UID:s2j9@192.168.245.71:3006
SEQUENCE:0
DTSTAMP:20260422T171614Z
DTSTART:20251211T090000Z
DTEND:20251211T104000Z
SUMMARY:Специальные вопросы теории антенн
LOCATION:2 к. 257
END:VEVENT
BEGIN:VEVENT
UID:6bnh@192.168.245.71:3006
SEQUENCE:0
DTSTAMP:20260422T171614Z
DTSTART:20251211T110000Z
DTEND:20251211T124000Z
SUMMARY:Специальные вопросы распространения радиоволн
LOCATION:2 к. 257
END:VEVENT
BEGIN:VEVENT
UID:rbdz@192.168.245.71:3006
SEQUENCE:0
DTSTAMP:20260422T171614Z
DTSTART:20251211T130000Z
DTEND:20251211T144000Z
SUMMARY:Специальные вопросы распространения радиоволн
LOCATION:2 к. 257
END:VEVENT
END:VCALENDAR