BEGIN:VCALENDAR
VERSION:2.0
PRODID:-//spbstu.ru//ical//RU
NAME:Расписание группы 4941101/50301
X-WR-CALNAME:Расписание группы 4941101/50301
TIMEZONE-ID:Europe/Moscow
X-WR-TIMEZONE:Europe/Moscow
BEGIN:VEVENT
UID:zgot@192.168.245.71:3006
SEQUENCE:0
DTSTAMP:20260424T021555Z
DTSTART:20250917T090000Z
DTEND:20250917T104000Z
SUMMARY:Иностранный язык в профессиональной коммуникации\, Английский
LOCATION:2 к. 443
END:VEVENT
BEGIN:VEVENT
UID:qme9@192.168.245.71:3006
SEQUENCE:0
DTSTAMP:20260424T021555Z
DTSTART:20250917T110000Z
DTEND:20250917T124000Z
SUMMARY:Статистическая радиофизика
LOCATION:2 к. 257
END:VEVENT
BEGIN:VEVENT
UID:6z8v@192.168.245.71:3006
SEQUENCE:0
DTSTAMP:20260424T021555Z
DTSTART:20250917T130000Z
DTEND:20250917T144000Z
SUMMARY:Электродинамика анизотропных и бианизотропных материалов
LOCATION:2 к. 257
END:VEVENT
BEGIN:VEVENT
UID:du7i@192.168.245.71:3006
SEQUENCE:0
DTSTAMP:20260424T021555Z
DTSTART:20250917T150000Z
DTEND:20250917T160000Z
SUMMARY:Электродинамика анизотропных и бианизотропных материалов
LOCATION:2 к. 257
END:VEVENT
BEGIN:VEVENT
UID:goir@192.168.245.71:3006
SEQUENCE:0
DTSTAMP:20260424T021555Z
DTSTART:20250918T090000Z
DTEND:20250918T104000Z
SUMMARY:Специальные вопросы теории антенн
LOCATION:2 к. 257
END:VEVENT
BEGIN:VEVENT
UID:5fum@192.168.245.71:3006
SEQUENCE:0
DTSTAMP:20260424T021555Z
DTSTART:20250918T110000Z
DTEND:20250918T124000Z
SUMMARY:Специальные вопросы распространения радиоволн
LOCATION:2 к. 257
END:VEVENT
BEGIN:VEVENT
UID:bl2y@192.168.245.71:3006
SEQUENCE:0
DTSTAMP:20260424T021555Z
DTSTART:20250918T130000Z
DTEND:20250918T144000Z
SUMMARY:Специальные вопросы распространения радиоволн
LOCATION:2 к. 257
END:VEVENT
END:VCALENDAR