BEGIN:VCALENDAR
VERSION:2.0
PRODID:-//spbstu.ru//ical//RU
NAME:Расписание группы 4941101/50401
X-WR-CALNAME:Расписание группы 4941101/50401
TIMEZONE-ID:Europe/Moscow
X-WR-TIMEZONE:Europe/Moscow
BEGIN:VEVENT
UID:npxy@192.168.245.71:3006
SEQUENCE:0
DTSTAMP:20260424T155750Z
DTSTART:20250910T070000Z
DTEND:20250910T084000Z
SUMMARY:Цифровые ресурсы в научном исследовании
LOCATION:2 к. 249
END:VEVENT
BEGIN:VEVENT
UID:8vep@192.168.245.71:3006
SEQUENCE:0
DTSTAMP:20260424T155750Z
DTSTART:20250910T090000Z
DTEND:20250910T104000Z
SUMMARY:Сетевые информационные технологии
LOCATION:НИК В2.03
END:VEVENT
BEGIN:VEVENT
UID:gu8d@192.168.245.71:3006
SEQUENCE:0
DTSTAMP:20260424T155750Z
DTSTART:20250910T110000Z
DTEND:20250910T124000Z
SUMMARY:Иностранный язык в профессиональной коммуникации\, Английский
LOCATION:2 к. 454
END:VEVENT
BEGIN:VEVENT
UID:ewfv@192.168.245.71:3006
SEQUENCE:0
DTSTAMP:20260424T155750Z
DTSTART:20250910T130000Z
DTEND:20250910T144000Z
SUMMARY:Устройства генерирования и формирования сигналов
LOCATION:2 к. 249
END:VEVENT
BEGIN:VEVENT
UID:i83e@192.168.245.71:3006
SEQUENCE:0
DTSTAMP:20260424T155750Z
DTSTART:20250911T070000Z
DTEND:20250911T084000Z
SUMMARY:Космические радиотехнические системы
LOCATION:2 к. 454
END:VEVENT
BEGIN:VEVENT
UID:nk23@192.168.245.71:3006
SEQUENCE:0
DTSTAMP:20260424T155750Z
DTSTART:20250911T090000Z
DTEND:20250911T104000Z
SUMMARY:Сетевые информационные технологии
LOCATION:2 к. 344
END:VEVENT
BEGIN:VEVENT
UID:81bv@192.168.245.71:3006
SEQUENCE:0
DTSTAMP:20260424T155750Z
DTSTART:20250911T110000Z
DTEND:20250911T124000Z
SUMMARY:Устройства генерирования и формирования сигналов
LOCATION:2 к. 249
END:VEVENT
BEGIN:VEVENT
UID:dijt@192.168.245.71:3006
SEQUENCE:0
DTSTAMP:20260424T155750Z
DTSTART:20250911T130000Z
DTEND:20250911T144000Z
SUMMARY:История и методология науки
LOCATION:2 к. 359
END:VEVENT
BEGIN:VEVENT
UID:yr9y@192.168.245.71:3006
SEQUENCE:0
DTSTAMP:20260424T155750Z
DTSTART:20250912T070000Z
DTEND:20250912T084000Z
SUMMARY:Практикум по цифровой обработке сигналов
LOCATION:2 к. каф.
END:VEVENT
END:VCALENDAR