BEGIN:VCALENDAR
VERSION:2.0
PRODID:-//spbstu.ru//ical//RU
NAME:Расписание группы 4941101/50401
X-WR-CALNAME:Расписание группы 4941101/50401
TIMEZONE-ID:Europe/Moscow
X-WR-TIMEZONE:Europe/Moscow
BEGIN:VEVENT
UID:55ty@192.168.245.71:3006
SEQUENCE:0
DTSTAMP:20260422T045715Z
DTSTART:20260209T150000Z
DTEND:20260209T164000Z
SUMMARY:Устройства приема и обработки сигналов
LOCATION:2 к. 249
END:VEVENT
BEGIN:VEVENT
UID:8u5l@192.168.245.71:3006
SEQUENCE:0
DTSTAMP:20260422T045715Z
DTSTART:20260209T170000Z
DTEND:20260209T175000Z
SUMMARY:Устройства приема и обработки сигналов
LOCATION:2 к. 249
END:VEVENT
BEGIN:VEVENT
UID:raj2@192.168.245.71:3006
SEQUENCE:0
DTSTAMP:20260422T045715Z
DTSTART:20260210T070000Z
DTEND:20260210T084000Z
SUMMARY:Применение программируемой элементной базы в радиотехнических сист
 емах
LOCATION:2 к. 253
END:VEVENT
BEGIN:VEVENT
UID:5hxu@192.168.245.71:3006
SEQUENCE:0
DTSTAMP:20260422T045715Z
DTSTART:20260210T090000Z
DTEND:20260210T104000Z
SUMMARY:Применение программируемой элементной базы в радиотехнических сист
 емах
LOCATION:2 к. 253
END:VEVENT
BEGIN:VEVENT
UID:yjah@192.168.245.71:3006
SEQUENCE:0
DTSTAMP:20260422T045715Z
DTSTART:20260210T110000Z
DTEND:20260210T124000Z
SUMMARY:Управление научным проектом
LOCATION:2 к. 443
END:VEVENT
BEGIN:VEVENT
UID:p4uu@192.168.245.71:3006
SEQUENCE:0
DTSTAMP:20260422T045715Z
DTSTART:20260211T070000Z
DTEND:20260211T084000Z
SUMMARY:Практикум по цифровой обработке сигналов
LOCATION:2 к. каф.
END:VEVENT
BEGIN:VEVENT
UID:4qns@192.168.245.71:3006
SEQUENCE:0
DTSTAMP:20260422T045715Z
DTSTART:20260212T110000Z
DTEND:20260212T124000Z
SUMMARY:Теория построения инфокоммуникационных сетей и систем
LOCATION:2 к. 458
END:VEVENT
BEGIN:VEVENT
UID:5yr3@192.168.245.71:3006
SEQUENCE:0
DTSTAMP:20260422T045715Z
DTSTART:20260212T130000Z
DTEND:20260212T144000Z
SUMMARY:Системы цифрового телевизионного и радиовещания
LOCATION:2 к. 452
END:VEVENT
BEGIN:VEVENT
UID:s99z@192.168.245.71:3006
SEQUENCE:0
DTSTAMP:20260422T045715Z
DTSTART:20260212T150000Z
DTEND:20260212T164000Z
SUMMARY:Флуктуационные процессы в полупроводниковых и электронных приборах
LOCATION:2 к. 452
END:VEVENT
BEGIN:VEVENT
UID:0v3o@192.168.245.71:3006
SEQUENCE:0
DTSTAMP:20260422T045715Z
DTSTART:20260212T170000Z
DTEND:20260212T184000Z
SUMMARY:Флуктуационные процессы в полупроводниковых и электронных приборах
LOCATION:2 к. 452
END:VEVENT
END:VCALENDAR