BEGIN:VCALENDAR
VERSION:2.0
PRODID:-//spbstu.ru//ical//RU
NAME:Расписание группы 4941102/50101
X-WR-CALNAME:Расписание группы 4941102/50101
TIMEZONE-ID:Europe/Moscow
X-WR-TIMEZONE:Europe/Moscow
BEGIN:VEVENT
UID:2evp@192.168.245.71:3006
SEQUENCE:0
DTSTAMP:20260423T141418Z
DTSTART:20251119T070000Z
DTEND:20251119T084000Z
SUMMARY:Средства обеспечения информационной безопасности в сетях передачи 
 данных
LOCATION:2 к. 359
END:VEVENT
BEGIN:VEVENT
UID:1yj4@192.168.245.71:3006
SEQUENCE:0
DTSTAMP:20260423T141418Z
DTSTART:20251119T090000Z
DTEND:20251119T104000Z
SUMMARY:Многоканальные цифровые системы передачи
LOCATION:2 к. 253
END:VEVENT
BEGIN:VEVENT
UID:ayp3@192.168.245.71:3006
SEQUENCE:0
DTSTAMP:20260423T141418Z
DTSTART:20251119T110000Z
DTEND:20251119T124000Z
SUMMARY:Прием и обработка сигналов сетей UMTS и LTE
LOCATION:2 к. 344
END:VEVENT
BEGIN:VEVENT
UID:26ci@192.168.245.71:3006
SEQUENCE:0
DTSTAMP:20260423T141418Z
DTSTART:20251119T130000Z
DTEND:20251119T140000Z
SUMMARY:Прием и обработка сигналов сетей UMTS и LTE
LOCATION:2 к. 344
END:VEVENT
BEGIN:VEVENT
UID:i81k@192.168.245.71:3006
SEQUENCE:0
DTSTAMP:20260423T141418Z
DTSTART:20251120T080000Z
DTEND:20251120T103000Z
SUMMARY:Средства обеспечения информационной безопасности в сетях передачи 
 данных
LOCATION:2 к. 249
END:VEVENT
BEGIN:VEVENT
UID:pw93@192.168.245.71:3006
SEQUENCE:0
DTSTAMP:20260423T141418Z
DTSTART:20251120T110000Z
DTEND:20251120T124000Z
SUMMARY:Иностранный язык в профессиональной коммуникации\, Английский
LOCATION:2 к. 454
END:VEVENT
BEGIN:VEVENT
UID:gdxl@192.168.245.71:3006
SEQUENCE:0
DTSTAMP:20260423T141418Z
DTSTART:20251120T130000Z
DTEND:20251120T144000Z
SUMMARY:История и методология науки
LOCATION:2 к. 346
END:VEVENT
BEGIN:VEVENT
UID:sm7c@192.168.245.71:3006
SEQUENCE:0
DTSTAMP:20260423T141418Z
DTSTART:20251121T070000Z
DTEND:20251121T093000Z
SUMMARY:Семинар по радиотехническим охранным системам
LOCATION:2 к. каф.
END:VEVENT
END:VCALENDAR