BEGIN:VCALENDAR
VERSION:2.0
PRODID:-//spbstu.ru//ical//RU
NAME:Расписание группы 4941102/50101
X-WR-CALNAME:Расписание группы 4941102/50101
TIMEZONE-ID:Europe/Moscow
X-WR-TIMEZONE:Europe/Moscow
BEGIN:VEVENT
UID:fib2@192.168.245.71:3006
SEQUENCE:0
DTSTAMP:20260421T162255Z
DTSTART:20260217T070000Z
DTEND:20260217T084000Z
SUMMARY:Теория построения инфокоммуникационных сетей и систем
LOCATION:2 к. 470
END:VEVENT
BEGIN:VEVENT
UID:0ci4@192.168.245.71:3006
SEQUENCE:0
DTSTAMP:20260421T162255Z
DTSTART:20260217T090000Z
DTEND:20260217T104000Z
SUMMARY:Беспроводные локальные сети WiFi
LOCATION:2 к. 346
END:VEVENT
BEGIN:VEVENT
UID:c4i1@192.168.245.71:3006
SEQUENCE:0
DTSTAMP:20260421T162255Z
DTSTART:20260217T110000Z
DTEND:20260217T124000Z
SUMMARY:Основы теории информации
LOCATION:2 к. 346
END:VEVENT
BEGIN:VEVENT
UID:7asb@192.168.245.71:3006
SEQUENCE:0
DTSTAMP:20260421T162255Z
DTSTART:20260218T060000Z
DTEND:20260218T065000Z
SUMMARY:Спутниковые навигационные системы
LOCATION:2 к. 253
END:VEVENT
BEGIN:VEVENT
UID:3ses@192.168.245.71:3006
SEQUENCE:0
DTSTAMP:20260421T162255Z
DTSTART:20260218T070000Z
DTEND:20260218T084000Z
SUMMARY:Спутниковые навигационные системы
LOCATION:2 к. 253
END:VEVENT
BEGIN:VEVENT
UID:dszf@192.168.245.71:3006
SEQUENCE:0
DTSTAMP:20260421T162255Z
DTSTART:20260218T090000Z
DTEND:20260218T104000Z
SUMMARY:Беспроводные локальные сети WiFi
LOCATION:2 к. 253
END:VEVENT
BEGIN:VEVENT
UID:5gga@192.168.245.71:3006
SEQUENCE:0
DTSTAMP:20260421T162255Z
DTSTART:20260218T110000Z
DTEND:20260218T124000Z
SUMMARY:Семинар по радиотехническим охранным системам
LOCATION:2 к. каф.
END:VEVENT
BEGIN:VEVENT
UID:xy81@192.168.245.71:3006
SEQUENCE:0
DTSTAMP:20260421T162255Z
DTSTART:20260219T070000Z
DTEND:20260219T084000Z
SUMMARY:Радиоастрономические методы и аппаратура
LOCATION:2 к. 257
END:VEVENT
BEGIN:VEVENT
UID:r0lt@192.168.245.71:3006
SEQUENCE:0
DTSTAMP:20260421T162255Z
DTSTART:20260219T090000Z
DTEND:20260219T104000Z
SUMMARY:Теория построения инфокоммуникационных сетей и систем
LOCATION:2 к. 458
END:VEVENT
END:VCALENDAR