BEGIN:VCALENDAR
VERSION:2.0
PRODID:-//spbstu.ru//ical//RU
NAME:Расписание группы 4941102/50101
X-WR-CALNAME:Расписание группы 4941102/50101
TIMEZONE-ID:Europe/Moscow
X-WR-TIMEZONE:Europe/Moscow
BEGIN:VEVENT
UID:fan3@192.168.245.71:3006
SEQUENCE:0
DTSTAMP:20260421T213244Z
DTSTART:20260203T060000Z
DTEND:20260203T070000Z
SUMMARY:Управление научным проектом
LOCATION:2 к. 470
END:VEVENT
BEGIN:VEVENT
UID:oqry@192.168.245.71:3006
SEQUENCE:0
DTSTAMP:20260421T213244Z
DTSTART:20260203T070000Z
DTEND:20260203T084000Z
SUMMARY:Теория построения инфокоммуникационных сетей и систем
LOCATION:2 к. 470
END:VEVENT
BEGIN:VEVENT
UID:gk94@192.168.245.71:3006
SEQUENCE:0
DTSTAMP:20260421T213244Z
DTSTART:20260203T090000Z
DTEND:20260203T104000Z
SUMMARY:Беспроводные локальные сети WiFi
LOCATION:2 к. 346
END:VEVENT
BEGIN:VEVENT
UID:0ch5@192.168.245.71:3006
SEQUENCE:0
DTSTAMP:20260421T213244Z
DTSTART:20260203T110000Z
DTEND:20260203T124000Z
SUMMARY:Основы теории информации
LOCATION:2 к. 346
END:VEVENT
BEGIN:VEVENT
UID:sccx@192.168.245.71:3006
SEQUENCE:0
DTSTAMP:20260421T213244Z
DTSTART:20260204T060000Z
DTEND:20260204T065000Z
SUMMARY:Спутниковые навигационные системы
LOCATION:2 к. 253
END:VEVENT
BEGIN:VEVENT
UID:h66x@192.168.245.71:3006
SEQUENCE:0
DTSTAMP:20260421T213244Z
DTSTART:20260204T070000Z
DTEND:20260204T084000Z
SUMMARY:Спутниковые навигационные системы
LOCATION:2 к. 253
END:VEVENT
BEGIN:VEVENT
UID:9435@192.168.245.71:3006
SEQUENCE:0
DTSTAMP:20260421T213244Z
DTSTART:20260204T090000Z
DTEND:20260204T104000Z
SUMMARY:Беспроводные локальные сети WiFi
LOCATION:2 к. 253
END:VEVENT
BEGIN:VEVENT
UID:tjnm@192.168.245.71:3006
SEQUENCE:0
DTSTAMP:20260421T213244Z
DTSTART:20260204T110000Z
DTEND:20260204T124000Z
SUMMARY:Семинар по радиотехническим охранным системам
LOCATION:2 к. каф.
END:VEVENT
BEGIN:VEVENT
UID:w1up@192.168.245.71:3006
SEQUENCE:0
DTSTAMP:20260421T213244Z
DTSTART:20260205T070000Z
DTEND:20260205T084000Z
SUMMARY:Радиоастрономические методы и аппаратура
LOCATION:2 к. 257
END:VEVENT
BEGIN:VEVENT
UID:ric2@192.168.245.71:3006
SEQUENCE:0
DTSTAMP:20260421T213244Z
DTSTART:20260205T090000Z
DTEND:20260205T104000Z
SUMMARY:Теория построения инфокоммуникационных сетей и систем
LOCATION:2 к. 458
END:VEVENT
END:VCALENDAR