BEGIN:VCALENDAR
VERSION:2.0
PRODID:-//spbstu.ru//ical//RU
NAME:Расписание группы 4941102/50701
X-WR-CALNAME:Расписание группы 4941102/50701
TIMEZONE-ID:Europe/Moscow
X-WR-TIMEZONE:Europe/Moscow
BEGIN:VEVENT
UID:8snd@192.168.245.71:3006
SEQUENCE:0
DTSTAMP:20260424T210022Z
DTSTART:20251020T070000Z
DTEND:20251020T084000Z
SUMMARY:Специальные вопросы фотометрии
LOCATION:2 к. 257
END:VEVENT
BEGIN:VEVENT
UID:ktqj@192.168.245.71:3006
SEQUENCE:0
DTSTAMP:20260424T210022Z
DTSTART:20251020T090000Z
DTEND:20251020T104000Z
SUMMARY:Моделирование оптических систем
LOCATION:2 к. 249
END:VEVENT
BEGIN:VEVENT
UID:u62k@192.168.245.71:3006
SEQUENCE:0
DTSTAMP:20260424T210022Z
DTSTART:20251020T110000Z
DTEND:20251020T124000Z
SUMMARY:Применение лазеров и квантовые стандарты частоты
LOCATION:2 к. 346
END:VEVENT
BEGIN:VEVENT
UID:60s6@192.168.245.71:3006
SEQUENCE:0
DTSTAMP:20260424T210022Z
DTSTART:20251020T130000Z
DTEND:20251020T144000Z
SUMMARY:Элементная база волоконно-оптических  систем
LOCATION:2 к. 346
END:VEVENT
BEGIN:VEVENT
UID:p85f@192.168.245.71:3006
SEQUENCE:0
DTSTAMP:20260424T210022Z
DTSTART:20251021T110000Z
DTEND:20251021T124000Z
SUMMARY:Иностранный язык в профессиональной коммуникации\, Английский
LOCATION:2 к. 346
END:VEVENT
BEGIN:VEVENT
UID:h2u4@192.168.245.71:3006
SEQUENCE:0
DTSTAMP:20260424T210022Z
DTSTART:20251021T130000Z
DTEND:20251021T144000Z
SUMMARY:Элементная база волоконно-оптических  систем
LOCATION:2 к. 346
END:VEVENT
BEGIN:VEVENT
UID:3vou@192.168.245.71:3006
SEQUENCE:0
DTSTAMP:20260424T210022Z
DTSTART:20251021T150000Z
DTEND:20251021T164000Z
SUMMARY:Цифровые ресурсы в научном исследовании
LOCATION:DL Дистанционно
END:VEVENT
BEGIN:VEVENT
UID:gqu2@192.168.245.71:3006
SEQUENCE:0
DTSTAMP:20260424T210022Z
DTSTART:20251023T070000Z
DTEND:20251023T084000Z
SUMMARY:Элементная база волоконно-оптических  систем
LOCATION:2 к. 352
END:VEVENT
BEGIN:VEVENT
UID:p2hs@192.168.245.71:3006
SEQUENCE:0
DTSTAMP:20260424T210022Z
DTSTART:20251023T090000Z
DTEND:20251023T110000Z
SUMMARY:Математические методы лазерной физики
LOCATION:2 к. 209
END:VEVENT
BEGIN:VEVENT
UID:tar4@192.168.245.71:3006
SEQUENCE:0
DTSTAMP:20260424T210022Z
DTSTART:20251023T110000Z
DTEND:20251023T124000Z
SUMMARY:Спектроскопия материалов в лазерной технике
LOCATION:2 к. 346
END:VEVENT
BEGIN:VEVENT
UID:jjxw@192.168.245.71:3006
SEQUENCE:0
DTSTAMP:20260424T210022Z
DTSTART:20251023T130000Z
DTEND:20251023T144000Z
SUMMARY:История и методология науки
LOCATION:2 к. 359
END:VEVENT
BEGIN:VEVENT
UID:8o1y@192.168.245.71:3006
SEQUENCE:0
DTSTAMP:20260424T210022Z
DTSTART:20251024T070000Z
DTEND:20251024T084000Z
SUMMARY:Практикум по лазерным технологиям
LOCATION:2 к. каф.
END:VEVENT
END:VCALENDAR