BEGIN:VCALENDAR
VERSION:2.0
PRODID:-//spbstu.ru//ical//RU
NAME:Расписание группы 4941102/50701
X-WR-CALNAME:Расписание группы 4941102/50701
TIMEZONE-ID:Europe/Moscow
X-WR-TIMEZONE:Europe/Moscow
BEGIN:VEVENT
UID:hu0v@192.168.245.71:3006
SEQUENCE:0
DTSTAMP:20260423T204344Z
DTSTART:20251124T070000Z
DTEND:20251124T084000Z
SUMMARY:Специальные вопросы фотометрии
LOCATION:2 к. 257
END:VEVENT
BEGIN:VEVENT
UID:13wp@192.168.245.71:3006
SEQUENCE:0
DTSTAMP:20260423T204344Z
DTSTART:20251124T090000Z
DTEND:20251124T104000Z
SUMMARY:Моделирование оптических систем
LOCATION:2 к. 249
END:VEVENT
BEGIN:VEVENT
UID:syud@192.168.245.71:3006
SEQUENCE:0
DTSTAMP:20260423T204344Z
DTSTART:20251124T110000Z
DTEND:20251124T124000Z
SUMMARY:Применение лазеров и квантовые стандарты частоты
LOCATION:2 к. 346
END:VEVENT
BEGIN:VEVENT
UID:i7a7@192.168.245.71:3006
SEQUENCE:0
DTSTAMP:20260423T204344Z
DTSTART:20251124T130000Z
DTEND:20251124T144000Z
SUMMARY:Элементная база волоконно-оптических  систем
LOCATION:2 к. 257
END:VEVENT
BEGIN:VEVENT
UID:bxo5@192.168.245.71:3006
SEQUENCE:0
DTSTAMP:20260423T204344Z
DTSTART:20251125T110000Z
DTEND:20251125T124000Z
SUMMARY:Иностранный язык в профессиональной коммуникации\, Английский
LOCATION:2 к. 346
END:VEVENT
BEGIN:VEVENT
UID:5aaj@192.168.245.71:3006
SEQUENCE:0
DTSTAMP:20260423T204344Z
DTSTART:20251125T130000Z
DTEND:20251125T144000Z
SUMMARY:Элементная база волоконно-оптических  систем
LOCATION:2 к. 346
END:VEVENT
BEGIN:VEVENT
UID:xohk@192.168.245.71:3006
SEQUENCE:0
DTSTAMP:20260423T204344Z
DTSTART:20251127T070000Z
DTEND:20251127T084000Z
SUMMARY:Элементная база волоконно-оптических  систем
LOCATION:2 к. 352
END:VEVENT
BEGIN:VEVENT
UID:aeil@192.168.245.71:3006
SEQUENCE:0
DTSTAMP:20260423T204344Z
DTSTART:20251127T090000Z
DTEND:20251127T110000Z
SUMMARY:Математические методы лазерной физики
LOCATION:2 к. 213
END:VEVENT
BEGIN:VEVENT
UID:mkkj@192.168.245.71:3006
SEQUENCE:0
DTSTAMP:20260423T204344Z
DTSTART:20251127T110000Z
DTEND:20251127T124000Z
SUMMARY:Спектроскопия материалов в лазерной технике
LOCATION:2 к. 346
END:VEVENT
BEGIN:VEVENT
UID:o9bc@192.168.245.71:3006
SEQUENCE:0
DTSTAMP:20260423T204344Z
DTSTART:20251127T130000Z
DTEND:20251127T144000Z
SUMMARY:Элементная база волоконно-оптических  систем
LOCATION:2 к. 346
END:VEVENT
BEGIN:VEVENT
UID:bc71@192.168.245.71:3006
SEQUENCE:0
DTSTAMP:20260423T204344Z
DTSTART:20251128T070000Z
DTEND:20251128T084000Z
SUMMARY:Практикум по лазерным технологиям
LOCATION:2 к. каф.
END:VEVENT
END:VCALENDAR