BEGIN:VCALENDAR
VERSION:2.0
PRODID:-//spbstu.ru//ical//RU
NAME:Расписание группы 4941102/50701
X-WR-CALNAME:Расписание группы 4941102/50701
TIMEZONE-ID:Europe/Moscow
X-WR-TIMEZONE:Europe/Moscow
BEGIN:VEVENT
UID:olg6@192.168.245.71:3006
SEQUENCE:0
DTSTAMP:20260421T194425Z
DTSTART:20260224T110000Z
DTEND:20260224T114500Z
SUMMARY:Специальные вопросы фотометрии
LOCATION:2 к. 352
END:VEVENT
BEGIN:VEVENT
UID:hvsy@192.168.245.71:3006
SEQUENCE:0
DTSTAMP:20260421T194425Z
DTSTART:20260225T130000Z
DTEND:20260225T134500Z
SUMMARY:Элементная база волоконно-оптических  систем
LOCATION:2 к. 352
END:VEVENT
BEGIN:VEVENT
UID:au41@192.168.245.71:3006
SEQUENCE:0
DTSTAMP:20260421T194425Z
DTSTART:20260226T090000Z
DTEND:20260226T104000Z
SUMMARY:Теория построения инфокоммуникационных сетей и систем
LOCATION:2 к. 458
END:VEVENT
BEGIN:VEVENT
UID:hvnx@192.168.245.71:3006
SEQUENCE:0
DTSTAMP:20260421T194425Z
DTSTART:20260226T110000Z
DTEND:20260226T124000Z
SUMMARY:Основы квантовой оптики
LOCATION:2 к. 257
END:VEVENT
BEGIN:VEVENT
UID:8qih@192.168.245.71:3006
SEQUENCE:0
DTSTAMP:20260421T194425Z
DTSTART:20260226T130000Z
DTEND:20260226T163000Z
SUMMARY:Элементная база волоконно-оптических  систем
LOCATION:2 к. 335
END:VEVENT
BEGIN:VEVENT
UID:jwq9@192.168.245.71:3006
SEQUENCE:0
DTSTAMP:20260421T194425Z
DTSTART:20260227T070000Z
DTEND:20260227T084000Z
SUMMARY:Теоретические основы атомной спектроскопии
LOCATION:2 к. 257
END:VEVENT
BEGIN:VEVENT
UID:hasd@192.168.245.71:3006
SEQUENCE:0
DTSTAMP:20260421T194425Z
DTSTART:20260227T090000Z
DTEND:20260227T094500Z
SUMMARY:Математические методы лазерной физики
LOCATION:2 к. 443
END:VEVENT
BEGIN:VEVENT
UID:5jar@192.168.245.71:3006
SEQUENCE:0
DTSTAMP:20260421T194425Z
DTSTART:20260227T090000Z
DTEND:20260227T104000Z
SUMMARY:Обработка оптоинформационных сигналов
LOCATION:2 к. 257
END:VEVENT
BEGIN:VEVENT
UID:4cjh@192.168.245.71:3006
SEQUENCE:0
DTSTAMP:20260421T194425Z
DTSTART:20260227T110000Z
DTEND:20260227T124000Z
SUMMARY:Распространение света в нелинейных средах
LOCATION:2 к. 257
END:VEVENT
BEGIN:VEVENT
UID:xm1k@192.168.245.71:3006
SEQUENCE:0
DTSTAMP:20260421T194425Z
DTSTART:20260227T130000Z
DTEND:20260227T144000Z
SUMMARY:Управление научным проектом
LOCATION:2 к. 257
END:VEVENT
END:VCALENDAR