BEGIN:VCALENDAR
VERSION:2.0
PRODID:-//spbstu.ru//ical//RU
NAME:Расписание группы 4941102/50801
X-WR-CALNAME:Расписание группы 4941102/50801
TIMEZONE-ID:Europe/Moscow
X-WR-TIMEZONE:Europe/Moscow
BEGIN:VEVENT
UID:cvsd@192.168.245.71:3006
SEQUENCE:0
DTSTAMP:20260423T061046Z
DTSTART:20251119T070000Z
DTEND:20251119T084000Z
SUMMARY:Средства обеспечения информационной безопасности в сетях передачи 
 данных
LOCATION:2 к. 359
END:VEVENT
BEGIN:VEVENT
UID:4uw0@192.168.245.71:3006
SEQUENCE:0
DTSTAMP:20260423T061046Z
DTSTART:20251119T090000Z
DTEND:20251119T104000Z
SUMMARY:Сетевые информационные технологии
LOCATION:НИК В2.03
END:VEVENT
BEGIN:VEVENT
UID:qlvx@192.168.245.71:3006
SEQUENCE:0
DTSTAMP:20260423T061046Z
DTSTART:20251119T110000Z
DTEND:20251119T124000Z
SUMMARY:Принципы построения и организации сетей связи
LOCATION:2 к. 443
END:VEVENT
BEGIN:VEVENT
UID:pgry@192.168.245.71:3006
SEQUENCE:0
DTSTAMP:20260423T061046Z
DTSTART:20251119T130000Z
DTEND:20251119T144000Z
SUMMARY:Иностранный язык в профессиональной коммуникации\, Английский
LOCATION:2 к. 454
END:VEVENT
BEGIN:VEVENT
UID:78kj@192.168.245.71:3006
SEQUENCE:0
DTSTAMP:20260423T061046Z
DTSTART:20251120T110000Z
DTEND:20251120T124000Z
SUMMARY:Средства обеспечения информационной безопасности в сетях передачи 
 данных
LOCATION:2 к. 443
END:VEVENT
BEGIN:VEVENT
UID:zahn@192.168.245.71:3006
SEQUENCE:0
DTSTAMP:20260423T061046Z
DTSTART:20251120T130000Z
DTEND:20251120T144000Z
SUMMARY:История и методология науки
LOCATION:2 к. 346
END:VEVENT
BEGIN:VEVENT
UID:dfs2@192.168.245.71:3006
SEQUENCE:0
DTSTAMP:20260423T061046Z
DTSTART:20251120T150000Z
DTEND:20251120T164000Z
SUMMARY:Средства обеспечения информационной безопасности в сетях передачи 
 данных
LOCATION:2 к. 443
END:VEVENT
BEGIN:VEVENT
UID:5321@192.168.245.71:3006
SEQUENCE:0
DTSTAMP:20260423T061046Z
DTSTART:20251122T070000Z
DTEND:20251122T084000Z
SUMMARY:Принципы построения и организации телефонной связи
LOCATION:2 к. 443
END:VEVENT
BEGIN:VEVENT
UID:wbdv@192.168.245.71:3006
SEQUENCE:0
DTSTAMP:20260423T061046Z
DTSTART:20251122T090000Z
DTEND:20251122T100000Z
SUMMARY:Принципы построения и организации телефонной связи
LOCATION:2 к. 443
END:VEVENT
END:VCALENDAR