BEGIN:VCALENDAR
VERSION:2.0
PRODID:-//spbstu.ru//ical//RU
NAME:Расписание группы 4941102/50801
X-WR-CALNAME:Расписание группы 4941102/50801
TIMEZONE-ID:Europe/Moscow
X-WR-TIMEZONE:Europe/Moscow
BEGIN:VEVENT
UID:gtjv@192.168.245.71:3006
SEQUENCE:0
DTSTAMP:20260420T235226Z
DTSTART:20260413T150000Z
DTEND:20260413T164000Z
SUMMARY:Бизнес-анализ
LOCATION:50 уч.к 1202 ГПН\, лекционная
END:VEVENT
BEGIN:VEVENT
UID:yqg7@192.168.245.71:3006
SEQUENCE:0
DTSTAMP:20260420T235226Z
DTSTART:20260413T170000Z
DTEND:20260413T184000Z
SUMMARY:Бизнес-анализ
LOCATION:50 уч.к 1202 ГПН\, лекционная
END:VEVENT
BEGIN:VEVENT
UID:px9v@192.168.245.71:3006
SEQUENCE:0
DTSTAMP:20260420T235226Z
DTSTART:20260414T070000Z
DTEND:20260414T084000Z
SUMMARY:Теория построения инфокоммуникационных сетей и систем
LOCATION:2 к. 470
END:VEVENT
BEGIN:VEVENT
UID:swt7@192.168.245.71:3006
SEQUENCE:0
DTSTAMP:20260420T235226Z
DTSTART:20260414T090000Z
DTEND:20260414T104000Z
SUMMARY:Технологии беспроводных сетей связи
LOCATION:2 к. 346
END:VEVENT
BEGIN:VEVENT
UID:z8qr@192.168.245.71:3006
SEQUENCE:0
DTSTAMP:20260420T235226Z
DTSTART:20260414T110000Z
DTEND:20260414T124000Z
SUMMARY:Технологии организации каналов передачи данных
LOCATION:2 к. 454
END:VEVENT
BEGIN:VEVENT
UID:q4ny@192.168.245.71:3006
SEQUENCE:0
DTSTAMP:20260420T235226Z
DTSTART:20260414T130000Z
DTEND:20260414T160000Z
SUMMARY:Технологии организации каналов передачи данных
LOCATION:2 к. 335
END:VEVENT
BEGIN:VEVENT
UID:34y6@192.168.245.71:3006
SEQUENCE:0
DTSTAMP:20260420T235226Z
DTSTART:20260415T070000Z
DTEND:20260415T084000Z
SUMMARY:Проектная деятельность на предприятиях нефтегазовой отрасли
LOCATION:2 к. каф.
END:VEVENT
BEGIN:VEVENT
UID:kcrl@192.168.245.71:3006
SEQUENCE:0
DTSTAMP:20260420T235226Z
DTSTART:20260416T090000Z
DTEND:20260416T104000Z
SUMMARY:Технологии беспроводных сетей связи
LOCATION:2 к. 443
END:VEVENT
BEGIN:VEVENT
UID:ka34@192.168.245.71:3006
SEQUENCE:0
DTSTAMP:20260420T235226Z
DTSTART:20260416T110000Z
DTEND:20260416T124000Z
SUMMARY:Теория построения инфокоммуникационных сетей и систем
LOCATION:2 к. 458
END:VEVENT
BEGIN:VEVENT
UID:ryij@192.168.245.71:3006
SEQUENCE:0
DTSTAMP:20260420T235226Z
DTSTART:20260416T170000Z
DTEND:20260416T184000Z
SUMMARY:Бизнес-анализ
LOCATION:50 уч.к 1202 ГПН\, лекционная
END:VEVENT
END:VCALENDAR