BEGIN:VCALENDAR
VERSION:2.0
PRODID:-//spbstu.ru//ical//RU
NAME:Расписание группы 4941102/50801
X-WR-CALNAME:Расписание группы 4941102/50801
TIMEZONE-ID:Europe/Moscow
X-WR-TIMEZONE:Europe/Moscow
BEGIN:VEVENT
UID:cc0j@192.168.245.71:3006
SEQUENCE:0
DTSTAMP:20260420T221234Z
DTSTART:20260421T110000Z
DTEND:20260421T124000Z
SUMMARY:Технологии организации каналов передачи данных
LOCATION:2 к. 454
END:VEVENT
BEGIN:VEVENT
UID:c0j4@192.168.245.71:3006
SEQUENCE:0
DTSTAMP:20260420T221234Z
DTSTART:20260422T070000Z
DTEND:20260422T084000Z
SUMMARY:Проектная деятельность на предприятиях нефтегазовой отрасли
LOCATION:2 к. каф.
END:VEVENT
BEGIN:VEVENT
UID:j3y7@192.168.245.71:3006
SEQUENCE:0
DTSTAMP:20260420T221234Z
DTSTART:20260423T090000Z
DTEND:20260423T104000Z
SUMMARY:Технологии беспроводных сетей связи
LOCATION:2 к. 443
END:VEVENT
BEGIN:VEVENT
UID:tf4w@192.168.245.71:3006
SEQUENCE:0
DTSTAMP:20260420T221234Z
DTSTART:20260423T110000Z
DTEND:20260423T124000Z
SUMMARY:Теория построения инфокоммуникационных сетей и систем
LOCATION:2 к. 458
END:VEVENT
BEGIN:VEVENT
UID:e937@192.168.245.71:3006
SEQUENCE:0
DTSTAMP:20260420T221234Z
DTSTART:20260423T130000Z
DTEND:20260423T144000Z
SUMMARY:Управление научным проектом
LOCATION:2 к. 344
END:VEVENT
END:VCALENDAR