BEGIN:VCALENDAR
VERSION:2.0
PRODID:-//spbstu.ru//ical//RU
NAME:Расписание группы 4941104/50601
X-WR-CALNAME:Расписание группы 4941104/50601
TIMEZONE-ID:Europe/Moscow
X-WR-TIMEZONE:Europe/Moscow
BEGIN:VEVENT
UID:2opc@192.168.245.71:3006
SEQUENCE:0
DTSTAMP:20260424T131453Z
DTSTART:20251118T070000Z
DTEND:20251118T084000Z
SUMMARY:Введение в моделирование интегральных схем
LOCATION:2 к. 462
END:VEVENT
BEGIN:VEVENT
UID:pqbt@192.168.245.71:3006
SEQUENCE:0
DTSTAMP:20260424T131453Z
DTSTART:20251118T090000Z
DTEND:20251118T104000Z
SUMMARY:Системное программирование для ОС Windows
LOCATION:2 к. 466
END:VEVENT
BEGIN:VEVENT
UID:or9a@192.168.245.71:3006
SEQUENCE:0
DTSTAMP:20260424T131453Z
DTSTART:20251118T110000Z
DTEND:20251118T124000Z
SUMMARY:Математическое моделирование и методы оптимизации
LOCATION:2 к. 462
END:VEVENT
BEGIN:VEVENT
UID:iewc@192.168.245.71:3006
SEQUENCE:0
DTSTAMP:20260424T131453Z
DTSTART:20251118T130000Z
DTEND:20251118T144000Z
SUMMARY:Математическое моделирование и методы оптимизации
LOCATION:2 к. 462
END:VEVENT
BEGIN:VEVENT
UID:n9co@192.168.245.71:3006
SEQUENCE:0
DTSTAMP:20260424T131453Z
DTSTART:20251119T070000Z
DTEND:20251119T084000Z
SUMMARY:История и методология науки
LOCATION:DL Дистанционно
END:VEVENT
BEGIN:VEVENT
UID:dps2@192.168.245.71:3006
SEQUENCE:0
DTSTAMP:20260424T131453Z
DTSTART:20251120T090000Z
DTEND:20251120T104000Z
SUMMARY:Моделирование элементов интегральных схем
LOCATION:2 к. 466
END:VEVENT
BEGIN:VEVENT
UID:4sa5@192.168.245.71:3006
SEQUENCE:0
DTSTAMP:20260424T131453Z
DTSTART:20251120T110000Z
DTEND:20251120T124000Z
SUMMARY:Физические основы молекулярной электроники
LOCATION:2 к. 359
END:VEVENT
BEGIN:VEVENT
UID:xvax@192.168.245.71:3006
SEQUENCE:0
DTSTAMP:20260424T131453Z
DTSTART:20251120T130000Z
DTEND:20251120T144000Z
SUMMARY:Основы вычислительной физики
LOCATION:2 к. 462
END:VEVENT
BEGIN:VEVENT
UID:h97r@192.168.245.71:3006
SEQUENCE:0
DTSTAMP:20260424T131453Z
DTSTART:20251120T150000Z
DTEND:20251120T164000Z
SUMMARY:Основы вычислительной физики
LOCATION:2 к. 462
END:VEVENT
END:VCALENDAR