BEGIN:VCALENDAR
VERSION:2.0
PRODID:-//spbstu.ru//ical//RU
NAME:Расписание группы 4941104/50601
X-WR-CALNAME:Расписание группы 4941104/50601
TIMEZONE-ID:Europe/Moscow
X-WR-TIMEZONE:Europe/Moscow
BEGIN:VEVENT
UID:ifah@192.168.245.71:3006
SEQUENCE:0
DTSTAMP:20260423T012605Z
DTSTART:20260112T110000Z
DTEND:20260112T123000Z
SUMMARY:Физические основы молекулярной электроники
LOCATION:2 к. 459
END:VEVENT
BEGIN:VEVENT
UID:4hgt@192.168.245.71:3006
SEQUENCE:0
DTSTAMP:20260423T012605Z
DTSTART:20260113T090000Z
DTEND:20260113T150000Z
SUMMARY:Физические основы молекулярной электроники
LOCATION:2 к. 459
END:VEVENT
BEGIN:VEVENT
UID:qmc4@192.168.245.71:3006
SEQUENCE:0
DTSTAMP:20260423T012605Z
DTSTART:20260115T090000Z
DTEND:20260115T103000Z
SUMMARY:Математическое моделирование и методы оптимизации
LOCATION:2 к. 462
END:VEVENT
BEGIN:VEVENT
UID:487w@192.168.245.71:3006
SEQUENCE:0
DTSTAMP:20260423T012605Z
DTSTART:20260116T090000Z
DTEND:20260116T150000Z
SUMMARY:Математическое моделирование и методы оптимизации
LOCATION:2 к. 462
END:VEVENT
END:VCALENDAR