BEGIN:VCALENDAR
VERSION:2.0
PRODID:-//spbstu.ru//ical//RU
NAME:Расписание группы 4941104/50601
X-WR-CALNAME:Расписание группы 4941104/50601
TIMEZONE-ID:Europe/Moscow
X-WR-TIMEZONE:Europe/Moscow
BEGIN:VEVENT
UID:qypm@192.168.245.71:3006
SEQUENCE:0
DTSTAMP:20260422T140849Z
DTSTART:20260202T070000Z
DTEND:20260202T084000Z
SUMMARY:Проектирование интегральных цифровых схем
LOCATION:2 к. 464
END:VEVENT
BEGIN:VEVENT
UID:dtvt@192.168.245.71:3006
SEQUENCE:0
DTSTAMP:20260422T140849Z
DTSTART:20260202T090000Z
DTEND:20260202T104000Z
SUMMARY:Проектирование интегральных цифровых схем
LOCATION:2 к. 464
END:VEVENT
BEGIN:VEVENT
UID:vm3a@192.168.245.71:3006
SEQUENCE:0
DTSTAMP:20260422T140849Z
DTSTART:20260202T110000Z
DTEND:20260202T124000Z
SUMMARY:Управление научным проектом
LOCATION:2 к. 458
END:VEVENT
BEGIN:VEVENT
UID:f439@192.168.245.71:3006
SEQUENCE:0
DTSTAMP:20260422T140849Z
DTSTART:20260203T070000Z
DTEND:20260203T084000Z
SUMMARY:Материалы органической электроники
LOCATION:2 к. 458
END:VEVENT
BEGIN:VEVENT
UID:ix1l@192.168.245.71:3006
SEQUENCE:0
DTSTAMP:20260422T140849Z
DTSTART:20260203T090000Z
DTEND:20260203T104000Z
SUMMARY:Системное программирование для ОС Linux
LOCATION:2 к. 466
END:VEVENT
BEGIN:VEVENT
UID:j53t@192.168.245.71:3006
SEQUENCE:0
DTSTAMP:20260422T140849Z
DTSTART:20260203T110000Z
DTEND:20260203T124000Z
SUMMARY:Микромеханические системы и датчики
LOCATION:2 к. 464
END:VEVENT
BEGIN:VEVENT
UID:1j1z@192.168.245.71:3006
SEQUENCE:0
DTSTAMP:20260422T140849Z
DTSTART:20260203T130000Z
DTEND:20260203T144000Z
SUMMARY:Иностранный язык в профессиональной коммуникации\, Английский
LOCATION:2 к. 458
END:VEVENT
BEGIN:VEVENT
UID:e6gh@192.168.245.71:3006
SEQUENCE:0
DTSTAMP:20260422T140849Z
DTSTART:20260204T090000Z
DTEND:20260204T104000Z
SUMMARY:Материалы органической электроники
LOCATION:2 к. 458
END:VEVENT
BEGIN:VEVENT
UID:0h0c@192.168.245.71:3006
SEQUENCE:0
DTSTAMP:20260422T140849Z
DTSTART:20260204T110000Z
DTEND:20260204T124000Z
SUMMARY:Физические основы технологии электронной компонентной базы
LOCATION:2 к. 458
END:VEVENT
BEGIN:VEVENT
UID:wc8p@192.168.245.71:3006
SEQUENCE:0
DTSTAMP:20260422T140849Z
DTSTART:20260207T130000Z
DTEND:20260207T144000Z
SUMMARY:Компьютерные технологии в научных исследованиях
LOCATION:2 к. 462
END:VEVENT
END:VCALENDAR