BEGIN:VCALENDAR
VERSION:2.0
PRODID:-//spbstu.ru//ical//RU
NAME:Расписание группы 4941104/50601
X-WR-CALNAME:Расписание группы 4941104/50601
TIMEZONE-ID:Europe/Moscow
X-WR-TIMEZONE:Europe/Moscow
BEGIN:VEVENT
UID:wv03@192.168.245.71:3006
SEQUENCE:0
DTSTAMP:20260421T063747Z
DTSTART:20260504T070000Z
DTEND:20260504T084000Z
SUMMARY:Проектирование интегральных цифровых схем
LOCATION:2 к. 464
END:VEVENT
BEGIN:VEVENT
UID:shu9@192.168.245.71:3006
SEQUENCE:0
DTSTAMP:20260421T063747Z
DTSTART:20260504T090000Z
DTEND:20260504T104000Z
SUMMARY:Проектирование интегральных цифровых схем
LOCATION:2 к. 464
END:VEVENT
BEGIN:VEVENT
UID:yo3c@192.168.245.71:3006
SEQUENCE:0
DTSTAMP:20260421T063747Z
DTSTART:20260505T070000Z
DTEND:20260505T084000Z
SUMMARY:Материалы органической электроники
LOCATION:2 к. 458
END:VEVENT
BEGIN:VEVENT
UID:mp4g@192.168.245.71:3006
SEQUENCE:0
DTSTAMP:20260421T063747Z
DTSTART:20260505T090000Z
DTEND:20260505T104000Z
SUMMARY:Системное программирование для ОС Linux
LOCATION:2 к. 466
END:VEVENT
BEGIN:VEVENT
UID:9q1n@192.168.245.71:3006
SEQUENCE:0
DTSTAMP:20260421T063747Z
DTSTART:20260505T110000Z
DTEND:20260505T124000Z
SUMMARY:Микромеханические системы и датчики
LOCATION:2 к. 464
END:VEVENT
BEGIN:VEVENT
UID:mxbc@192.168.245.71:3006
SEQUENCE:0
DTSTAMP:20260421T063747Z
DTSTART:20260505T130000Z
DTEND:20260505T144000Z
SUMMARY:Иностранный язык в профессиональной коммуникации\, Английский
LOCATION:2 к. 458
END:VEVENT
BEGIN:VEVENT
UID:icx1@192.168.245.71:3006
SEQUENCE:0
DTSTAMP:20260421T063747Z
DTSTART:20260506T090000Z
DTEND:20260506T104000Z
SUMMARY:Материалы органической электроники
LOCATION:2 к. 458
END:VEVENT
BEGIN:VEVENT
UID:qze3@192.168.245.71:3006
SEQUENCE:0
DTSTAMP:20260421T063747Z
DTSTART:20260506T110000Z
DTEND:20260506T124000Z
SUMMARY:Физические основы технологии электронной компонентной базы
LOCATION:2 к. 458
END:VEVENT
END:VCALENDAR