BEGIN:VCALENDAR
VERSION:2.0
PRODID:-//spbstu.ru//ical//RU
NAME:Расписание группы 4941601/50401
X-WR-CALNAME:Расписание группы 4941601/50401
TIMEZONE-ID:Europe/Moscow
X-WR-TIMEZONE:Europe/Moscow
BEGIN:VEVENT
UID:0uyv@192.168.245.71:3006
SEQUENCE:0
DTSTAMP:20260425T223023Z
DTSTART:20251013T070000Z
DTEND:20251013T084000Z
SUMMARY:Английский язык в научной деятельности
LOCATION:2 к. 430а
END:VEVENT
BEGIN:VEVENT
UID:uyde@192.168.245.71:3006
SEQUENCE:0
DTSTAMP:20260425T223023Z
DTSTART:20251013T090000Z
DTEND:20251013T104000Z
SUMMARY:Микрофлюидные технологии и методы хроматографии
LOCATION:2 к. 214
END:VEVENT
BEGIN:VEVENT
UID:0ceu@192.168.245.71:3006
SEQUENCE:0
DTSTAMP:20260425T223023Z
DTSTART:20251013T110000Z
DTEND:20251013T124000Z
SUMMARY:Квантоворазмерные системы наноэлектроники
LOCATION:2 к. 209
END:VEVENT
BEGIN:VEVENT
UID:28qr@192.168.245.71:3006
SEQUENCE:0
DTSTAMP:20260425T223023Z
DTSTART:20251013T130000Z
DTEND:20251013T144000Z
SUMMARY:Компьютерные технологии в научных исследованиях
LOCATION:2 к. 416
END:VEVENT
BEGIN:VEVENT
UID:fuup@192.168.245.71:3006
SEQUENCE:0
DTSTAMP:20260425T223023Z
DTSTART:20251016T070000Z
DTEND:20251016T084000Z
SUMMARY:Квантоворазмерные системы наноэлектроники
LOCATION:2 к. 359
END:VEVENT
BEGIN:VEVENT
UID:joii@192.168.245.71:3006
SEQUENCE:0
DTSTAMP:20260425T223023Z
DTSTART:20251016T090000Z
DTEND:20251016T104000Z
SUMMARY:Обратные и некорректные задачи физики
LOCATION:2 к. 411
END:VEVENT
BEGIN:VEVENT
UID:tnnb@192.168.245.71:3006
SEQUENCE:0
DTSTAMP:20260425T223023Z
DTSTART:20251016T110000Z
DTEND:20251016T124000Z
SUMMARY:Физические основы молекулярной электроники
LOCATION:2 к. 359
END:VEVENT
END:VCALENDAR