BEGIN:VCALENDAR
VERSION:2.0
PRODID:-//spbstu.ru//ical//RU
NAME:Расписание группы 4941601/50401
X-WR-CALNAME:Расписание группы 4941601/50401
TIMEZONE-ID:Europe/Moscow
X-WR-TIMEZONE:Europe/Moscow
BEGIN:VEVENT
UID:vrpy@192.168.245.71:3006
SEQUENCE:0
DTSTAMP:20260425T203738Z
DTSTART:20251020T070000Z
DTEND:20251020T084000Z
SUMMARY:Английский язык в научной деятельности
LOCATION:2 к. 430а
END:VEVENT
BEGIN:VEVENT
UID:0g0k@192.168.245.71:3006
SEQUENCE:0
DTSTAMP:20260425T203738Z
DTSTART:20251020T090000Z
DTEND:20251020T104000Z
SUMMARY:Микрофлюидные технологии и методы хроматографии
LOCATION:2 к. 214
END:VEVENT
BEGIN:VEVENT
UID:tboj@192.168.245.71:3006
SEQUENCE:0
DTSTAMP:20260425T203738Z
DTSTART:20251020T110000Z
DTEND:20251020T124000Z
SUMMARY:Физические основы молекулярной электроники
LOCATION:2 к. 213
END:VEVENT
BEGIN:VEVENT
UID:gghi@192.168.245.71:3006
SEQUENCE:0
DTSTAMP:20260425T203738Z
DTSTART:20251020T130000Z
DTEND:20251020T144000Z
SUMMARY:Компьютерные технологии в научных исследованиях
LOCATION:2 к. 416
END:VEVENT
BEGIN:VEVENT
UID:sfi1@192.168.245.71:3006
SEQUENCE:0
DTSTAMP:20260425T203738Z
DTSTART:20251023T070000Z
DTEND:20251023T084000Z
SUMMARY:Квантоворазмерные системы наноэлектроники
LOCATION:2 к. 359
END:VEVENT
BEGIN:VEVENT
UID:xngt@192.168.245.71:3006
SEQUENCE:0
DTSTAMP:20260425T203738Z
DTSTART:20251023T090000Z
DTEND:20251023T104000Z
SUMMARY:Обратные и некорректные задачи физики
LOCATION:2 к. 411
END:VEVENT
BEGIN:VEVENT
UID:8xp3@192.168.245.71:3006
SEQUENCE:0
DTSTAMP:20260425T203738Z
DTSTART:20251023T110000Z
DTEND:20251023T124000Z
SUMMARY:Физические основы молекулярной электроники
LOCATION:2 к. 359
END:VEVENT
BEGIN:VEVENT
UID:vz5z@192.168.245.71:3006
SEQUENCE:0
DTSTAMP:20260425T203738Z
DTSTART:20251023T130000Z
DTEND:20251023T144000Z
SUMMARY:Семинар по физике поверхности
LOCATION:2 к. 411
END:VEVENT
END:VCALENDAR