BEGIN:VCALENDAR
VERSION:2.0
PRODID:-//spbstu.ru//ical//RU
NAME:Расписание группы 4941601/50401
X-WR-CALNAME:Расписание группы 4941601/50401
TIMEZONE-ID:Europe/Moscow
X-WR-TIMEZONE:Europe/Moscow
BEGIN:VEVENT
UID:c0l6@192.168.245.71:3006
SEQUENCE:0
DTSTAMP:20260422T060308Z
DTSTART:20260519T090000Z
DTEND:20260519T104000Z
SUMMARY:Практикум в научной лаборатории
LOCATION:2 к. каф. ВИФШ
END:VEVENT
BEGIN:VEVENT
UID:hou2@192.168.245.71:3006
SEQUENCE:0
DTSTAMP:20260422T060308Z
DTSTART:20260520T090000Z
DTEND:20260520T104000Z
SUMMARY:Математическое моделирование в научных исследованиях
LOCATION:2 к. 416
END:VEVENT
BEGIN:VEVENT
UID:22mu@192.168.245.71:3006
SEQUENCE:0
DTSTAMP:20260422T060308Z
DTSTART:20260520T110000Z
DTEND:20260520T124000Z
SUMMARY:Физические основы технологии электронной компонентной базы
LOCATION:2 к. 458
END:VEVENT
BEGIN:VEVENT
UID:f218@192.168.245.71:3006
SEQUENCE:0
DTSTAMP:20260422T060308Z
DTSTART:20260520T130000Z
DTEND:20260520T144000Z
SUMMARY:Иностранный язык в профессиональной коммуникации\, Английский
LOCATION:2 к. 430а
END:VEVENT
BEGIN:VEVENT
UID:arjw@192.168.245.71:3006
SEQUENCE:0
DTSTAMP:20260422T060308Z
DTSTART:20260521T110000Z
DTEND:20260521T124000Z
SUMMARY:Туннельная и атомно-силовая микроскопия
LOCATION:2 к. 430а
END:VEVENT
END:VCALENDAR