BEGIN:VCALENDAR
VERSION:2.0
PRODID:-//spbstu.ru//ical//RU
NAME:Расписание группы 4941601/50801
X-WR-CALNAME:Расписание группы 4941601/50801
TIMEZONE-ID:Europe/Moscow
X-WR-TIMEZONE:Europe/Moscow
BEGIN:VEVENT
UID:uz9k@192.168.245.71:3006
SEQUENCE:0
DTSTAMP:20260421T111101Z
DTSTART:20260513T090000Z
DTEND:20260513T104000Z
SUMMARY:Математическое моделирование в научных исследованиях
LOCATION:2 к. 416
END:VEVENT
BEGIN:VEVENT
UID:t23g@192.168.245.71:3006
SEQUENCE:0
DTSTAMP:20260421T111101Z
DTSTART:20260513T110000Z
DTEND:20260513T124000Z
SUMMARY:Радиационная физика и медицинские технологии
LOCATION:2 к. 430а
END:VEVENT
BEGIN:VEVENT
UID:gpgk@192.168.245.71:3006
SEQUENCE:0
DTSTAMP:20260421T111101Z
DTSTART:20260513T130000Z
DTEND:20260513T144000Z
SUMMARY:Иностранный язык в профессиональной коммуникации\, Английский
LOCATION:2 к. 430а
END:VEVENT
BEGIN:VEVENT
UID:dgbs@192.168.245.71:3006
SEQUENCE:0
DTSTAMP:20260421T111101Z
DTSTART:20260514T090000Z
DTEND:20260514T104000Z
SUMMARY:Семинар по медицинской физике
LOCATION:2 к. 416
END:VEVENT
BEGIN:VEVENT
UID:sygy@192.168.245.71:3006
SEQUENCE:0
DTSTAMP:20260421T111101Z
DTSTART:20260514T110000Z
DTEND:20260514T124000Z
SUMMARY:Материалы медицинского применения
LOCATION:2 к. 431
END:VEVENT
BEGIN:VEVENT
UID:axfu@192.168.245.71:3006
SEQUENCE:0
DTSTAMP:20260421T111101Z
DTSTART:20260514T130000Z
DTEND:20260514T144000Z
SUMMARY:Математическое моделирование в научных исследованиях
LOCATION:2 к. 411
END:VEVENT
END:VCALENDAR