BEGIN:VCALENDAR
VERSION:2.0
PRODID:-//spbstu.ru//ical//RU
NAME:Расписание группы 4931101/40003
X-WR-CALNAME:Расписание группы 4931101/40003
TIMEZONE-ID:Europe/Moscow
X-WR-TIMEZONE:Europe/Moscow
BEGIN:VEVENT
UID:5oet@192.168.245.71:3006
SEQUENCE:0
DTSTAMP:20260423T170934Z
DTSTART:20260216T070000Z
DTEND:20260216T084000Z
SUMMARY:Цифровая схемотехника
LOCATION:ГЗ 257
END:VEVENT
BEGIN:VEVENT
UID:4kts@192.168.245.71:3006
SEQUENCE:0
DTSTAMP:20260423T170934Z
DTSTART:20260216T090000Z
DTEND:20260216T104000Z
SUMMARY:Радиотехнические цепи и сигналы
LOCATION:ГЗ 122
END:VEVENT
BEGIN:VEVENT
UID:rfi6@192.168.245.71:3006
SEQUENCE:0
DTSTAMP:20260423T170934Z
DTSTART:20260216T110000Z
DTEND:20260216T124000Z
SUMMARY:Радиотехнические цепи и сигналы
LOCATION:2 к. 454
END:VEVENT
BEGIN:VEVENT
UID:dstt@192.168.245.71:3006
SEQUENCE:0
DTSTAMP:20260423T170934Z
DTSTART:20260216T150000Z
DTEND:20260216T170000Z
SUMMARY:Теория электрических цепей
LOCATION:2 к. 359
END:VEVENT
BEGIN:VEVENT
UID:3qx9@192.168.245.71:3006
SEQUENCE:0
DTSTAMP:20260423T170934Z
DTSTART:20260217T060000Z
DTEND:20260217T064000Z
SUMMARY:Цифровая аналитика
LOCATION:ГЗ 122
END:VEVENT
BEGIN:VEVENT
UID:8r7k@192.168.245.71:3006
SEQUENCE:0
DTSTAMP:20260423T170934Z
DTSTART:20260217T070000Z
DTEND:20260217T084000Z
SUMMARY:Математический анализ
LOCATION:ГЗ 122
END:VEVENT
BEGIN:VEVENT
UID:7abt@192.168.245.71:3006
SEQUENCE:0
DTSTAMP:20260423T170934Z
DTSTART:20260217T090000Z
DTEND:20260217T104000Z
SUMMARY:Численные методы
LOCATION:2 к. 247
END:VEVENT
BEGIN:VEVENT
UID:nzf0@192.168.245.71:3006
SEQUENCE:0
DTSTAMP:20260423T170934Z
DTSTART:20260217T110000Z
DTEND:20260217T124000Z
SUMMARY:Цифровая схемотехника
LOCATION:2 к. 355
END:VEVENT
BEGIN:VEVENT
UID:s8x9@192.168.245.71:3006
SEQUENCE:0
DTSTAMP:20260423T170934Z
DTSTART:20260218T070000Z
DTEND:20260218T084000Z
SUMMARY:Численные методы
LOCATION:ГЗ 122
END:VEVENT
BEGIN:VEVENT
UID:57jv@192.168.245.71:3006
SEQUENCE:0
DTSTAMP:20260423T170934Z
DTSTART:20260218T090000Z
DTEND:20260218T104000Z
SUMMARY:Элективная физическая культура и спорт
LOCATION:СК Спортивный зал
END:VEVENT
BEGIN:VEVENT
UID:l14u@192.168.245.71:3006
SEQUENCE:0
DTSTAMP:20260423T170934Z
DTSTART:20260218T110000Z
DTEND:20260218T124000Z
SUMMARY:Математический анализ
LOCATION:2 к. 224
END:VEVENT
BEGIN:VEVENT
UID:394j@192.168.245.71:3006
SEQUENCE:0
DTSTAMP:20260423T170934Z
DTSTART:20260218T130000Z
DTEND:20260218T144000Z
SUMMARY:Цифровая аналитика
LOCATION:2 к. 247
END:VEVENT
BEGIN:VEVENT
UID:cvn6@192.168.245.71:3006
SEQUENCE:0
DTSTAMP:20260423T170934Z
DTSTART:20260218T150000Z
DTEND:20260218T170000Z
SUMMARY:Электроника
LOCATION:2 к. 446
END:VEVENT
BEGIN:VEVENT
UID:1tct@192.168.245.71:3006
SEQUENCE:0
DTSTAMP:20260423T170934Z
DTSTART:20260219T090000Z
DTEND:20260219T104000Z
SUMMARY:Цифровая схемотехника
LOCATION:2 к. 454
END:VEVENT
BEGIN:VEVENT
UID:c0jr@192.168.245.71:3006
SEQUENCE:0
DTSTAMP:20260423T170934Z
DTSTART:20260219T110000Z
DTEND:20260219T124000Z
SUMMARY:Радиотехнические цепи и сигналы
LOCATION:ГЗ 257
END:VEVENT
BEGIN:VEVENT
UID:q7pz@192.168.245.71:3006
SEQUENCE:0
DTSTAMP:20260423T170934Z
DTSTART:20260219T150000Z
DTEND:20260219T170000Z
SUMMARY:Электроника
LOCATION:2 к. 445
END:VEVENT
BEGIN:VEVENT
UID:4hxs@192.168.245.71:3006
SEQUENCE:0
DTSTAMP:20260423T170934Z
DTSTART:20260220T110000Z
DTEND:20260220T124000Z
SUMMARY:Электродинамика и распространение радиоволн
LOCATION:ГЗ 257
END:VEVENT
BEGIN:VEVENT
UID:7npq@192.168.245.71:3006
SEQUENCE:0
DTSTAMP:20260423T170934Z
DTSTART:20260220T130000Z
DTEND:20260220T144000Z
SUMMARY:Электродинамика и распространение радиоволн
LOCATION:2 к. 454
END:VEVENT
BEGIN:VEVENT
UID:eai8@192.168.245.71:3006
SEQUENCE:0
DTSTAMP:20260423T170934Z
DTSTART:20260220T150000Z
DTEND:20260220T170000Z
SUMMARY:Введение в моделирование технических задач
LOCATION:2 к. 249
END:VEVENT
BEGIN:VEVENT
UID:7wgo@192.168.245.71:3006
SEQUENCE:0
DTSTAMP:20260423T170934Z
DTSTART:20260221T110000Z
DTEND:20260221T124000Z
SUMMARY:Элективная физическая культура и спорт
LOCATION:СК Спортивный зал
END:VEVENT
END:VCALENDAR