BEGIN:VCALENDAR
VERSION:2.0
PRODID:-//spbstu.ru//ical//RU
NAME:Расписание группы 4931101/40003
X-WR-CALNAME:Расписание группы 4931101/40003
TIMEZONE-ID:Europe/Moscow
X-WR-TIMEZONE:Europe/Moscow
BEGIN:VEVENT
UID:ua12@192.168.245.71:3006
SEQUENCE:0
DTSTAMP:20260421T090527Z
DTSTART:20260224T070000Z
DTEND:20260224T084000Z
SUMMARY:Математический анализ
LOCATION:ГЗ 122
END:VEVENT
BEGIN:VEVENT
UID:tuwu@192.168.245.71:3006
SEQUENCE:0
DTSTAMP:20260421T090527Z
DTSTART:20260224T090000Z
DTEND:20260224T104000Z
SUMMARY:Численные методы
LOCATION:2 к. 247
END:VEVENT
BEGIN:VEVENT
UID:zf1p@192.168.245.71:3006
SEQUENCE:0
DTSTAMP:20260421T090527Z
DTSTART:20260224T110000Z
DTEND:20260224T124000Z
SUMMARY:Цифровая схемотехника
LOCATION:2 к. 355
END:VEVENT
BEGIN:VEVENT
UID:oenc@192.168.245.71:3006
SEQUENCE:0
DTSTAMP:20260421T090527Z
DTSTART:20260225T070000Z
DTEND:20260225T084000Z
SUMMARY:Численные методы
LOCATION:ГЗ 122
END:VEVENT
BEGIN:VEVENT
UID:p376@192.168.245.71:3006
SEQUENCE:0
DTSTAMP:20260421T090527Z
DTSTART:20260225T090000Z
DTEND:20260225T104000Z
SUMMARY:Элективная физическая культура и спорт
LOCATION:СК Спортивный зал
END:VEVENT
BEGIN:VEVENT
UID:mr41@192.168.245.71:3006
SEQUENCE:0
DTSTAMP:20260421T090527Z
DTSTART:20260225T110000Z
DTEND:20260225T124000Z
SUMMARY:Математический анализ
LOCATION:2 к. 224
END:VEVENT
BEGIN:VEVENT
UID:2tgo@192.168.245.71:3006
SEQUENCE:0
DTSTAMP:20260421T090527Z
DTSTART:20260226T070000Z
DTEND:20260226T103000Z
SUMMARY:Радиотехнические цепи и сигналы
LOCATION:2 к. 240
END:VEVENT
BEGIN:VEVENT
UID:jj77@192.168.245.71:3006
SEQUENCE:0
DTSTAMP:20260421T090527Z
DTSTART:20260226T070000Z
DTEND:20260226T103000Z
SUMMARY:Радиотехнические цепи и сигналы
LOCATION:2 к. 240
END:VEVENT
BEGIN:VEVENT
UID:pw2t@192.168.245.71:3006
SEQUENCE:0
DTSTAMP:20260421T090527Z
DTSTART:20260226T110000Z
DTEND:20260226T124000Z
SUMMARY:Математический анализ
LOCATION:ГЗ 257
END:VEVENT
BEGIN:VEVENT
UID:yevm@192.168.245.71:3006
SEQUENCE:0
DTSTAMP:20260421T090527Z
DTSTART:20260226T130000Z
DTEND:20260226T144000Z
SUMMARY:Основы проектной деятельности
LOCATION:2 к. 359
END:VEVENT
BEGIN:VEVENT
UID:of81@192.168.245.71:3006
SEQUENCE:0
DTSTAMP:20260421T090527Z
DTSTART:20260226T150000Z
DTEND:20260226T170000Z
SUMMARY:Физика
LOCATION:ГЗ 329
END:VEVENT
BEGIN:VEVENT
UID:rwfg@192.168.245.71:3006
SEQUENCE:0
DTSTAMP:20260421T090527Z
DTSTART:20260227T110000Z
DTEND:20260227T124000Z
SUMMARY:Электродинамика и распространение радиоволн
LOCATION:ГЗ 257
END:VEVENT
BEGIN:VEVENT
UID:xj5r@192.168.245.71:3006
SEQUENCE:0
DTSTAMP:20260421T090527Z
DTSTART:20260227T130000Z
DTEND:20260227T144000Z
SUMMARY:Иностранный язык. Профессионально-ориентированный курс
LOCATION:2 к. 454
END:VEVENT
BEGIN:VEVENT
UID:gkts@192.168.245.71:3006
SEQUENCE:0
DTSTAMP:20260421T090527Z
DTSTART:20260228T060000Z
DTEND:20260228T100000Z
SUMMARY:Математический анализ
LOCATION:2 к. 470
END:VEVENT
BEGIN:VEVENT
UID:5w01@192.168.245.71:3006
SEQUENCE:0
DTSTAMP:20260421T090527Z
DTSTART:20260228T110000Z
DTEND:20260228T124000Z
SUMMARY:Элективная физическая культура и спорт
LOCATION:СК Спортивный зал
END:VEVENT
END:VCALENDAR