BEGIN:VCALENDAR
VERSION:2.0
PRODID:-//spbstu.ru//ical//RU
NAME:Расписание группы 4931101/40003
X-WR-CALNAME:Расписание группы 4931101/40003
TIMEZONE-ID:Europe/Moscow
X-WR-TIMEZONE:Europe/Moscow
BEGIN:VEVENT
UID:jx98@192.168.245.71:3006
SEQUENCE:0
DTSTAMP:20260420T190641Z
DTSTART:20260420T070000Z
DTEND:20260420T084000Z
SUMMARY:Цифровая схемотехника
LOCATION:ГЗ 257
END:VEVENT
BEGIN:VEVENT
UID:31t9@192.168.245.71:3006
SEQUENCE:0
DTSTAMP:20260420T190641Z
DTSTART:20260420T090000Z
DTEND:20260420T104000Z
SUMMARY:Радиотехнические цепи и сигналы
LOCATION:ГЗ 122
END:VEVENT
BEGIN:VEVENT
UID:6mx4@192.168.245.71:3006
SEQUENCE:0
DTSTAMP:20260420T190641Z
DTSTART:20260420T110000Z
DTEND:20260420T124000Z
SUMMARY:Радиотехнические цепи и сигналы
LOCATION:2 к. 454
END:VEVENT
BEGIN:VEVENT
UID:hszf@192.168.245.71:3006
SEQUENCE:0
DTSTAMP:20260420T190641Z
DTSTART:20260420T130000Z
DTEND:20260420T144000Z
SUMMARY:Математический анализ
LOCATION:2 к. 224
END:VEVENT
BEGIN:VEVENT
UID:khc3@192.168.245.71:3006
SEQUENCE:0
DTSTAMP:20260420T190641Z
DTSTART:20260421T070000Z
DTEND:20260421T084000Z
SUMMARY:Математический анализ
LOCATION:ГЗ 122
END:VEVENT
BEGIN:VEVENT
UID:32gw@192.168.245.71:3006
SEQUENCE:0
DTSTAMP:20260420T190641Z
DTSTART:20260421T090000Z
DTEND:20260421T104000Z
SUMMARY:Численные методы
LOCATION:2 к. 247
END:VEVENT
BEGIN:VEVENT
UID:o2m4@192.168.245.71:3006
SEQUENCE:0
DTSTAMP:20260420T190641Z
DTSTART:20260421T110000Z
DTEND:20260421T124000Z
SUMMARY:Цифровая схемотехника
LOCATION:2 к. 355
END:VEVENT
BEGIN:VEVENT
UID:n4us@192.168.245.71:3006
SEQUENCE:0
DTSTAMP:20260420T190641Z
DTSTART:20260422T070000Z
DTEND:20260422T084000Z
SUMMARY:Численные методы
LOCATION:ГЗ 122
END:VEVENT
BEGIN:VEVENT
UID:uph9@192.168.245.71:3006
SEQUENCE:0
DTSTAMP:20260420T190641Z
DTSTART:20260422T090000Z
DTEND:20260422T104000Z
SUMMARY:Элективная физическая культура и спорт
LOCATION:СК Спортивный зал
END:VEVENT
BEGIN:VEVENT
UID:plxc@192.168.245.71:3006
SEQUENCE:0
DTSTAMP:20260420T190641Z
DTSTART:20260422T110000Z
DTEND:20260422T124000Z
SUMMARY:Математический анализ
LOCATION:2 к. 224
END:VEVENT
BEGIN:VEVENT
UID:q67e@192.168.245.71:3006
SEQUENCE:0
DTSTAMP:20260420T190641Z
DTSTART:20260423T070000Z
DTEND:20260423T103000Z
SUMMARY:Радиотехнические цепи и сигналы
LOCATION:2 к. 240
END:VEVENT
BEGIN:VEVENT
UID:rdzv@192.168.245.71:3006
SEQUENCE:0
DTSTAMP:20260420T190641Z
DTSTART:20260423T070000Z
DTEND:20260423T103000Z
SUMMARY:Радиотехнические цепи и сигналы
LOCATION:2 к. 240
END:VEVENT
BEGIN:VEVENT
UID:2x6t@192.168.245.71:3006
SEQUENCE:0
DTSTAMP:20260420T190641Z
DTSTART:20260423T110000Z
DTEND:20260423T124000Z
SUMMARY:Математический анализ
LOCATION:ГЗ 257
END:VEVENT
BEGIN:VEVENT
UID:9xz0@192.168.245.71:3006
SEQUENCE:0
DTSTAMP:20260420T190641Z
DTSTART:20260423T130000Z
DTEND:20260423T180000Z
SUMMARY:Математический анализ
LOCATION:ГЗ 305
END:VEVENT
BEGIN:VEVENT
UID:0h3i@192.168.245.71:3006
SEQUENCE:0
DTSTAMP:20260420T190641Z
DTSTART:20260424T110000Z
DTEND:20260424T124000Z
SUMMARY:Электродинамика и распространение радиоволн
LOCATION:ГЗ 257
END:VEVENT
BEGIN:VEVENT
UID:zb5j@192.168.245.71:3006
SEQUENCE:0
DTSTAMP:20260420T190641Z
DTSTART:20260424T130000Z
DTEND:20260424T144000Z
SUMMARY:Иностранный язык. Профессионально-ориентированный курс
LOCATION:2 к. 454
END:VEVENT
BEGIN:VEVENT
UID:ism8@192.168.245.71:3006
SEQUENCE:0
DTSTAMP:20260420T190641Z
DTSTART:20260425T110000Z
DTEND:20260425T124000Z
SUMMARY:Элективная физическая культура и спорт
LOCATION:СК Спортивный зал
END:VEVENT
END:VCALENDAR